BEGIN:VCALENDAR
VERSION:2.0
PRODID:-//Long Beach Alliance Church - ECPv6.6.4//NONSGML v1.0//EN
CALSCALE:GREGORIAN
METHOD:PUBLISH
X-ORIGINAL-URL:https://longbeachalliance.digitalchurch.app
X-WR-CALDESC:Events for Long Beach Alliance Church
REFRESH-INTERVAL;VALUE=DURATION:PT1H
X-Robots-Tag:noindex
X-PUBLISHED-TTL:PT1H
BEGIN:VTIMEZONE
TZID:America/Los_Angeles
BEGIN:DAYLIGHT
TZOFFSETFROM:-0800
TZOFFSETTO:-0700
TZNAME:PDT
DTSTART:20240310T100000
END:DAYLIGHT
BEGIN:STANDARD
TZOFFSETFROM:-0700
TZOFFSETTO:-0800
TZNAME:PST
DTSTART:20241103T090000
END:STANDARD
END:VTIMEZONE
BEGIN:VEVENT
DTSTART;TZID=America/Los_Angeles:20240929T093000
DTEND;TZID=America/Los_Angeles:20240929T104500
DTSTAMP:20260425T205021
CREATED:20240529T220900Z
LAST-MODIFIED:20240928T094226Z
UID:10001556-1727602200-1727606700@longbeachalliance.digitalchurch.app
SUMMARY:Gospel Project: Children's Ministry
DESCRIPTION:Contact Meghan Brearley\, meghan@lbac.org\, for questions \nUpstairs\, Rm 105/Nursery\, and Gym used
URL:https://longbeachalliance.digitalchurch.app/event/gospel-project-childrens-ministry-53/
LOCATION:Long Beach Alliance Church\, 3331 Palo Verde Ave\, Long Beach\, CA\, United States
GEO:33.817334;-118.107762
X-APPLE-STRUCTURED-LOCATION;VALUE=URI;X-ADDRESS=Long Beach Alliance Church 3331 Palo Verde Ave Long Beach CA United States;X-APPLE-RADIUS=500;X-TITLE=3331 Palo Verde Ave:geo:-118.107762,33.817334
END:VEVENT
BEGIN:VEVENT
DTSTART;TZID=America/Los_Angeles:20240929T093000
DTEND;TZID=America/Los_Angeles:20240929T104500
DTSTAMP:20260425T205021
CREATED:20240529T220900Z
LAST-MODIFIED:20240928T094226Z
UID:10001557-1727602200-1727606700@longbeachalliance.digitalchurch.app
SUMMARY:Worship & Celebration Service
DESCRIPTION:To watch the Livestream go to YouTube.com/longbeachalliancechurch
URL:https://longbeachalliance.digitalchurch.app/event/worship-celebration-service-32/
LOCATION:YouTube.com/longbeachalliancechurch
END:VEVENT
BEGIN:VEVENT
DTSTART;TZID=America/Los_Angeles:20240929T111500
DTEND;TZID=America/Los_Angeles:20240929T121500
DTSTAMP:20260425T205021
CREATED:20240529T220900Z
LAST-MODIFIED:20240928T094227Z
UID:10001558-1727608500-1727612100@longbeachalliance.digitalchurch.app
SUMMARY:Elder New Member Interviews
DESCRIPTION:
URL:https://longbeachalliance.digitalchurch.app/event/elder-new-member-interviews-2/
LOCATION:CA
END:VEVENT
BEGIN:VEVENT
DTSTART;TZID=America/Los_Angeles:20240929T130000
DTEND;TZID=America/Los_Angeles:20240929T160000
DTSTAMP:20260425T205021
CREATED:20240829T060935Z
LAST-MODIFIED:20240929T221758Z
UID:10001880-1727614800-1727625600@longbeachalliance.digitalchurch.app
SUMMARY:Vision School- Missions Training
DESCRIPTION:Additional Set up/Tear Down: 12:30PM/4:30PM\nRm 203 used (a/v capabilities needed)\n@15 people expected \nContact: Vince Palacios (562) 370-0881  svpalacios6@gmail.com
URL:https://longbeachalliance.digitalchurch.app/event/vision-school-missions-training-2/
LOCATION:Long Beach Alliance Church\, 3331 Palo Verde Ave\, Long Beach\, CA\, United States
GEO:33.817334;-118.107762
X-APPLE-STRUCTURED-LOCATION;VALUE=URI;X-ADDRESS=Long Beach Alliance Church 3331 Palo Verde Ave Long Beach CA United States;X-APPLE-RADIUS=500;X-TITLE=3331 Palo Verde Ave:geo:-118.107762,33.817334
END:VEVENT
END:VCALENDAR