BEGIN:VCALENDAR
VERSION:2.0
PRODID:-//Long Beach Alliance Church - ECPv6.6.4//NONSGML v1.0//EN
CALSCALE:GREGORIAN
METHOD:PUBLISH
X-ORIGINAL-URL:https://longbeachalliance.digitalchurch.app
X-WR-CALDESC:Events for Long Beach Alliance Church
REFRESH-INTERVAL;VALUE=DURATION:PT1H
X-Robots-Tag:noindex
X-PUBLISHED-TTL:PT1H
BEGIN:VTIMEZONE
TZID:America/Los_Angeles
BEGIN:DAYLIGHT
TZOFFSETFROM:-0800
TZOFFSETTO:-0700
TZNAME:PDT
DTSTART:20240310T100000
END:DAYLIGHT
BEGIN:STANDARD
TZOFFSETFROM:-0700
TZOFFSETTO:-0800
TZNAME:PST
DTSTART:20241103T090000
END:STANDARD
END:VTIMEZONE
BEGIN:VEVENT
DTSTART;TZID=America/Los_Angeles:20241019T083000
DTEND;TZID=America/Los_Angeles:20241019T150000
DTSTAMP:20260425T205028
CREATED:20240821T015817Z
LAST-MODIFIED:20240821T015841Z
UID:10001850-1729326600-1729350000@longbeachalliance.digitalchurch.app
SUMMARY:Awana Ministry Conference
DESCRIPTION:
URL:https://longbeachalliance.digitalchurch.app/event/awana-ministry-conference/
LOCATION:CA
END:VEVENT
BEGIN:VEVENT
DTSTART;TZID=America/Los_Angeles:20241019T083000
DTEND;TZID=America/Los_Angeles:20241019T150000
DTSTAMP:20260425T205028
CREATED:20240906T154632Z
LAST-MODIFIED:20241018T223736Z
UID:10001896-1729326600-1729350000@longbeachalliance.digitalchurch.app
SUMMARY:Awana Ministry Conference
DESCRIPTION:
URL:https://longbeachalliance.digitalchurch.app/event/awana-ministry-conference-2/
LOCATION:First Fundamental Bible Church 11000 Washington Blvd\, Whittier\, CA\, United States
GEO:33.977272;-118.066363
END:VEVENT
BEGIN:VEVENT
DTSTART;TZID=America/Los_Angeles:20241019T100000
DTEND;TZID=America/Los_Angeles:20241019T160000
DTSTAMP:20260425T205028
CREATED:20240614T074015Z
LAST-MODIFIED:20241018T223735Z
UID:10001610-1729332000-1729353600@longbeachalliance.digitalchurch.app
SUMMARY:Crafty Women
DESCRIPTION:@12 women\nRm 102 used \nContact: Donna Neel donna@neel.com
URL:https://longbeachalliance.digitalchurch.app/event/crafty-women-12/
LOCATION:Long Beach Alliance Church\, 3331 Palo Verde Ave\, Long Beach\, CA\, United States
GEO:33.817334;-118.107762
X-APPLE-STRUCTURED-LOCATION;VALUE=URI;X-ADDRESS=Long Beach Alliance Church 3331 Palo Verde Ave Long Beach CA United States;X-APPLE-RADIUS=500;X-TITLE=3331 Palo Verde Ave:geo:-118.107762,33.817334
END:VEVENT
END:VCALENDAR