BEGIN:VCALENDAR
VERSION:2.0
PRODID:-//Long Beach Alliance Church - ECPv6.6.4//NONSGML v1.0//EN
CALSCALE:GREGORIAN
METHOD:PUBLISH
X-WR-CALNAME:Long Beach Alliance Church
X-ORIGINAL-URL:https://longbeachalliance.digitalchurch.app
X-WR-CALDESC:Events for Long Beach Alliance Church
REFRESH-INTERVAL;VALUE=DURATION:PT1H
X-Robots-Tag:noindex
X-PUBLISHED-TTL:PT1H
BEGIN:VTIMEZONE
TZID:America/Los_Angeles
BEGIN:DAYLIGHT
TZOFFSETFROM:-0800
TZOFFSETTO:-0700
TZNAME:PDT
DTSTART:20250309T100000
END:DAYLIGHT
BEGIN:STANDARD
TZOFFSETFROM:-0700
TZOFFSETTO:-0800
TZNAME:PST
DTSTART:20251102T090000
END:STANDARD
END:VTIMEZONE
BEGIN:VEVENT
DTSTART;TZID=America/Los_Angeles:20250111T080000
DTEND;TZID=America/Los_Angeles:20250111T093000
DTSTAMP:20260425T085846
CREATED:20240912T124724Z
LAST-MODIFIED:20241030T081137Z
UID:10001915-1736582400-1736587800@longbeachalliance.digitalchurch.app
SUMMARY:Men's Fellowship Breakfast
DESCRIPTION:Additional time needed: 6AM-10AM\nGym Used\n@ 50 people expected\nContact: John Moses 562.755.0920
URL:https://longbeachalliance.digitalchurch.app/event/mens-fellowship-breakfast-13/
LOCATION:Long Beach Alliance Church\, Palo Verde Avenue\, Long Beach Gym
END:VEVENT
BEGIN:VEVENT
DTSTART;TZID=America/Los_Angeles:20250111T080000
DTEND;TZID=America/Los_Angeles:20250111T093000
DTSTAMP:20260425T085846
CREATED:20241031T081815Z
LAST-MODIFIED:20250111T123958Z
UID:10002077-1736582400-1736587800@longbeachalliance.digitalchurch.app
SUMMARY:Men's Fellowship Breakfast
DESCRIPTION:Additional time needed: 6AM-10AM\nGym Used\n@ 50 people expected\nContact: John Moses 562.755.0920
URL:https://longbeachalliance.digitalchurch.app/event/mens-fellowship-breakfast-15/
LOCATION:Long Beach Alliance Church\, Palo Verde Avenue\, Long Beach Gym
END:VEVENT
BEGIN:VEVENT
DTSTART;TZID=America/Los_Angeles:20250111T090000
DTEND;TZID=America/Los_Angeles:20250111T103000
DTSTAMP:20260425T085846
CREATED:20240912T124724Z
LAST-MODIFIED:20250111T123959Z
UID:10001914-1736586000-1736591400@longbeachalliance.digitalchurch.app
SUMMARY:Deaconess Meeting
DESCRIPTION:
URL:https://longbeachalliance.digitalchurch.app/event/deaconess-meeting-17/
END:VEVENT
END:VCALENDAR