BEGIN:VCALENDAR
VERSION:2.0
PRODID:-//Long Beach Alliance Church - ECPv6.6.4//NONSGML v1.0//EN
CALSCALE:GREGORIAN
METHOD:PUBLISH
X-ORIGINAL-URL:https://longbeachalliance.digitalchurch.app
X-WR-CALDESC:Events for Long Beach Alliance Church
REFRESH-INTERVAL;VALUE=DURATION:PT1H
X-Robots-Tag:noindex
X-PUBLISHED-TTL:PT1H
BEGIN:VTIMEZONE
TZID:America/Los_Angeles
BEGIN:DAYLIGHT
TZOFFSETFROM:-0800
TZOFFSETTO:-0700
TZNAME:PDT
DTSTART:20250309T100000
END:DAYLIGHT
BEGIN:STANDARD
TZOFFSETFROM:-0700
TZOFFSETTO:-0800
TZNAME:PST
DTSTART:20251102T090000
END:STANDARD
END:VTIMEZONE
BEGIN:VEVENT
DTSTART;VALUE=DATE:20250113
DTEND;VALUE=DATE:20250117
DTSTAMP:20260425T085803
CREATED:20241225T053123Z
LAST-MODIFIED:20250116T145714Z
UID:10002237-1736726400-1737071999@longbeachalliance.digitalchurch.app
SUMMARY:Offices Closed for Staff Retreat
DESCRIPTION:
URL:https://longbeachalliance.digitalchurch.app/event/offices-closed-for-staff-retreat/
END:VEVENT
BEGIN:VEVENT
DTSTART;TZID=America/Los_Angeles:20250114T140000
DTEND;TZID=America/Los_Angeles:20250114T160000
DTSTAMP:20260425T085803
CREATED:20240914T203014Z
LAST-MODIFIED:20241224T052312Z
UID:10001922-1736863200-1736870400@longbeachalliance.digitalchurch.app
SUMMARY:All Staff • Weekly Team Meeting
DESCRIPTION:
URL:https://longbeachalliance.digitalchurch.app/event/all-staff-weekly-team-meeting-78/
LOCATION:3331 Palo Verde Ave\, Long Beach\, CA\, United States
GEO:33.823943;-118.111336
END:VEVENT
BEGIN:VEVENT
DTSTART;TZID=America/Los_Angeles:20250114T190000
DTEND;TZID=America/Los_Angeles:20250114T210000
DTSTAMP:20260425T085803
CREATED:20230526T152121Z
LAST-MODIFIED:20230526T160214Z
UID:10000251-1736881200-1736888400@longbeachalliance.digitalchurch.app
SUMMARY:High School Youth Group
DESCRIPTION:
URL:https://longbeachalliance.digitalchurch.app/event/high-school-youth-group-6/2025-01-14/
CATEGORIES:Youth
END:VEVENT
BEGIN:VEVENT
DTSTART;TZID=America/Los_Angeles:20250114T190000
DTEND;TZID=America/Los_Angeles:20250114T210000
DTSTAMP:20260425T085803
CREATED:20240914T203015Z
LAST-MODIFIED:20250114T140725Z
UID:10001924-1736881200-1736888400@longbeachalliance.digitalchurch.app
SUMMARY:Men's Bible Study @ the Millers
DESCRIPTION:Facilitator: John Welliver\nContact Dave Miller 562.773.9100 dmiller002@cc.rr.com
URL:https://longbeachalliance.digitalchurch.app/event/mens-bible-study-the-millers-82/
LOCATION:4702 Snowden Ave\, Lakewood\, CA\, United States
GEO:33.850465;-118.109399
END:VEVENT
BEGIN:VEVENT
DTSTART;TZID=America/Los_Angeles:20250114T190000
DTEND;TZID=America/Los_Angeles:20250114T210000
DTSTAMP:20260425T085803
CREATED:20240915T211205Z
LAST-MODIFIED:20250114T140725Z
UID:10001925-1736881200-1736888400@longbeachalliance.digitalchurch.app
SUMMARY:Middle/High School Youth Group
DESCRIPTION:
URL:https://longbeachalliance.digitalchurch.app/event/middle-high-school-youth-group-59/
LOCATION:Long Beach Alliance Church 3331 Palo Verde Ave\, Long Beach\, CA\, United States
GEO:33.823943;-118.111336
END:VEVENT
END:VCALENDAR