BEGIN:VCALENDAR
VERSION:2.0
PRODID:-//Long Beach Alliance Church - ECPv6.6.4//NONSGML v1.0//EN
CALSCALE:GREGORIAN
METHOD:PUBLISH
X-ORIGINAL-URL:https://longbeachalliance.digitalchurch.app
X-WR-CALDESC:Events for Long Beach Alliance Church
REFRESH-INTERVAL;VALUE=DURATION:PT1H
X-Robots-Tag:noindex
X-PUBLISHED-TTL:PT1H
BEGIN:VTIMEZONE
TZID:America/Los_Angeles
BEGIN:DAYLIGHT
TZOFFSETFROM:-0800
TZOFFSETTO:-0700
TZNAME:PDT
DTSTART:20250309T100000
END:DAYLIGHT
BEGIN:STANDARD
TZOFFSETFROM:-0700
TZOFFSETTO:-0800
TZNAME:PST
DTSTART:20251102T090000
END:STANDARD
END:VTIMEZONE
BEGIN:VEVENT
DTSTART;TZID=America/Los_Angeles:20250215T100000
DTEND;TZID=America/Los_Angeles:20250215T140000
DTSTAMP:20260425T035555
CREATED:20241013T045415Z
LAST-MODIFIED:20241031T082304Z
UID:10002015-1739613600-1739628000@longbeachalliance.digitalchurch.app
SUMMARY:Crafty Women (Regular Gathering)
DESCRIPTION:@12 women\ngym used \nContact: Donna Neel donna@neel.com
URL:https://longbeachalliance.digitalchurch.app/event/crafty-women-regular-gathering-4/
LOCATION:Long Beach Alliance Church\, 3331 Palo Verde Ave\, Long Beach\, CA\, United States
GEO:33.817334;-118.107762
X-APPLE-STRUCTURED-LOCATION;VALUE=URI;X-ADDRESS=Long Beach Alliance Church 3331 Palo Verde Ave Long Beach CA United States;X-APPLE-RADIUS=500;X-TITLE=3331 Palo Verde Ave:geo:-118.107762,33.817334
END:VEVENT
BEGIN:VEVENT
DTSTART;TZID=America/Los_Angeles:20250215T100000
DTEND;TZID=America/Los_Angeles:20250215T160000
DTSTAMP:20260425T035555
CREATED:20241013T045415Z
LAST-MODIFIED:20250215T024933Z
UID:10002014-1739613600-1739635200@longbeachalliance.digitalchurch.app
SUMMARY:Crafty Women
DESCRIPTION:@12 women \nRm 102 or the Gym used (depends how many ladies come) \nContact: Donna Neel donna@neel.com
URL:https://longbeachalliance.digitalchurch.app/event/crafty-women-15/
LOCATION:Long Beach Alliance Church\, 3331 Palo Verde Ave\, Long Beach\, CA\, United States
GEO:33.817334;-118.107762
X-APPLE-STRUCTURED-LOCATION;VALUE=URI;X-ADDRESS=Long Beach Alliance Church 3331 Palo Verde Ave Long Beach CA United States;X-APPLE-RADIUS=500;X-TITLE=3331 Palo Verde Ave:geo:-118.107762,33.817334
END:VEVENT
BEGIN:VEVENT
DTSTART;TZID=America/Los_Angeles:20250215T163000
DTEND;TZID=America/Los_Angeles:20250215T183000
DTSTAMP:20260425T035555
CREATED:20250205T231744Z
LAST-MODIFIED:20250215T024933Z
UID:10002359-1739637000-1739644200@longbeachalliance.digitalchurch.app
SUMMARY:Youth Mall Espionage
DESCRIPTION:Drop off and pick up at Cerritos Mall Food Court
URL:https://longbeachalliance.digitalchurch.app/event/youth-mall-espionage/
END:VEVENT
BEGIN:VEVENT
DTSTART;TZID=America/Los_Angeles:20250215T170000
DTEND;TZID=America/Los_Angeles:20250215T193000
DTSTAMP:20260425T035555
CREATED:20250116T144855Z
LAST-MODIFIED:20250216T031451Z
UID:10002300-1739638800-1739647800@longbeachalliance.digitalchurch.app
SUMMARY:Valentines Parent's night out
DESCRIPTION:using gym and upstairs classrooms
URL:https://longbeachalliance.digitalchurch.app/event/kids-valentines-party-2/
END:VEVENT
END:VCALENDAR