BEGIN:VCALENDAR
VERSION:2.0
PRODID:-//Long Beach Alliance Church - ECPv6.6.4//NONSGML v1.0//EN
CALSCALE:GREGORIAN
METHOD:PUBLISH
X-WR-CALNAME:Long Beach Alliance Church
X-ORIGINAL-URL:https://longbeachalliance.digitalchurch.app
X-WR-CALDESC:Events for Long Beach Alliance Church
REFRESH-INTERVAL;VALUE=DURATION:PT1H
X-Robots-Tag:noindex
X-PUBLISHED-TTL:PT1H
BEGIN:VTIMEZONE
TZID:America/Los_Angeles
BEGIN:DAYLIGHT
TZOFFSETFROM:-0800
TZOFFSETTO:-0700
TZNAME:PDT
DTSTART:20250309T100000
END:DAYLIGHT
BEGIN:STANDARD
TZOFFSETFROM:-0700
TZOFFSETTO:-0800
TZNAME:PST
DTSTART:20251102T090000
END:STANDARD
END:VTIMEZONE
BEGIN:VEVENT
DTSTART;TZID=America/Los_Angeles:20250221T080000
DTEND;TZID=America/Los_Angeles:20250221T100000
DTSTAMP:20260425T053133
CREATED:20241018T223813Z
LAST-MODIFIED:20250221T045908Z
UID:10002028-1740124800-1740132000@longbeachalliance.digitalchurch.app
SUMMARY:Men's In-Person & Zoom Bible Study
DESCRIPTION:In-Person will be in Room 106Contact Bill Michel\, 714.390.7076\, for Zoom link information.
URL:https://longbeachalliance.digitalchurch.app/event/mens-in-person-zoom-bible-study-87/
END:VEVENT
BEGIN:VEVENT
DTSTART;TZID=America/Los_Angeles:20250221T193000
DTEND;TZID=America/Los_Angeles:20250221T213000
DTSTAMP:20260425T053133
CREATED:20241018T223814Z
LAST-MODIFIED:20250222T052354Z
UID:10002029-1740166200-1740173400@longbeachalliance.digitalchurch.app
SUMMARY:Betrayal and Beyond Ministry (@ Eberharts & Zoom)
DESCRIPTION:Contact: Debra Eberhart 925.580.7004
URL:https://longbeachalliance.digitalchurch.app/event/betrayal-and-beyond-ministry-eberharts-zoom-89/
END:VEVENT
BEGIN:VEVENT
DTSTART;TZID=America/Los_Angeles:20250221T200000
DTEND;TZID=America/Los_Angeles:20250221T213000
DTSTAMP:20260425T053133
CREATED:20241018T223814Z
LAST-MODIFIED:20250219T042322Z
UID:10002030-1740168000-1740173400@longbeachalliance.digitalchurch.app
SUMMARY:NA In-Person Meeting
DESCRIPTION:Rm 102\, Sanctuary or back patio used depending on size of the group; Also Kitchen\nContact: Yvonne Turco 562.230.0574
URL:https://longbeachalliance.digitalchurch.app/event/na-in-person-meeting-107/
END:VEVENT
END:VCALENDAR