BEGIN:VCALENDAR
VERSION:2.0
PRODID:-//Long Beach Alliance Church - ECPv6.6.4//NONSGML v1.0//EN
CALSCALE:GREGORIAN
METHOD:PUBLISH
X-ORIGINAL-URL:https://longbeachalliance.digitalchurch.app
X-WR-CALDESC:Events for Long Beach Alliance Church
REFRESH-INTERVAL;VALUE=DURATION:PT1H
X-Robots-Tag:noindex
X-PUBLISHED-TTL:PT1H
BEGIN:VTIMEZONE
TZID:America/Los_Angeles
BEGIN:DAYLIGHT
TZOFFSETFROM:-0800
TZOFFSETTO:-0700
TZNAME:PDT
DTSTART:20250309T100000
END:DAYLIGHT
BEGIN:STANDARD
TZOFFSETFROM:-0700
TZOFFSETTO:-0800
TZNAME:PST
DTSTART:20251102T090000
END:STANDARD
END:VTIMEZONE
BEGIN:VEVENT
DTSTART;TZID=America/Los_Angeles:20250408T140000
DTEND;TZID=America/Los_Angeles:20250408T160000
DTSTAMP:20260424T081049
CREATED:20241129T195807Z
LAST-MODIFIED:20250115T142754Z
UID:10002168-1744120800-1744128000@longbeachalliance.digitalchurch.app
SUMMARY:All Staff • Weekly Team Meeting
DESCRIPTION:
URL:https://longbeachalliance.digitalchurch.app/event/all-staff-weekly-team-meeting-90/
LOCATION:3331 Palo Verde Ave\, Long Beach\, CA\, United States
GEO:33.823943;-118.111336
END:VEVENT
BEGIN:VEVENT
DTSTART;TZID=America/Los_Angeles:20250408T190000
DTEND;TZID=America/Los_Angeles:20250408T210000
DTSTAMP:20260424T081049
CREATED:20230526T152121Z
LAST-MODIFIED:20230526T160214Z
UID:10000263-1744138800-1744146000@longbeachalliance.digitalchurch.app
SUMMARY:High School Youth Group
DESCRIPTION:
URL:https://longbeachalliance.digitalchurch.app/event/high-school-youth-group-6/2025-04-08/
LOCATION:CA
CATEGORIES:Youth
END:VEVENT
BEGIN:VEVENT
DTSTART;TZID=America/Los_Angeles:20250408T190000
DTEND;TZID=America/Los_Angeles:20250408T210000
DTSTAMP:20260424T081049
CREATED:20241129T195808Z
LAST-MODIFIED:20250408T212752Z
UID:10002169-1744138800-1744146000@longbeachalliance.digitalchurch.app
SUMMARY:Middle/High School Youth Group
DESCRIPTION:
URL:https://longbeachalliance.digitalchurch.app/event/middle-high-school-youth-group-71/
LOCATION:Long Beach Alliance Church 3331 Palo Verde Ave\, Long Beach\, CA\, United States
GEO:33.823943;-118.111336
END:VEVENT
BEGIN:VEVENT
DTSTART;TZID=America/Los_Angeles:20250408T190000
DTEND;TZID=America/Los_Angeles:20250408T210000
DTSTAMP:20260424T081049
CREATED:20241130T202321Z
LAST-MODIFIED:20250408T212752Z
UID:10002171-1744138800-1744146000@longbeachalliance.digitalchurch.app
SUMMARY:Men's Bible Study @ the Millers
DESCRIPTION:Facilitator: John Welliver\nContact Dave Miller 562.773.9100 dmiller002@cc.rr.com
URL:https://longbeachalliance.digitalchurch.app/event/mens-bible-study-the-millers-94/
LOCATION:4702 Snowden Ave\, Lakewood\, CA\, United States
GEO:33.850465;-118.109399
END:VEVENT
BEGIN:VEVENT
DTSTART;TZID=America/Los_Angeles:20250408T190000
DTEND;TZID=America/Los_Angeles:20250408T220000
DTSTAMP:20260424T081049
CREATED:20241129T195808Z
LAST-MODIFIED:20250408T212752Z
UID:10002170-1744138800-1744149600@longbeachalliance.digitalchurch.app
SUMMARY:Governing Board In-Person Meeting (2nd Tuesday Night of the Month)
DESCRIPTION:
URL:https://longbeachalliance.digitalchurch.app/event/governing-board-in-person-meeting-2nd-tuesday-night-of-the-month-19/
LOCATION:3331 Palo Verde Ave\nLong Beach CA 90808
END:VEVENT
END:VCALENDAR