BEGIN:VCALENDAR
VERSION:2.0
PRODID:-//Long Beach Alliance Church - ECPv6.6.4//NONSGML v1.0//EN
CALSCALE:GREGORIAN
METHOD:PUBLISH
X-ORIGINAL-URL:https://longbeachalliance.digitalchurch.app
X-WR-CALDESC:Events for Long Beach Alliance Church
REFRESH-INTERVAL;VALUE=DURATION:PT1H
X-Robots-Tag:noindex
X-PUBLISHED-TTL:PT1H
BEGIN:VTIMEZONE
TZID:America/Los_Angeles
BEGIN:DAYLIGHT
TZOFFSETFROM:-0800
TZOFFSETTO:-0700
TZNAME:PDT
DTSTART:20250309T100000
END:DAYLIGHT
BEGIN:STANDARD
TZOFFSETFROM:-0700
TZOFFSETTO:-0800
TZNAME:PST
DTSTART:20251102T090000
END:STANDARD
END:VTIMEZONE
BEGIN:VEVENT
DTSTART;TZID=America/Los_Angeles:20250604T170000
DTEND;TZID=America/Los_Angeles:20250604T203000
DTSTAMP:20260422T170859
CREATED:20250515T095144Z
LAST-MODIFIED:20250604T100157Z
UID:10002625-1749056400-1749069000@longbeachalliance.digitalchurch.app
SUMMARY:VBS Decor Party
DESCRIPTION:
URL:https://longbeachalliance.digitalchurch.app/event/vbs-decor-party/
LOCATION:CA
END:VEVENT
END:VCALENDAR