BEGIN:VCALENDAR
VERSION:2.0
PRODID:-//Long Beach Alliance Church - ECPv6.6.4//NONSGML v1.0//EN
CALSCALE:GREGORIAN
METHOD:PUBLISH
X-ORIGINAL-URL:https://longbeachalliance.digitalchurch.app
X-WR-CALDESC:Events for Long Beach Alliance Church
REFRESH-INTERVAL;VALUE=DURATION:PT1H
X-Robots-Tag:noindex
X-PUBLISHED-TTL:PT1H
BEGIN:VTIMEZONE
TZID:America/Los_Angeles
BEGIN:DAYLIGHT
TZOFFSETFROM:-0800
TZOFFSETTO:-0700
TZNAME:PDT
DTSTART:20250309T100000
END:DAYLIGHT
BEGIN:STANDARD
TZOFFSETFROM:-0700
TZOFFSETTO:-0800
TZNAME:PST
DTSTART:20251102T090000
END:STANDARD
END:VTIMEZONE
BEGIN:VEVENT
DTSTART;TZID=America/Los_Angeles:20250606T080000
DTEND;TZID=America/Los_Angeles:20250606T100000
DTSTAMP:20260422T170854
CREATED:20250124T184814Z
LAST-MODIFIED:20250606T105956Z
UID:10002333-1749196800-1749204000@longbeachalliance.digitalchurch.app
SUMMARY:Men's In-Person & Zoom Bible Study
DESCRIPTION:In-Person will be in Room 106Contact Bill Michel\, 714.390.7076\, for Zoom link information.
URL:https://longbeachalliance.digitalchurch.app/event/mens-in-person-zoom-bible-study-102/
LOCATION:CA
END:VEVENT
BEGIN:VEVENT
DTSTART;TZID=America/Los_Angeles:20250606T180000
DTEND;TZID=America/Los_Angeles:20250606T200000
DTSTAMP:20260422T170854
CREATED:20250124T184814Z
LAST-MODIFIED:20250606T105956Z
UID:10002334-1749232800-1749240000@longbeachalliance.digitalchurch.app
SUMMARY:Children's Ministry Volunteer Appreciation Dinner
DESCRIPTION:
URL:https://longbeachalliance.digitalchurch.app/event/childrens-ministry-volunteer-appreciation-dinner-2/
LOCATION:Meghan’s House 6007 Deerford St.\, Lakewood\, CA\, United States
GEO:33.850465;-118.109399
END:VEVENT
BEGIN:VEVENT
DTSTART;TZID=America/Los_Angeles:20250606T193000
DTEND;TZID=America/Los_Angeles:20250606T213000
DTSTAMP:20260422T170854
CREATED:20250125T190206Z
LAST-MODIFIED:20250606T105956Z
UID:10002336-1749238200-1749245400@longbeachalliance.digitalchurch.app
SUMMARY:Betrayal and Beyond Ministry (@ Eberharts & Zoom)
DESCRIPTION:Contact: Debra Eberhart 925.580.7004
URL:https://longbeachalliance.digitalchurch.app/event/betrayal-and-beyond-ministry-eberharts-zoom-104/
LOCATION:CA
END:VEVENT
BEGIN:VEVENT
DTSTART;TZID=America/Los_Angeles:20250606T200000
DTEND;TZID=America/Los_Angeles:20250606T213000
DTSTAMP:20260422T170854
CREATED:20250125T190206Z
LAST-MODIFIED:20250219T042659Z
UID:10002335-1749240000-1749245400@longbeachalliance.digitalchurch.app
SUMMARY:NA In-Person Meeting
DESCRIPTION:Rm 102\, Sanctuary or back patio used depending on size of the group; Also Kitchen\nContact: Yvonne Turco 562.230.0574
URL:https://longbeachalliance.digitalchurch.app/event/na-in-person-meeting-122/
LOCATION:CA
END:VEVENT
BEGIN:VEVENT
DTSTART;TZID=America/Los_Angeles:20250606T200000
DTEND;TZID=America/Los_Angeles:20250606T213000
DTSTAMP:20260422T170854
CREATED:20250312T113342Z
LAST-MODIFIED:20250606T105956Z
UID:10002476-1749240000-1749245400@longbeachalliance.digitalchurch.app
SUMMARY:NA In-Person Meeting
DESCRIPTION:Additional Set up/Tear Down: 7PM/10:30PM\nRm 102 and Kitchen used (may use Gym or Back patio if group is large)\nContact: \nMaryjean Cazeau 714.366.3887\nYvonne Turco 562.230.0574
URL:https://longbeachalliance.digitalchurch.app/event/na-in-person-meeting-138/
LOCATION:CA
END:VEVENT
END:VCALENDAR