BEGIN:VCALENDAR
VERSION:2.0
PRODID:-//Long Beach Alliance Church - ECPv6.6.4//NONSGML v1.0//EN
CALSCALE:GREGORIAN
METHOD:PUBLISH
X-ORIGINAL-URL:https://longbeachalliance.digitalchurch.app
X-WR-CALDESC:Events for Long Beach Alliance Church
REFRESH-INTERVAL;VALUE=DURATION:PT1H
X-Robots-Tag:noindex
X-PUBLISHED-TTL:PT1H
BEGIN:VTIMEZONE
TZID:America/Los_Angeles
BEGIN:DAYLIGHT
TZOFFSETFROM:-0800
TZOFFSETTO:-0700
TZNAME:PDT
DTSTART:20250309T100000
END:DAYLIGHT
BEGIN:STANDARD
TZOFFSETFROM:-0700
TZOFFSETTO:-0800
TZNAME:PST
DTSTART:20251102T090000
END:STANDARD
END:VTIMEZONE
BEGIN:VEVENT
DTSTART;TZID=America/Los_Angeles:20250607T090000
DTEND;TZID=America/Los_Angeles:20250607T110000
DTSTAMP:20260422T170850
CREATED:20250125T190207Z
LAST-MODIFIED:20250607T111433Z
UID:10002337-1749286800-1749294000@longbeachalliance.digitalchurch.app
SUMMARY:VBS Volunteer Meeting
DESCRIPTION:Yes’s – Marikka\, Traci\, Maya
URL:https://longbeachalliance.digitalchurch.app/event/vbs-volunteer-meeting-3/
LOCATION:3331 Palo Verde Ave\nLong Beach CA 90808
END:VEVENT
BEGIN:VEVENT
DTSTART;TZID=America/Los_Angeles:20250607T150000
DTEND;TZID=America/Los_Angeles:20250607T183000
DTSTAMP:20260422T170850
CREATED:20250126T192529Z
LAST-MODIFIED:20250607T111433Z
UID:10002338-1749308400-1749321000@longbeachalliance.digitalchurch.app
SUMMARY:Eternal Word Communication Ministries Anniversary Celebration
DESCRIPTION:No Set up/Tear Down needed\n@ 60 people\nGym required\nSOUND needed
URL:https://longbeachalliance.digitalchurch.app/event/eternal-word-communication-ministries-anniversary-celebration-2/
LOCATION:Long Beach Alliance Church\, 3331 Palo Verde Ave\, Long Beach\, CA\, United States
GEO:33.817334;-118.107762
X-APPLE-STRUCTURED-LOCATION;VALUE=URI;X-ADDRESS=Long Beach Alliance Church 3331 Palo Verde Ave Long Beach CA United States;X-APPLE-RADIUS=500;X-TITLE=3331 Palo Verde Ave:geo:-118.107762,33.817334
END:VEVENT
END:VCALENDAR