BEGIN:VCALENDAR
VERSION:2.0
PRODID:-//Long Beach Alliance Church - ECPv6.6.4//NONSGML v1.0//EN
CALSCALE:GREGORIAN
METHOD:PUBLISH
X-ORIGINAL-URL:https://longbeachalliance.digitalchurch.app
X-WR-CALDESC:Events for Long Beach Alliance Church
REFRESH-INTERVAL;VALUE=DURATION:PT1H
X-Robots-Tag:noindex
X-PUBLISHED-TTL:PT1H
BEGIN:VTIMEZONE
TZID:America/Los_Angeles
BEGIN:DAYLIGHT
TZOFFSETFROM:-0800
TZOFFSETTO:-0700
TZNAME:PDT
DTSTART:20250309T100000
END:DAYLIGHT
BEGIN:STANDARD
TZOFFSETFROM:-0700
TZOFFSETTO:-0800
TZNAME:PST
DTSTART:20251102T090000
END:STANDARD
END:VTIMEZONE
BEGIN:VEVENT
DTSTART;TZID=America/Los_Angeles:20250618T100000
DTEND;TZID=America/Los_Angeles:20250618T170000
DTSTAMP:20260419T215447
CREATED:20250227T071031Z
LAST-MODIFIED:20250616T150517Z
UID:10002433-1750240800-1750266000@longbeachalliance.digitalchurch.app
SUMMARY:VBS Shirt Pick-Up
DESCRIPTION:
URL:https://longbeachalliance.digitalchurch.app/event/vbs-shirt-pick-up-7/
LOCATION:Long Beach Alliance Church\, 3331 Palo Verde Ave\, Long Beach\, CA\, United States
GEO:33.817334;-118.107762
X-APPLE-STRUCTURED-LOCATION;VALUE=URI;X-ADDRESS=Long Beach Alliance Church 3331 Palo Verde Ave Long Beach CA United States;X-APPLE-RADIUS=500;X-TITLE=3331 Palo Verde Ave:geo:-118.107762,33.817334
END:VEVENT
BEGIN:VEVENT
DTSTART;TZID=America/Los_Angeles:20250618T133000
DTEND;TZID=America/Los_Angeles:20250618T143000
DTSTAMP:20260419T215447
CREATED:20250523T002809Z
LAST-MODIFIED:20250616T150517Z
UID:10002652-1750253400-1750257000@longbeachalliance.digitalchurch.app
SUMMARY:VBS Worship Crew Practice
DESCRIPTION:in the gym
URL:https://longbeachalliance.digitalchurch.app/event/vbs-worship-crew-practice-9/
LOCATION:CA
END:VEVENT
END:VCALENDAR