BEGIN:VCALENDAR
VERSION:2.0
PRODID:-//Long Beach Alliance Church - ECPv6.6.4//NONSGML v1.0//EN
CALSCALE:GREGORIAN
METHOD:PUBLISH
X-ORIGINAL-URL:https://longbeachalliance.digitalchurch.app
X-WR-CALDESC:Events for Long Beach Alliance Church
REFRESH-INTERVAL;VALUE=DURATION:PT1H
X-Robots-Tag:noindex
X-PUBLISHED-TTL:PT1H
BEGIN:VTIMEZONE
TZID:America/Los_Angeles
BEGIN:DAYLIGHT
TZOFFSETFROM:-0800
TZOFFSETTO:-0700
TZNAME:PDT
DTSTART:20250309T100000
END:DAYLIGHT
BEGIN:STANDARD
TZOFFSETFROM:-0700
TZOFFSETTO:-0800
TZNAME:PST
DTSTART:20251102T090000
END:STANDARD
END:VTIMEZONE
BEGIN:VEVENT
DTSTART;TZID=America/Los_Angeles:20250622T093000
DTEND;TZID=America/Los_Angeles:20250622T104500
DTSTAMP:20260419T215440
CREATED:20250212T014210Z
LAST-MODIFIED:20250622T140425Z
UID:10002375-1750584600-1750589100@longbeachalliance.digitalchurch.app
SUMMARY:Worship & Celebration Service
DESCRIPTION:To watch the Livestream go to YouTube.com/longbeachalliancechurch
URL:https://longbeachalliance.digitalchurch.app/event/worship-celebration-service-70/
LOCATION:YouTube.com/longbeachalliancechurch
END:VEVENT
BEGIN:VEVENT
DTSTART;TZID=America/Los_Angeles:20250622T093000
DTEND;TZID=America/Los_Angeles:20250622T104500
DTSTAMP:20260419T215440
CREATED:20250213T015751Z
LAST-MODIFIED:20250622T140425Z
UID:10002376-1750584600-1750589100@longbeachalliance.digitalchurch.app
SUMMARY:Gospel Project: Children's Ministry
DESCRIPTION:Contact Meghan Brearley\, meghan@lbac.org\, for questions \nUpstairs\, Rm 105/Nursery\, and Gym used
URL:https://longbeachalliance.digitalchurch.app/event/gospel-project-childrens-ministry-91/
LOCATION:Long Beach Alliance Church\, 3331 Palo Verde Ave\, Long Beach\, CA\, United States
GEO:33.817334;-118.107762
X-APPLE-STRUCTURED-LOCATION;VALUE=URI;X-ADDRESS=Long Beach Alliance Church 3331 Palo Verde Ave Long Beach CA United States;X-APPLE-RADIUS=500;X-TITLE=3331 Palo Verde Ave:geo:-118.107762,33.817334
END:VEVENT
BEGIN:VEVENT
DTSTART;TZID=America/Los_Angeles:20250622T104500
DTEND;TZID=America/Los_Angeles:20250622T113000
DTSTAMP:20260419T215440
CREATED:20250227T071043Z
LAST-MODIFIED:20250622T140425Z
UID:10002434-1750589100-1750591800@longbeachalliance.digitalchurch.app
SUMMARY:VBS Shirt Pick-Up
DESCRIPTION:
URL:https://longbeachalliance.digitalchurch.app/event/vbs-shirt-pick-up-8/
LOCATION:Long Beach Alliance Church\, 3331 Palo Verde Ave\, Long Beach\, CA\, United States
GEO:33.817334;-118.107762
X-APPLE-STRUCTURED-LOCATION;VALUE=URI;X-ADDRESS=Long Beach Alliance Church 3331 Palo Verde Ave Long Beach CA United States;X-APPLE-RADIUS=500;X-TITLE=3331 Palo Verde Ave:geo:-118.107762,33.817334
END:VEVENT
BEGIN:VEVENT
DTSTART;TZID=America/Los_Angeles:20250622T104500
DTEND;TZID=America/Los_Angeles:20250622T114500
DTSTAMP:20260419T215441
CREATED:20250523T002811Z
LAST-MODIFIED:20250622T140425Z
UID:10002655-1750589100-1750592700@longbeachalliance.digitalchurch.app
SUMMARY:VBS Worship Crew Practice
DESCRIPTION:in the sanctuary
URL:https://longbeachalliance.digitalchurch.app/event/vbs-worship-crew-practice-12/
LOCATION:CA
END:VEVENT
BEGIN:VEVENT
DTSTART;TZID=America/Los_Angeles:20250622T180000
DTEND;TZID=America/Los_Angeles:20250622T190000
DTSTAMP:20260419T215441
CREATED:20250523T002811Z
LAST-MODIFIED:20250622T140425Z
UID:10002656-1750615200-1750618800@longbeachalliance.digitalchurch.app
SUMMARY:VBS Worship Crew Practice
DESCRIPTION:in the sanctuary
URL:https://longbeachalliance.digitalchurch.app/event/vbs-worship-crew-practice-13/
LOCATION:CA
END:VEVENT
END:VCALENDAR