BEGIN:VCALENDAR
VERSION:2.0
PRODID:-//Long Beach Alliance Church - ECPv6.6.4//NONSGML v1.0//EN
CALSCALE:GREGORIAN
METHOD:PUBLISH
X-ORIGINAL-URL:https://longbeachalliance.digitalchurch.app
X-WR-CALDESC:Events for Long Beach Alliance Church
REFRESH-INTERVAL;VALUE=DURATION:PT1H
X-Robots-Tag:noindex
X-PUBLISHED-TTL:PT1H
BEGIN:VTIMEZONE
TZID:America/Los_Angeles
BEGIN:DAYLIGHT
TZOFFSETFROM:-0800
TZOFFSETTO:-0700
TZNAME:PDT
DTSTART:20250309T100000
END:DAYLIGHT
BEGIN:STANDARD
TZOFFSETFROM:-0700
TZOFFSETTO:-0800
TZNAME:PST
DTSTART:20251102T090000
END:STANDARD
END:VTIMEZONE
BEGIN:VEVENT
DTSTART;VALUE=DATE:20250623
DTEND;VALUE=DATE:20250628
DTSTAMP:20260419T215450
CREATED:20250214T021650Z
LAST-MODIFIED:20250627T004714Z
UID:10002380-1750636800-1751068799@longbeachalliance.digitalchurch.app
SUMMARY:VBS
DESCRIPTION:
URL:https://longbeachalliance.digitalchurch.app/event/vbs-2/
LOCATION:CA
END:VEVENT
BEGIN:VEVENT
DTSTART;TZID=America/Los_Angeles:20250623T183000
DTEND;TZID=America/Los_Angeles:20250623T203000
DTSTAMP:20260419T215450
CREATED:20250214T021649Z
LAST-MODIFIED:20250624T032327Z
UID:10002378-1750703400-1750710600@longbeachalliance.digitalchurch.app
SUMMARY:Life Group @ Bartlebaughs
DESCRIPTION:Tricketts Facilitating\nBartlebaughs hosting
URL:https://longbeachalliance.digitalchurch.app/event/life-group-bartlebaughs-46/
LOCATION:4752 Bellflower Blvd\, Lakewood\, CA\, United States
GEO:33.850465;-118.109399
END:VEVENT
BEGIN:VEVENT
DTSTART;TZID=America/Los_Angeles:20250623T190000
DTEND;TZID=America/Los_Angeles:20250623T203000
DTSTAMP:20260419T215450
CREATED:20250214T021650Z
LAST-MODIFIED:20250624T032327Z
UID:10002379-1750705200-1750710600@longbeachalliance.digitalchurch.app
SUMMARY:Survivors of Incest Anonymous In-Person & Zoom Meeting
DESCRIPTION:Rm 102 used\n@ 10 people\nContact: Maryjean Cazeau 714-366-3887
URL:https://longbeachalliance.digitalchurch.app/event/survivors-of-incest-anonymous-in-person-zoom-meeting-110/
LOCATION:Long Beach Alliance Church\, 3331 Palo Verde Ave\, Long Beach\, CA\, United States
GEO:33.817334;-118.107762
X-APPLE-STRUCTURED-LOCATION;VALUE=URI;X-ADDRESS=Long Beach Alliance Church 3331 Palo Verde Ave Long Beach CA United States;X-APPLE-RADIUS=500;X-TITLE=3331 Palo Verde Ave:geo:-118.107762,33.817334
END:VEVENT
BEGIN:VEVENT
DTSTART;TZID=America/Los_Angeles:20250623T190000
DTEND;TZID=America/Los_Angeles:20250623T210000
DTSTAMP:20260419T215450
CREATED:20250213T015751Z
LAST-MODIFIED:20250624T034403Z
UID:10002377-1750705200-1750712400@longbeachalliance.digitalchurch.app
SUMMARY:Pure Desire Ministry Meeting
DESCRIPTION:Gym Used\nContactL Sam Eberhart 925.285.1295
URL:https://longbeachalliance.digitalchurch.app/event/pure-desire-ministry-meeting-109/
LOCATION:3331 Palo Verde Ave\, Long Beach\, CA\, United States
GEO:33.823943;-118.111336
END:VEVENT
BEGIN:VEVENT
DTSTART;TZID=America/Los_Angeles:20250623T190000
DTEND;TZID=America/Los_Angeles:20250623T210000
DTSTAMP:20260419T215450
CREATED:20250215T024650Z
LAST-MODIFIED:20250624T034403Z
UID:10002381-1750705200-1750712400@longbeachalliance.digitalchurch.app
SUMMARY:Betrayal and Beyond Ministry @ the Eberharts
DESCRIPTION:Contact: Debra Eberhart 925.580.7004
URL:https://longbeachalliance.digitalchurch.app/event/betrayal-and-beyond-ministry-the-eberharts-228/
LOCATION:CA
END:VEVENT
END:VCALENDAR