BEGIN:VCALENDAR
VERSION:2.0
PRODID:-//Long Beach Alliance Church - ECPv6.6.4//NONSGML v1.0//EN
CALSCALE:GREGORIAN
METHOD:PUBLISH
X-WR-CALNAME:Long Beach Alliance Church
X-ORIGINAL-URL:https://longbeachalliance.digitalchurch.app
X-WR-CALDESC:Events for Long Beach Alliance Church
REFRESH-INTERVAL;VALUE=DURATION:PT1H
X-Robots-Tag:noindex
X-PUBLISHED-TTL:PT1H
BEGIN:VTIMEZONE
TZID:America/Los_Angeles
BEGIN:DAYLIGHT
TZOFFSETFROM:-0800
TZOFFSETTO:-0700
TZNAME:PDT
DTSTART:20250309T100000
END:DAYLIGHT
BEGIN:STANDARD
TZOFFSETFROM:-0700
TZOFFSETTO:-0800
TZNAME:PST
DTSTART:20251102T090000
END:STANDARD
END:VTIMEZONE
BEGIN:VEVENT
DTSTART;VALUE=DATE:20250623
DTEND;VALUE=DATE:20250628
DTSTAMP:20260419T214635
CREATED:20250214T021650Z
LAST-MODIFIED:20250627T004714Z
UID:10002380-1750636800-1751068799@longbeachalliance.digitalchurch.app
SUMMARY:VBS
DESCRIPTION:
URL:https://longbeachalliance.digitalchurch.app/event/vbs-2/
LOCATION:CA
END:VEVENT
BEGIN:VEVENT
DTSTART;TZID=America/Los_Angeles:20250624T180000
DTEND;TZID=America/Los_Angeles:20250624T203000
DTSTAMP:20260419T214635
CREATED:20250216T031109Z
LAST-MODIFIED:20250625T032238Z
UID:10002382-1750788000-1750797000@longbeachalliance.digitalchurch.app
SUMMARY:Middle/High School Summer House Church
DESCRIPTION:@ McWatters
URL:https://longbeachalliance.digitalchurch.app/event/middle-high-school-youth-group-82/
LOCATION:2033 Ocana Ave\, Long Beach\, CA\, United States
GEO:33.793516;-118.114612
END:VEVENT
BEGIN:VEVENT
DTSTART;TZID=America/Los_Angeles:20250624T190000
DTEND;TZID=America/Los_Angeles:20250624T210000
DTSTAMP:20260419T214635
CREATED:20250216T031109Z
LAST-MODIFIED:20250625T035911Z
UID:10002384-1750791600-1750798800@longbeachalliance.digitalchurch.app
SUMMARY:Men's Bible Study @ the Millers
DESCRIPTION:Facilitator: John Welliver\nContact Dave Miller 562.773.9100 dmiller002@cc.rr.com
URL:https://longbeachalliance.digitalchurch.app/event/mens-bible-study-the-millers-105/
LOCATION:4702 Snowden Ave\, Lakewood\, CA\, United States
GEO:33.850465;-118.109399
END:VEVENT
BEGIN:VEVENT
DTSTART;TZID=America/Los_Angeles:20250624T190000
DTEND;TZID=America/Los_Angeles:20250624T220000
DTSTAMP:20260419T214635
CREATED:20250216T031109Z
LAST-MODIFIED:20250625T042838Z
UID:10002383-1750791600-1750802400@longbeachalliance.digitalchurch.app
SUMMARY:Elder Board Meeting
DESCRIPTION:
URL:https://longbeachalliance.digitalchurch.app/event/elder-board-meeting-23/
LOCATION:Long Beach Alliance Church 3331 Palo Verde Ave\, Long Beach\, CA\, United States
GEO:33.823943;-118.111336
END:VEVENT
END:VCALENDAR