BEGIN:VCALENDAR
VERSION:2.0
PRODID:-//Long Beach Alliance Church - ECPv6.6.4//NONSGML v1.0//EN
CALSCALE:GREGORIAN
METHOD:PUBLISH
X-ORIGINAL-URL:https://longbeachalliance.digitalchurch.app
X-WR-CALDESC:Events for Long Beach Alliance Church
REFRESH-INTERVAL;VALUE=DURATION:PT1H
X-Robots-Tag:noindex
X-PUBLISHED-TTL:PT1H
BEGIN:VTIMEZONE
TZID:America/Los_Angeles
BEGIN:DAYLIGHT
TZOFFSETFROM:-0800
TZOFFSETTO:-0700
TZNAME:PDT
DTSTART:20250309T100000
END:DAYLIGHT
BEGIN:STANDARD
TZOFFSETFROM:-0700
TZOFFSETTO:-0800
TZNAME:PST
DTSTART:20251102T090000
END:STANDARD
END:VTIMEZONE
BEGIN:VEVENT
DTSTART;TZID=America/Los_Angeles:20250808T080000
DTEND;TZID=America/Los_Angeles:20250808T100000
DTSTAMP:20260419T153845
CREATED:20250328T172223Z
LAST-MODIFIED:20250808T162635Z
UID:10002506-1754640000-1754647200@longbeachalliance.digitalchurch.app
SUMMARY:Men's In-Person & Zoom Bible Study
DESCRIPTION:In-Person will be in Room 106Contact Bill Michel\, 714.390.7076\, for Zoom link information.
URL:https://longbeachalliance.digitalchurch.app/event/mens-in-person-zoom-bible-study-111/
LOCATION:CA
END:VEVENT
BEGIN:VEVENT
DTSTART;TZID=America/Los_Angeles:20250808T193000
DTEND;TZID=America/Los_Angeles:20250808T213000
DTSTAMP:20260419T153845
CREATED:20250329T173706Z
LAST-MODIFIED:20250808T162635Z
UID:10002507-1754681400-1754688600@longbeachalliance.digitalchurch.app
SUMMARY:Betrayal and Beyond Ministry (@ Eberharts & Zoom)
DESCRIPTION:Contact: Debra Eberhart 925.580.7004
URL:https://longbeachalliance.digitalchurch.app/event/betrayal-and-beyond-ministry-eberharts-zoom-113/
LOCATION:CA
END:VEVENT
BEGIN:VEVENT
DTSTART;TZID=America/Los_Angeles:20250808T200000
DTEND;TZID=America/Los_Angeles:20250808T213000
DTSTAMP:20260419T153845
CREATED:20250329T173706Z
LAST-MODIFIED:20250808T162635Z
UID:10002508-1754683200-1754688600@longbeachalliance.digitalchurch.app
SUMMARY:NA In-Person Meeting
DESCRIPTION:Additional Set up/Tear Down: 7PM/10:30PM\nRm 102 and Kitchen used (may use Gym or Back patio if group is large)\nContact: \nMaryjean Cazeau 714.366.3887\nYvonne Turco 562.230.0574
URL:https://longbeachalliance.digitalchurch.app/event/na-in-person-meeting-147/
LOCATION:CA
END:VEVENT
END:VCALENDAR