BEGIN:VCALENDAR
VERSION:2.0
PRODID:-//Long Beach Alliance Church - ECPv6.6.4//NONSGML v1.0//EN
CALSCALE:GREGORIAN
METHOD:PUBLISH
X-WR-CALNAME:Long Beach Alliance Church
X-ORIGINAL-URL:https://longbeachalliance.digitalchurch.app
X-WR-CALDESC:Events for Long Beach Alliance Church
REFRESH-INTERVAL;VALUE=DURATION:PT1H
X-Robots-Tag:noindex
X-PUBLISHED-TTL:PT1H
BEGIN:VTIMEZONE
TZID:America/Los_Angeles
BEGIN:DAYLIGHT
TZOFFSETFROM:-0800
TZOFFSETTO:-0700
TZNAME:PDT
DTSTART:20250309T100000
END:DAYLIGHT
BEGIN:STANDARD
TZOFFSETFROM:-0700
TZOFFSETTO:-0800
TZNAME:PST
DTSTART:20251102T090000
END:STANDARD
END:VTIMEZONE
BEGIN:VEVENT
DTSTART;VALUE=DATE:20250822
DTEND;VALUE=DATE:20250824
DTSTAMP:20260419T214629
CREATED:20250410T215749Z
LAST-MODIFIED:20250823T232825Z
UID:10002537-1755820800-1755993599@longbeachalliance.digitalchurch.app
SUMMARY:Staff & Elder Retreat
DESCRIPTION:
URL:https://longbeachalliance.digitalchurch.app/event/elder-retreat/
LOCATION:CA
END:VEVENT
BEGIN:VEVENT
DTSTART;TZID=America/Los_Angeles:20250822T180000
DTEND;TZID=America/Los_Angeles:20250823T160000
DTSTAMP:20260419T214629
CREATED:20250806T154952Z
LAST-MODIFIED:20250822T230857Z
UID:10002830-1755885600-1755964800@longbeachalliance.digitalchurch.app
SUMMARY:Staff & Elder Retreat
DESCRIPTION:
URL:https://longbeachalliance.digitalchurch.app/event/staff-elder-retreat/
LOCATION:CA
END:VEVENT
BEGIN:VEVENT
DTSTART;TZID=America/Los_Angeles:20250823T080000
DTEND;TZID=America/Los_Angeles:20250823T160000
DTSTAMP:20260419T214629
CREATED:20250806T155005Z
LAST-MODIFIED:20250806T155746Z
UID:10002831-1755936000-1755964800@longbeachalliance.digitalchurch.app
SUMMARY:Staff & Elder Retreat
DESCRIPTION:
URL:https://longbeachalliance.digitalchurch.app/event/staff-elder-retreat-2/
LOCATION:CA
END:VEVENT
END:VCALENDAR