BEGIN:VCALENDAR
VERSION:2.0
PRODID:-//Long Beach Alliance Church - ECPv6.6.4//NONSGML v1.0//EN
CALSCALE:GREGORIAN
METHOD:PUBLISH
X-WR-CALNAME:Long Beach Alliance Church
X-ORIGINAL-URL:https://longbeachalliance.digitalchurch.app
X-WR-CALDESC:Events for Long Beach Alliance Church
REFRESH-INTERVAL;VALUE=DURATION:PT1H
X-Robots-Tag:noindex
X-PUBLISHED-TTL:PT1H
BEGIN:VTIMEZONE
TZID:America/Los_Angeles
BEGIN:DAYLIGHT
TZOFFSETFROM:-0800
TZOFFSETTO:-0700
TZNAME:PDT
DTSTART:20250309T100000
END:DAYLIGHT
BEGIN:STANDARD
TZOFFSETFROM:-0700
TZOFFSETTO:-0800
TZNAME:PST
DTSTART:20251102T090000
END:STANDARD
END:VTIMEZONE
BEGIN:VEVENT
DTSTART;TZID=America/Los_Angeles:20251021T140000
DTEND;TZID=America/Los_Angeles:20251021T160000
DTSTAMP:20260419T214640
CREATED:20250608T113641Z
LAST-MODIFIED:20251021T000226Z
UID:10002684-1761055200-1761062400@longbeachalliance.digitalchurch.app
SUMMARY:All Staff • Weekly Team Meeting
DESCRIPTION:
URL:https://longbeachalliance.digitalchurch.app/event/all-staff-weekly-team-meeting-101/
LOCATION:3331 Palo Verde Ave\, Long Beach\, CA\, United States
GEO:33.823943;-118.111336
END:VEVENT
BEGIN:VEVENT
DTSTART;TZID=America/Los_Angeles:20251021T180000
DTEND;TZID=America/Los_Angeles:20251021T200000
DTSTAMP:20260419T214640
CREATED:20250916T032248Z
LAST-MODIFIED:20251022T002641Z
UID:10002958-1761069600-1761076800@longbeachalliance.digitalchurch.app
SUMMARY:Women's Bible Study
DESCRIPTION:Located at Michelle Moses’ house\nContact: Deya Slade deya@charter.net
URL:https://longbeachalliance.digitalchurch.app/event/womens-bible-study-5/
LOCATION:5454 E Ocean Blvd\, Long Beach\, CA\, United States
GEO:33.759885;-118.13016
END:VEVENT
BEGIN:VEVENT
DTSTART;TZID=America/Los_Angeles:20251021T190000
DTEND;TZID=America/Los_Angeles:20251021T210000
DTSTAMP:20260419T214640
CREATED:20250608T113641Z
LAST-MODIFIED:20251022T002641Z
UID:10002685-1761073200-1761080400@longbeachalliance.digitalchurch.app
SUMMARY:Middle/High School Youth Group
DESCRIPTION:
URL:https://longbeachalliance.digitalchurch.app/event/middle-high-school-youth-group-100/
LOCATION:Long Beach Alliance Church 3331 Palo Verde Ave\, Long Beach\, CA\, United States
GEO:33.823943;-118.111336
END:VEVENT
BEGIN:VEVENT
DTSTART;TZID=America/Los_Angeles:20251021T190000
DTEND;TZID=America/Los_Angeles:20251021T210000
DTSTAMP:20260419T214640
CREATED:20250609T115349Z
LAST-MODIFIED:20250812T180448Z
UID:10002686-1761073200-1761080400@longbeachalliance.digitalchurch.app
SUMMARY:Men's Bible Study @ the Millers
DESCRIPTION:Facilitator: John Welliver\nContact Dave Miller 562.773.9100 dmiller002@cc.rr.com
URL:https://longbeachalliance.digitalchurch.app/event/mens-bible-study-the-millers-123/
LOCATION:4702 Snowden Ave\, Lakewood\, CA\, United States
GEO:33.850465;-118.109399
END:VEVENT
BEGIN:VEVENT
DTSTART;TZID=America/Los_Angeles:20251021T190000
DTEND;TZID=America/Los_Angeles:20251021T210000
DTSTAMP:20260419T214640
CREATED:20250813T181754Z
LAST-MODIFIED:20251022T002641Z
UID:10002862-1761073200-1761080400@longbeachalliance.digitalchurch.app
SUMMARY:Men's Bible Study @ the Millers
DESCRIPTION:Studying: Deuteronomy\nFacilitator: John Welliver\nContact Dave Miller 562.773.9100 dmiller002@cc.rr.com
URL:https://longbeachalliance.digitalchurch.app/event/mens-bible-study-the-millers-138/
LOCATION:4702 Snowden Ave\, Lakewood\, CA\, United States
GEO:33.850465;-118.109399
END:VEVENT
BEGIN:VEVENT
DTSTART;TZID=America/Los_Angeles:20251021T190000
DTEND;TZID=America/Los_Angeles:20251021T220000
DTSTAMP:20260419T214640
CREATED:20250603T093656Z
LAST-MODIFIED:20251022T002641Z
UID:10002671-1761073200-1761084000@longbeachalliance.digitalchurch.app
SUMMARY:Governing Board Meeting (2nd Tuesday Night of the Month)
DESCRIPTION:
URL:https://longbeachalliance.digitalchurch.app/event/governing-board-meeting-2nd-tuesday-night-of-the-month-6/
LOCATION:3331 Palo Verde Ave\nLong Beach CA 90808
END:VEVENT
END:VCALENDAR