BEGIN:VCALENDAR
VERSION:2.0
PRODID:-//Long Beach Alliance Church - ECPv6.6.4//NONSGML v1.0//EN
CALSCALE:GREGORIAN
METHOD:PUBLISH
X-ORIGINAL-URL:https://longbeachalliance.digitalchurch.app
X-WR-CALDESC:Events for Long Beach Alliance Church
REFRESH-INTERVAL;VALUE=DURATION:PT1H
X-Robots-Tag:noindex
X-PUBLISHED-TTL:PT1H
BEGIN:VTIMEZONE
TZID:America/Los_Angeles
BEGIN:DAYLIGHT
TZOFFSETFROM:-0800
TZOFFSETTO:-0700
TZNAME:PDT
DTSTART:20250309T100000
END:DAYLIGHT
BEGIN:STANDARD
TZOFFSETFROM:-0700
TZOFFSETTO:-0800
TZNAME:PST
DTSTART:20251102T090000
END:STANDARD
END:VTIMEZONE
BEGIN:VEVENT
DTSTART;TZID=America/Los_Angeles:20251028T180000
DTEND;TZID=America/Los_Angeles:20251028T200000
DTSTAMP:20260419T215443
CREATED:20250916T032250Z
LAST-MODIFIED:20251015T221507Z
UID:10002959-1761674400-1761681600@longbeachalliance.digitalchurch.app
SUMMARY:Women's Bible Study
DESCRIPTION:Located at Michelle Moses’ house\nContact: Deya Slade deya@charter.net
URL:https://longbeachalliance.digitalchurch.app/event/womens-bible-study-6/
LOCATION:5454 E Ocean Blvd\, Long Beach\, CA\, United States
GEO:33.759885;-118.13016
END:VEVENT
BEGIN:VEVENT
DTSTART;TZID=America/Los_Angeles:20251028T180000
DTEND;TZID=America/Los_Angeles:20251028T200000
DTSTAMP:20260419T215443
CREATED:20251016T221903Z
LAST-MODIFIED:20251028T030022Z
UID:10003041-1761674400-1761681600@longbeachalliance.digitalchurch.app
SUMMARY:Women's Bible Study
DESCRIPTION:Located at Michelle Moses’ house\nContact: Deya Slade deya@charter.net
URL:https://longbeachalliance.digitalchurch.app/event/womens-bible-study-20/
LOCATION:5454 E Ocean Blvd\, Long Beach\, CA\, United States
GEO:33.759885;-118.13016
END:VEVENT
BEGIN:VEVENT
DTSTART;TZID=America/Los_Angeles:20251028T190000
DTEND;TZID=America/Los_Angeles:20251028T210000
DTSTAMP:20260419T215443
CREATED:20250615T142223Z
LAST-MODIFIED:20251029T033156Z
UID:10002700-1761678000-1761685200@longbeachalliance.digitalchurch.app
SUMMARY:Middle/High School Youth Group
DESCRIPTION:
URL:https://longbeachalliance.digitalchurch.app/event/middle-high-school-youth-group-101/
LOCATION:Long Beach Alliance Church 3331 Palo Verde Ave\, Long Beach\, CA\, United States
GEO:33.823943;-118.111336
END:VEVENT
BEGIN:VEVENT
DTSTART;TZID=America/Los_Angeles:20251028T190000
DTEND;TZID=America/Los_Angeles:20251028T210000
DTSTAMP:20260419T215443
CREATED:20250616T145447Z
LAST-MODIFIED:20250812T180449Z
UID:10002701-1761678000-1761685200@longbeachalliance.digitalchurch.app
SUMMARY:Men's Bible Study @ the Millers
DESCRIPTION:Facilitator: John Welliver\nContact Dave Miller 562.773.9100 dmiller002@cc.rr.com
URL:https://longbeachalliance.digitalchurch.app/event/mens-bible-study-the-millers-124/
LOCATION:4702 Snowden Ave\, Lakewood\, CA\, United States
GEO:33.850465;-118.109399
END:VEVENT
BEGIN:VEVENT
DTSTART;TZID=America/Los_Angeles:20251028T190000
DTEND;TZID=America/Los_Angeles:20251028T210000
DTSTAMP:20260419T215443
CREATED:20250813T181819Z
LAST-MODIFIED:20251029T033156Z
UID:10002863-1761678000-1761685200@longbeachalliance.digitalchurch.app
SUMMARY:Men's Bible Study @ the Millers
DESCRIPTION:Studying: Deuteronomy\nFacilitator: John Welliver\nContact Dave Miller 562.773.9100 dmiller002@cc.rr.com
URL:https://longbeachalliance.digitalchurch.app/event/mens-bible-study-the-millers-139/
LOCATION:4702 Snowden Ave\, Lakewood\, CA\, United States
GEO:33.850465;-118.109399
END:VEVENT
END:VCALENDAR