BEGIN:VCALENDAR
VERSION:2.0
PRODID:-//Long Beach Alliance Church - ECPv6.6.4//NONSGML v1.0//EN
CALSCALE:GREGORIAN
METHOD:PUBLISH
X-WR-CALNAME:Long Beach Alliance Church
X-ORIGINAL-URL:https://longbeachalliance.digitalchurch.app
X-WR-CALDESC:Events for Long Beach Alliance Church
REFRESH-INTERVAL;VALUE=DURATION:PT1H
X-Robots-Tag:noindex
X-PUBLISHED-TTL:PT1H
BEGIN:VTIMEZONE
TZID:America/Los_Angeles
BEGIN:DAYLIGHT
TZOFFSETFROM:-0800
TZOFFSETTO:-0700
TZNAME:PDT
DTSTART:20250309T100000
END:DAYLIGHT
BEGIN:STANDARD
TZOFFSETFROM:-0700
TZOFFSETTO:-0800
TZNAME:PST
DTSTART:20251102T090000
END:STANDARD
END:VTIMEZONE
BEGIN:VEVENT
DTSTART;TZID=America/Los_Angeles:20251124T183000
DTEND;TZID=America/Los_Angeles:20251124T203000
DTSTAMP:20260419T214708
CREATED:20250706T042947Z
LAST-MODIFIED:20251124T125631Z
UID:10002761-1764009000-1764016200@longbeachalliance.digitalchurch.app
SUMMARY:Life Group @ Bartlebaughs
DESCRIPTION:Tricketts Facilitating\nBartlebaughs hosting
URL:https://longbeachalliance.digitalchurch.app/event/life-group-bartlebaughs-56/
LOCATION:4752 Bellflower Blvd\, Lakewood\, CA\, United States
GEO:33.850465;-118.109399
END:VEVENT
BEGIN:VEVENT
DTSTART;TZID=America/Los_Angeles:20251124T190000
DTEND;TZID=America/Los_Angeles:20251124T203000
DTSTAMP:20260419T214708
CREATED:20250705T035440Z
LAST-MODIFIED:20251124T125632Z
UID:10002759-1764010800-1764016200@longbeachalliance.digitalchurch.app
SUMMARY:Survivors of Incest Anonymous In-Person & Zoom Meeting
DESCRIPTION:Rm 102 used\n@ 10 people\nContact: Maryjean Cazeau 714-366-3887
URL:https://longbeachalliance.digitalchurch.app/event/survivors-of-incest-anonymous-in-person-zoom-meeting-133/
LOCATION:Long Beach Alliance Church\, 3331 Palo Verde Ave\, Long Beach\, CA\, United States
GEO:33.817334;-118.107762
X-APPLE-STRUCTURED-LOCATION;VALUE=URI;X-ADDRESS=Long Beach Alliance Church 3331 Palo Verde Ave Long Beach CA United States;X-APPLE-RADIUS=500;X-TITLE=3331 Palo Verde Ave:geo:-118.107762,33.817334
END:VEVENT
BEGIN:VEVENT
DTSTART;TZID=America/Los_Angeles:20251124T190000
DTEND;TZID=America/Los_Angeles:20251124T210000
DTSTAMP:20260419T214708
CREATED:20250705T035440Z
LAST-MODIFIED:20251124T125632Z
UID:10002758-1764010800-1764018000@longbeachalliance.digitalchurch.app
SUMMARY:Pure Desire Ministry Meeting
DESCRIPTION:Gym Used\nContactL Sam Eberhart 925.285.1295
URL:https://longbeachalliance.digitalchurch.app/event/pure-desire-ministry-meeting-132/
LOCATION:3331 Palo Verde Ave\, Long Beach\, CA\, United States
GEO:33.823943;-118.111336
END:VEVENT
BEGIN:VEVENT
DTSTART;TZID=America/Los_Angeles:20251124T190000
DTEND;TZID=America/Los_Angeles:20251124T210000
DTSTAMP:20260419T214708
CREATED:20250706T042946Z
LAST-MODIFIED:20251124T125631Z
UID:10002760-1764010800-1764018000@longbeachalliance.digitalchurch.app
SUMMARY:Betrayal and Beyond Ministry @ the Eberharts
DESCRIPTION:Contact: Debra Eberhart 925.580.7004
URL:https://longbeachalliance.digitalchurch.app/event/betrayal-and-beyond-ministry-the-eberharts-275/
LOCATION:CA
END:VEVENT
BEGIN:VEVENT
DTSTART;TZID=America/Los_Angeles:20251124T190000
DTEND;TZID=America/Los_Angeles:20251124T210000
DTSTAMP:20260419T214708
CREATED:20250821T225451Z
LAST-MODIFIED:20251124T125631Z
UID:10002889-1764010800-1764018000@longbeachalliance.digitalchurch.app
SUMMARY:Life Group @ Schaubs
DESCRIPTION:Luke Schaub hosting and facilitating
URL:https://longbeachalliance.digitalchurch.app/event/life-group-schaubs-6/
LOCATION:3631 Halbrite Ave\, Long Beach\, CA\, United States
GEO:33.823943;-118.111336
END:VEVENT
END:VCALENDAR