BEGIN:VCALENDAR
VERSION:2.0
PRODID:-//Long Beach Alliance Church - ECPv6.6.4//NONSGML v1.0//EN
CALSCALE:GREGORIAN
METHOD:PUBLISH
X-ORIGINAL-URL:https://longbeachalliance.digitalchurch.app
X-WR-CALDESC:Events for Long Beach Alliance Church
REFRESH-INTERVAL;VALUE=DURATION:PT1H
X-Robots-Tag:noindex
X-PUBLISHED-TTL:PT1H
BEGIN:VTIMEZONE
TZID:America/Los_Angeles
BEGIN:DAYLIGHT
TZOFFSETFROM:-0800
TZOFFSETTO:-0700
TZNAME:PDT
DTSTART:20250309T100000
END:DAYLIGHT
BEGIN:STANDARD
TZOFFSETFROM:-0700
TZOFFSETTO:-0800
TZNAME:PST
DTSTART:20251102T090000
END:STANDARD
END:VTIMEZONE
BEGIN:VEVENT
DTSTART;TZID=America/Los_Angeles:20251125T180000
DTEND;TZID=America/Los_Angeles:20251125T200000
DTSTAMP:20260419T104335
CREATED:20250916T032258Z
LAST-MODIFIED:20251015T221513Z
UID:10002963-1764093600-1764100800@longbeachalliance.digitalchurch.app
SUMMARY:Women's Bible Study
DESCRIPTION:Located at Michelle Moses’ house\nContact: Deya Slade deya@charter.net
URL:https://longbeachalliance.digitalchurch.app/event/womens-bible-study-10/
LOCATION:5454 E Ocean Blvd\, Long Beach\, CA\, United States
GEO:33.759885;-118.13016
END:VEVENT
BEGIN:VEVENT
DTSTART;TZID=America/Los_Angeles:20251125T180000
DTEND;TZID=America/Los_Angeles:20251125T200000
DTSTAMP:20260419T104335
CREATED:20251016T222047Z
LAST-MODIFIED:20251125T132956Z
UID:10003043-1764093600-1764100800@longbeachalliance.digitalchurch.app
SUMMARY:Women's Bible Study
DESCRIPTION:Located at Michelle Moses' house\nContact: Deya Slade deya@charter.net
URL:https://longbeachalliance.digitalchurch.app/event/womens-bible-study-22/
LOCATION:5454 E Ocean Blvd\, Long Beach\, CA\, United States
GEO:33.759885;-118.13016
END:VEVENT
BEGIN:VEVENT
DTSTART;TZID=America/Los_Angeles:20251125T190000
DTEND;TZID=America/Los_Angeles:20251125T210000
DTSTAMP:20260419T104335
CREATED:20250707T045622Z
LAST-MODIFIED:20250812T180453Z
UID:10002762-1764097200-1764104400@longbeachalliance.digitalchurch.app
SUMMARY:Men's Bible Study @ the Millers
DESCRIPTION:Facilitator: John Welliver\nContact Dave Miller 562.773.9100 dmiller002@cc.rr.com
URL:https://longbeachalliance.digitalchurch.app/event/mens-bible-study-the-millers-128/
LOCATION:4702 Snowden Ave\, Lakewood\, CA\, United States
GEO:33.850465;-118.109399
END:VEVENT
BEGIN:VEVENT
DTSTART;TZID=America/Los_Angeles:20251125T190000
DTEND;TZID=America/Los_Angeles:20251125T210000
DTSTAMP:20260419T104335
CREATED:20250707T045623Z
LAST-MODIFIED:20251125T132956Z
UID:10002763-1764097200-1764104400@longbeachalliance.digitalchurch.app
SUMMARY:Middle/High School Youth Group
DESCRIPTION:
URL:https://longbeachalliance.digitalchurch.app/event/middle-high-school-youth-group-105/
LOCATION:Long Beach Alliance Church 3331 Palo Verde Ave\, Long Beach\, CA\, United States
GEO:33.823943;-118.111336
END:VEVENT
BEGIN:VEVENT
DTSTART;TZID=America/Los_Angeles:20251125T190000
DTEND;TZID=America/Los_Angeles:20251125T210000
DTSTAMP:20260419T104335
CREATED:20250813T181946Z
LAST-MODIFIED:20251120T114231Z
UID:10002867-1764097200-1764104400@longbeachalliance.digitalchurch.app
SUMMARY:Men's Bible Study @ the Millers
DESCRIPTION:Studying: Deuteronomy\nFacilitator: John Welliver\nContact Dave Miller 562.773.9100 dmiller002@cc.rr.com
URL:https://longbeachalliance.digitalchurch.app/event/mens-bible-study-the-millers-143/
LOCATION:4702 Snowden Ave\, Lakewood\, CA\, United States
GEO:33.850465;-118.109399
END:VEVENT
BEGIN:VEVENT
DTSTART;TZID=America/Los_Angeles:20251125T190000
DTEND;TZID=America/Los_Angeles:20251125T220000
DTSTAMP:20260419T104335
CREATED:20250629T013557Z
LAST-MODIFIED:20251125T132956Z
UID:10002748-1764097200-1764108000@longbeachalliance.digitalchurch.app
SUMMARY:Elder Board Meeting
DESCRIPTION:
URL:https://longbeachalliance.digitalchurch.app/event/elder-board-meeting-28/
LOCATION:Long Beach Alliance Church 3331 Palo Verde Ave\, Long Beach\, CA\, United States
GEO:33.823943;-118.111336
END:VEVENT
END:VCALENDAR