BEGIN:VCALENDAR
VERSION:2.0
PRODID:-//Long Beach Alliance Church - ECPv6.6.4//NONSGML v1.0//EN
CALSCALE:GREGORIAN
METHOD:PUBLISH
X-ORIGINAL-URL:https://longbeachalliance.digitalchurch.app
X-WR-CALDESC:Events for Long Beach Alliance Church
REFRESH-INTERVAL;VALUE=DURATION:PT1H
X-Robots-Tag:noindex
X-PUBLISHED-TTL:PT1H
BEGIN:VTIMEZONE
TZID:America/Los_Angeles
BEGIN:DAYLIGHT
TZOFFSETFROM:-0800
TZOFFSETTO:-0700
TZNAME:PDT
DTSTART:20250309T100000
END:DAYLIGHT
BEGIN:STANDARD
TZOFFSETFROM:-0700
TZOFFSETTO:-0800
TZNAME:PST
DTSTART:20251102T090000
END:STANDARD
END:VTIMEZONE
BEGIN:VEVENT
DTSTART;TZID=America/Los_Angeles:20251130T140000
DTEND;TZID=America/Los_Angeles:20251228T153000
DTSTAMP:20260419T104333
CREATED:20251113T085038Z
LAST-MODIFIED:20251113T085648Z
UID:10003149-1764511200-1766935800@longbeachalliance.digitalchurch.app
SUMMARY:Worship And Prayer
DESCRIPTION:Come join us as we pray and worship together. Our focus in this season of prayer will be on developing hearts of gratitude for all that God has done. \nWhen: Sunday afternoons from 2:00 till 3:30 pm beginning on November 23rd\,2025. \nWhere: Long Beach Alliance Church\, Sanctuary lobbyContact Scott Trickett with any questions562 972-5306
URL:https://longbeachalliance.digitalchurch.app/event/worship-and-prayer-7/
LOCATION:Long Beach Alliance Church\, 3331 Palo Verde Ave\, Long Beach\, CA\, United States
GEO:33.817334;-118.107762
X-APPLE-STRUCTURED-LOCATION;VALUE=URI;X-ADDRESS=Long Beach Alliance Church 3331 Palo Verde Ave Long Beach CA United States;X-APPLE-RADIUS=500;X-TITLE=3331 Palo Verde Ave:geo:-118.107762,33.817334
END:VEVENT
BEGIN:VEVENT
DTSTART;TZID=America/Los_Angeles:20251211T093000
DTEND;TZID=America/Los_Angeles:20251211T113000
DTSTAMP:20260419T104333
CREATED:20250719T093620Z
LAST-MODIFIED:20251210T194450Z
UID:10002792-1765445400-1765452600@longbeachalliance.digitalchurch.app
SUMMARY:Women's Bible Study @ the Millers
DESCRIPTION:Facilitators: Colvin and Miller; Hosting Marilyn MillersContact: Marilyn Miller 562.922.2024 \nDavid- by Charles Swindoll
URL:https://longbeachalliance.digitalchurch.app/event/womens-bible-study-the-millers-178/
LOCATION:4702 Snowden Ave\, Lakewood\, CA\, United States
GEO:33.850465;-118.109399
END:VEVENT
BEGIN:VEVENT
DTSTART;TZID=America/Los_Angeles:20251211T180000
DTEND;TZID=America/Los_Angeles:20251211T200000
DTSTAMP:20260419T104333
CREATED:20250808T162709Z
LAST-MODIFIED:20251211T195631Z
UID:10002854-1765476000-1765483200@longbeachalliance.digitalchurch.app
SUMMARY:Worship Team Practice
DESCRIPTION:Sanctuary Used\nContact: Scott Trickett scott@lbac.org
URL:https://longbeachalliance.digitalchurch.app/event/worship-team-practice-19/
LOCATION:Long Beach Alliance Church\, 3331 Palo Verde Ave\, Long Beach\, CA\, United States
GEO:33.817334;-118.107762
X-APPLE-STRUCTURED-LOCATION;VALUE=URI;X-ADDRESS=Long Beach Alliance Church 3331 Palo Verde Ave Long Beach CA United States;X-APPLE-RADIUS=500;X-TITLE=3331 Palo Verde Ave:geo:-118.107762,33.817334
END:VEVENT
BEGIN:VEVENT
DTSTART;TZID=America/Los_Angeles:20251211T183000
DTEND;TZID=America/Los_Angeles:20251211T210000
DTSTAMP:20260419T104333
CREATED:20250829T012034Z
LAST-MODIFIED:20251211T195631Z
UID:10002915-1765477800-1765486800@longbeachalliance.digitalchurch.app
SUMMARY:Youth Gingerbread House Build & Smash
DESCRIPTION:All CE Wing/Courtyard Used\nContact: Hank hank@lbac.org
URL:https://longbeachalliance.digitalchurch.app/event/youth-gingerbread-house-build-smash/
LOCATION:Long Beach Alliance Church\, 3331 Palo Verde Ave\, Long Beach\, CA\, United States
GEO:33.817334;-118.107762
X-APPLE-STRUCTURED-LOCATION;VALUE=URI;X-ADDRESS=Long Beach Alliance Church 3331 Palo Verde Ave Long Beach CA United States;X-APPLE-RADIUS=500;X-TITLE=3331 Palo Verde Ave:geo:-118.107762,33.817334
END:VEVENT
BEGIN:VEVENT
DTSTART;TZID=America/Los_Angeles:20251211T190000
DTEND;TZID=America/Los_Angeles:20251211T210000
DTSTAMP:20260419T104333
CREATED:20250719T093621Z
LAST-MODIFIED:20251211T195631Z
UID:10002793-1765479600-1765486800@longbeachalliance.digitalchurch.app
SUMMARY:Betrayal and Beyond Ministry @ the Eberharts
DESCRIPTION:Contact: Debra Eberhart 925.580.7004
URL:https://longbeachalliance.digitalchurch.app/event/betrayal-and-beyond-ministry-the-eberharts-280/
LOCATION:CA
END:VEVENT
END:VCALENDAR