BEGIN:VCALENDAR
VERSION:2.0
PRODID:-//Long Beach Alliance Church - ECPv6.6.4//NONSGML v1.0//EN
CALSCALE:GREGORIAN
METHOD:PUBLISH
X-WR-CALNAME:Long Beach Alliance Church
X-ORIGINAL-URL:https://longbeachalliance.digitalchurch.app
X-WR-CALDESC:Events for Long Beach Alliance Church
REFRESH-INTERVAL;VALUE=DURATION:PT1H
X-Robots-Tag:noindex
X-PUBLISHED-TTL:PT1H
BEGIN:VTIMEZONE
TZID:America/Los_Angeles
BEGIN:DAYLIGHT
TZOFFSETFROM:-0800
TZOFFSETTO:-0700
TZNAME:PDT
DTSTART:20250309T100000
END:DAYLIGHT
BEGIN:STANDARD
TZOFFSETFROM:-0700
TZOFFSETTO:-0800
TZNAME:PST
DTSTART:20251102T090000
END:STANDARD
BEGIN:DAYLIGHT
TZOFFSETFROM:-0800
TZOFFSETTO:-0700
TZNAME:PDT
DTSTART:20260308T100000
END:DAYLIGHT
BEGIN:STANDARD
TZOFFSETFROM:-0700
TZOFFSETTO:-0800
TZNAME:PST
DTSTART:20261101T090000
END:STANDARD
END:VTIMEZONE
BEGIN:VEVENT
DTSTART;TZID=America/Los_Angeles:20251214T140000
DTEND;TZID=America/Los_Angeles:20260111T153000
DTSTAMP:20260419T111526
CREATED:20251113T085027Z
LAST-MODIFIED:20251113T085647Z
UID:10003147-1765720800-1768145400@longbeachalliance.digitalchurch.app
SUMMARY:Worship And Prayer
DESCRIPTION:Come join us as we pray and worship together. Our focus in this season of prayer will be on developing hearts of gratitude for all that God has done. \nWhen: Sunday afternoons from 2:00 till 3:30 pm beginning on November 23rd\,2025. \nWhere: Long Beach Alliance Church\, Sanctuary lobbyContact Scott Trickett with any questions562 972-5306
URL:https://longbeachalliance.digitalchurch.app/event/worship-and-prayer-5/
LOCATION:Long Beach Alliance Church\, 3331 Palo Verde Ave\, Long Beach\, CA\, United States
GEO:33.817334;-118.107762
X-APPLE-STRUCTURED-LOCATION;VALUE=URI;X-ADDRESS=Long Beach Alliance Church 3331 Palo Verde Ave Long Beach CA United States;X-APPLE-RADIUS=500;X-TITLE=3331 Palo Verde Ave:geo:-118.107762,33.817334
END:VEVENT
BEGIN:VEVENT
DTSTART;TZID=America/Los_Angeles:20251221T140000
DTEND;TZID=America/Los_Angeles:20260118T153000
DTSTAMP:20260419T111526
CREATED:20251113T085027Z
LAST-MODIFIED:20251113T085648Z
UID:10003148-1766325600-1768750200@longbeachalliance.digitalchurch.app
SUMMARY:Worship And Prayer
DESCRIPTION:Come join us as we pray and worship together. Our focus in this season of prayer will be on developing hearts of gratitude for all that God has done. \nWhen: Sunday afternoons from 2:00 till 3:30 pm beginning on November 23rd\,2025. \nWhere: Long Beach Alliance Church\, Sanctuary lobbyContact Scott Trickett with any questions562 972-5306
URL:https://longbeachalliance.digitalchurch.app/event/worship-and-prayer-6/
LOCATION:Long Beach Alliance Church\, 3331 Palo Verde Ave\, Long Beach\, CA\, United States
GEO:33.817334;-118.107762
X-APPLE-STRUCTURED-LOCATION;VALUE=URI;X-ADDRESS=Long Beach Alliance Church 3331 Palo Verde Ave Long Beach CA United States;X-APPLE-RADIUS=500;X-TITLE=3331 Palo Verde Ave:geo:-118.107762,33.817334
END:VEVENT
BEGIN:VEVENT
DTSTART;TZID=America/Los_Angeles:20251228T140000
DTEND;TZID=America/Los_Angeles:20260125T153000
DTSTAMP:20260419T111526
CREATED:20251113T085103Z
LAST-MODIFIED:20251113T085650Z
UID:10003153-1766930400-1769355000@longbeachalliance.digitalchurch.app
SUMMARY:Worship And Prayer
DESCRIPTION:Come join us as we pray and worship together. Our focus in this season of prayer will be on developing hearts of gratitude for all that God has done. \nWhen: Sunday afternoons from 2:00 till 3:30 pm beginning on November 23rd\,2025. \nWhere: Long Beach Alliance Church\, Sanctuary lobbyContact Scott Trickett with any questions562 972-5306
URL:https://longbeachalliance.digitalchurch.app/event/worship-and-prayer-11/
LOCATION:Long Beach Alliance Church\, 3331 Palo Verde Ave\, Long Beach\, CA\, United States
GEO:33.817334;-118.107762
X-APPLE-STRUCTURED-LOCATION;VALUE=URI;X-ADDRESS=Long Beach Alliance Church 3331 Palo Verde Ave Long Beach CA United States;X-APPLE-RADIUS=500;X-TITLE=3331 Palo Verde Ave:geo:-118.107762,33.817334
END:VEVENT
BEGIN:VEVENT
DTSTART;VALUE=DATE:20260104
DTEND;VALUE=DATE:20260105
DTSTAMP:20260419T111526
CREATED:20251113T085051Z
LAST-MODIFIED:20251113T085649Z
UID:10003151-1767484800-1767571199@longbeachalliance.digitalchurch.app
SUMMARY:Worship And Prayer
DESCRIPTION:
URL:https://longbeachalliance.digitalchurch.app/event/worship-and-prayer-9/
LOCATION:CA
END:VEVENT
BEGIN:VEVENT
DTSTART;TZID=America/Los_Angeles:20260104T093000
DTEND;TZID=America/Los_Angeles:20260104T104500
DTSTAMP:20260419T111526
CREATED:20250907T045420Z
LAST-MODIFIED:20260104T011519Z
UID:10002931-1767519000-1767523500@longbeachalliance.digitalchurch.app
SUMMARY:Gospel Project: Children's Ministry
DESCRIPTION:Contact Meghan Brearley\, meghan@lbac.org\, for questions \nUpstairs\, Rm 105/Nursery\, and Gym used
URL:https://longbeachalliance.digitalchurch.app/event/gospel-project-childrens-ministry-120/
LOCATION:Long Beach Alliance Church\, 3331 Palo Verde Ave\, Long Beach\, CA\, United States
GEO:33.817334;-118.107762
X-APPLE-STRUCTURED-LOCATION;VALUE=URI;X-ADDRESS=Long Beach Alliance Church 3331 Palo Verde Ave Long Beach CA United States;X-APPLE-RADIUS=500;X-TITLE=3331 Palo Verde Ave:geo:-118.107762,33.817334
END:VEVENT
BEGIN:VEVENT
DTSTART;TZID=America/Los_Angeles:20260104T093000
DTEND;TZID=America/Los_Angeles:20260104T104500
DTSTAMP:20260419T111526
CREATED:20250907T045420Z
LAST-MODIFIED:20260104T011519Z
UID:10002932-1767519000-1767523500@longbeachalliance.digitalchurch.app
SUMMARY:Worship & Celebration Service
DESCRIPTION:To watch the Livestream go to YouTube.com/longbeachalliancechurch
URL:https://longbeachalliance.digitalchurch.app/event/worship-celebration-service-99/
LOCATION:YouTube.com/longbeachalliancechurch
END:VEVENT
BEGIN:VEVENT
DTSTART;TZID=America/Los_Angeles:20260104T140000
DTEND;TZID=America/Los_Angeles:20260201T153000
DTSTAMP:20260419T111526
CREATED:20251113T085103Z
LAST-MODIFIED:20251113T085650Z
UID:10003152-1767535200-1769959800@longbeachalliance.digitalchurch.app
SUMMARY:Worship And Prayer
DESCRIPTION:Come join us as we pray and worship together. Our focus in this season of prayer will be on developing hearts of gratitude for all that God has done. \nWhen: Sunday afternoons from 2:00 till 3:30 pm beginning on November 23rd\,2025. \nWhere: Long Beach Alliance Church\, Sanctuary lobbyContact Scott Trickett with any questions562 972-5306
URL:https://longbeachalliance.digitalchurch.app/event/worship-and-prayer-10/
LOCATION:Long Beach Alliance Church\, 3331 Palo Verde Ave\, Long Beach\, CA\, United States
GEO:33.817334;-118.107762
X-APPLE-STRUCTURED-LOCATION;VALUE=URI;X-ADDRESS=Long Beach Alliance Church 3331 Palo Verde Ave Long Beach CA United States;X-APPLE-RADIUS=500;X-TITLE=3331 Palo Verde Ave:geo:-118.107762,33.817334
END:VEVENT
END:VCALENDAR