BEGIN:VCALENDAR
VERSION:2.0
PRODID:-//Long Beach Alliance Church - ECPv6.6.4//NONSGML v1.0//EN
CALSCALE:GREGORIAN
METHOD:PUBLISH
X-WR-CALNAME:Long Beach Alliance Church
X-ORIGINAL-URL:https://longbeachalliance.digitalchurch.app
X-WR-CALDESC:Events for Long Beach Alliance Church
REFRESH-INTERVAL;VALUE=DURATION:PT1H
X-Robots-Tag:noindex
X-PUBLISHED-TTL:PT1H
BEGIN:VTIMEZONE
TZID:America/Los_Angeles
BEGIN:DAYLIGHT
TZOFFSETFROM:-0800
TZOFFSETTO:-0700
TZNAME:PDT
DTSTART:20260308T100000
END:DAYLIGHT
BEGIN:STANDARD
TZOFFSETFROM:-0700
TZOFFSETTO:-0800
TZNAME:PST
DTSTART:20261101T090000
END:STANDARD
END:VTIMEZONE
BEGIN:VEVENT
DTSTART;TZID=America/Los_Angeles:20260104T140000
DTEND;TZID=America/Los_Angeles:20260201T153000
DTSTAMP:20260419T111520
CREATED:20251113T085103Z
LAST-MODIFIED:20251113T085650Z
UID:10003152-1767535200-1769959800@longbeachalliance.digitalchurch.app
SUMMARY:Worship And Prayer
DESCRIPTION:Come join us as we pray and worship together. Our focus in this season of prayer will be on developing hearts of gratitude for all that God has done. \nWhen: Sunday afternoons from 2:00 till 3:30 pm beginning on November 23rd\,2025. \nWhere: Long Beach Alliance Church\, Sanctuary lobbyContact Scott Trickett with any questions562 972-5306
URL:https://longbeachalliance.digitalchurch.app/event/worship-and-prayer-10/
LOCATION:Long Beach Alliance Church\, 3331 Palo Verde Ave\, Long Beach\, CA\, United States
GEO:33.817334;-118.107762
X-APPLE-STRUCTURED-LOCATION;VALUE=URI;X-ADDRESS=Long Beach Alliance Church 3331 Palo Verde Ave Long Beach CA United States;X-APPLE-RADIUS=500;X-TITLE=3331 Palo Verde Ave:geo:-118.107762,33.817334
END:VEVENT
BEGIN:VEVENT
DTSTART;TZID=America/Los_Angeles:20260111T140000
DTEND;TZID=America/Los_Angeles:20260208T153000
DTSTAMP:20260419T111520
CREATED:20251113T085141Z
LAST-MODIFIED:20251113T085652Z
UID:10003154-1768140000-1770564600@longbeachalliance.digitalchurch.app
SUMMARY:Worship And Prayer
DESCRIPTION:Come join us as we pray and worship together. Our focus in this season of prayer will be on developing hearts of gratitude for all that God has done. \nWhen: Sunday afternoons from 2:00 till 3:30 pm beginning on November 23rd\,2025. \nWhere: Long Beach Alliance Church\, Sanctuary lobbyContact Scott Trickett with any questions562 972-5306
URL:https://longbeachalliance.digitalchurch.app/event/worship-and-prayer-12/
LOCATION:Long Beach Alliance Church\, 3331 Palo Verde Ave\, Long Beach\, CA\, United States
GEO:33.817334;-118.107762
X-APPLE-STRUCTURED-LOCATION;VALUE=URI;X-ADDRESS=Long Beach Alliance Church 3331 Palo Verde Ave Long Beach CA United States;X-APPLE-RADIUS=500;X-TITLE=3331 Palo Verde Ave:geo:-118.107762,33.817334
END:VEVENT
BEGIN:VEVENT
DTSTART;TZID=America/Los_Angeles:20260118T140000
DTEND;TZID=America/Los_Angeles:20260215T153000
DTSTAMP:20260419T111520
CREATED:20251113T085154Z
LAST-MODIFIED:20251113T085653Z
UID:10003157-1768744800-1771169400@longbeachalliance.digitalchurch.app
SUMMARY:Worship And Prayer
DESCRIPTION:Come join us as we pray and worship together. Our focus in this season of prayer will be on developing hearts of gratitude for all that God has done. \nWhen: Sunday afternoons from 2:00 till 3:30 pm beginning on November 23rd\,2025. \nWhere: Long Beach Alliance Church\, Sanctuary lobbyContact Scott Trickett with any questions562 972-5306
URL:https://longbeachalliance.digitalchurch.app/event/worship-and-prayer-15/
LOCATION:Long Beach Alliance Church\, 3331 Palo Verde Ave\, Long Beach\, CA\, United States
GEO:33.817334;-118.107762
X-APPLE-STRUCTURED-LOCATION;VALUE=URI;X-ADDRESS=Long Beach Alliance Church 3331 Palo Verde Ave Long Beach CA United States;X-APPLE-RADIUS=500;X-TITLE=3331 Palo Verde Ave:geo:-118.107762,33.817334
END:VEVENT
BEGIN:VEVENT
DTSTART;TZID=America/Los_Angeles:20260125T140000
DTEND;TZID=America/Los_Angeles:20260222T153000
DTSTAMP:20260419T111520
CREATED:20251113T085246Z
LAST-MODIFIED:20251113T085656Z
UID:10003161-1769349600-1771774200@longbeachalliance.digitalchurch.app
SUMMARY:Worship And Prayer
DESCRIPTION:Come join us as we pray and worship together. Our focus in this season of prayer will be on developing hearts of gratitude for all that God has done. \nWhen: Sunday afternoons from 2:00 till 3:30 pm beginning on November 23rd\,2025. \nWhere: Long Beach Alliance Church\, Sanctuary lobbyContact Scott Trickett with any questions562 972-5306
URL:https://longbeachalliance.digitalchurch.app/event/worship-and-prayer-19/
LOCATION:Long Beach Alliance Church\, 3331 Palo Verde Ave\, Long Beach\, CA\, United States
GEO:33.817334;-118.107762
X-APPLE-STRUCTURED-LOCATION;VALUE=URI;X-ADDRESS=Long Beach Alliance Church 3331 Palo Verde Ave Long Beach CA United States;X-APPLE-RADIUS=500;X-TITLE=3331 Palo Verde Ave:geo:-118.107762,33.817334
END:VEVENT
BEGIN:VEVENT
DTSTART;TZID=America/Los_Angeles:20260129T093000
DTEND;TZID=America/Los_Angeles:20260129T113000
DTSTAMP:20260419T111520
CREATED:20251009T201017Z
LAST-MODIFIED:20260129T123048Z
UID:10003018-1769679000-1769686200@longbeachalliance.digitalchurch.app
SUMMARY:Women's Bible Study @ the Millers
DESCRIPTION:Facilitators: Colvin and Miller; Hosting Marilyn MillersContact: Marilyn Miller 562.922.2024 \nDavid- by Charles Swindoll
URL:https://longbeachalliance.digitalchurch.app/event/womens-bible-study-the-millers-185/
LOCATION:4702 Snowden Ave\, Lakewood\, CA\, United States
GEO:33.850465;-118.109399
END:VEVENT
BEGIN:VEVENT
DTSTART;TZID=America/Los_Angeles:20260129T180000
DTEND;TZID=America/Los_Angeles:20260129T200000
DTSTAMP:20260419T111520
CREATED:20251010T203028Z
LAST-MODIFIED:20260122T100137Z
UID:10003019-1769709600-1769716800@longbeachalliance.digitalchurch.app
SUMMARY:Worship Team Practice
DESCRIPTION:Sanctuary Used\nContact: Scott Trickett scott@lbac.org
URL:https://longbeachalliance.digitalchurch.app/event/worship-team-practice-26/
LOCATION:Long Beach Alliance Church\, 3331 Palo Verde Ave\, Long Beach\, CA\, United States
GEO:33.817334;-118.107762
X-APPLE-STRUCTURED-LOCATION;VALUE=URI;X-ADDRESS=Long Beach Alliance Church 3331 Palo Verde Ave Long Beach CA United States;X-APPLE-RADIUS=500;X-TITLE=3331 Palo Verde Ave:geo:-118.107762,33.817334
END:VEVENT
BEGIN:VEVENT
DTSTART;TZID=America/Los_Angeles:20260129T180000
DTEND;TZID=America/Los_Angeles:20260129T200000
DTSTAMP:20260419T111520
CREATED:20251211T195148Z
LAST-MODIFIED:20260107T020521Z
UID:10003259-1769709600-1769716800@longbeachalliance.digitalchurch.app
SUMMARY:Betrayal and Beyond Ministry @ the Eberharts
DESCRIPTION:Contact: Debra Eberhart 925.580.7004
URL:https://longbeachalliance.digitalchurch.app/event/betrayal-and-beyond-ministry-the-eberharts-318/
LOCATION:CA
END:VEVENT
BEGIN:VEVENT
DTSTART;TZID=America/Los_Angeles:20260129T180000
DTEND;TZID=America/Los_Angeles:20260129T200000
DTSTAMP:20260419T111520
CREATED:20260123T101923Z
LAST-MODIFIED:20260129T123048Z
UID:10003432-1769709600-1769716800@longbeachalliance.digitalchurch.app
SUMMARY:Worship Team Practice
DESCRIPTION:Sanctuary Used\nContact: Scott Trickett scott@lbac.org
URL:https://longbeachalliance.digitalchurch.app/event/worship-team-practice-45/
LOCATION:Long Beach Alliance Church\, 3331 Palo Verde Ave\, Long Beach\, CA\, United States
GEO:33.817334;-118.107762
X-APPLE-STRUCTURED-LOCATION;VALUE=URI;X-ADDRESS=Long Beach Alliance Church 3331 Palo Verde Ave Long Beach CA United States;X-APPLE-RADIUS=500;X-TITLE=3331 Palo Verde Ave:geo:-118.107762,33.817334
END:VEVENT
BEGIN:VEVENT
DTSTART;TZID=America/Los_Angeles:20260129T190000
DTEND;TZID=America/Los_Angeles:20260129T210000
DTSTAMP:20260419T111520
CREATED:20251010T203028Z
LAST-MODIFIED:20260129T123048Z
UID:10003020-1769713200-1769720400@longbeachalliance.digitalchurch.app
SUMMARY:Betrayal and Beyond Ministry @ the Eberharts
DESCRIPTION:Contact: Debra Eberhart 925.580.7004
URL:https://longbeachalliance.digitalchurch.app/event/betrayal-and-beyond-ministry-the-eberharts-294/
LOCATION:CA
END:VEVENT
END:VCALENDAR