BEGIN:VCALENDAR
VERSION:2.0
PRODID:-//Long Beach Alliance Church - ECPv6.6.4//NONSGML v1.0//EN
CALSCALE:GREGORIAN
METHOD:PUBLISH
X-ORIGINAL-URL:https://longbeachalliance.digitalchurch.app
X-WR-CALDESC:Events for Long Beach Alliance Church
REFRESH-INTERVAL;VALUE=DURATION:PT1H
X-Robots-Tag:noindex
X-PUBLISHED-TTL:PT1H
BEGIN:VTIMEZONE
TZID:America/Los_Angeles
BEGIN:DAYLIGHT
TZOFFSETFROM:-0800
TZOFFSETTO:-0700
TZNAME:PDT
DTSTART:20260308T100000
END:DAYLIGHT
BEGIN:STANDARD
TZOFFSETFROM:-0700
TZOFFSETTO:-0800
TZNAME:PST
DTSTART:20261101T090000
END:STANDARD
END:VTIMEZONE
BEGIN:VEVENT
DTSTART;TZID=America/Los_Angeles:20260621T070000
DTEND;TZID=America/Los_Angeles:20260621T150000
DTSTAMP:20260419T050005
CREATED:20260204T145602Z
LAST-MODIFIED:20260416T193757Z
UID:10003500-1782025200-1782054000@longbeachalliance.digitalchurch.app
SUMMARY:American Cross- Blood Drive
DESCRIPTION:
URL:https://longbeachalliance.digitalchurch.app/event/american-cross-blood-drive/
LOCATION:CA
END:VEVENT
BEGIN:VEVENT
DTSTART;TZID=America/Los_Angeles:20260621T093000
DTEND;TZID=America/Los_Angeles:20260621T104500
DTSTAMP:20260419T050005
CREATED:20260204T145602Z
LAST-MODIFIED:20260416T193757Z
UID:10003499-1782034200-1782038700@longbeachalliance.digitalchurch.app
SUMMARY:Worship & Celebration Service
DESCRIPTION:To watch the Livestream go to YouTube.com/longbeachalliancechurch
URL:https://longbeachalliance.digitalchurch.app/event/worship-celebration-service-123/
LOCATION:YouTube.com/longbeachalliancechurch
END:VEVENT
BEGIN:VEVENT
DTSTART;TZID=America/Los_Angeles:20260621T093000
DTEND;TZID=America/Los_Angeles:20260621T104500
DTSTAMP:20260419T050005
CREATED:20260205T152405Z
LAST-MODIFIED:20260416T193757Z
UID:10003502-1782034200-1782038700@longbeachalliance.digitalchurch.app
SUMMARY:Gospel Project: Children's Ministry
DESCRIPTION:Contact Meghan Brearley\, meghan@lbac.org\, for questions \nUpstairs\, Rm 105/Nursery\, and Gym used
URL:https://longbeachalliance.digitalchurch.app/event/gospel-project-childrens-ministry-144/
LOCATION:Long Beach Alliance Church\, 3331 Palo Verde Ave\, Long Beach\, CA\, United States
GEO:33.817334;-118.107762
X-APPLE-STRUCTURED-LOCATION;VALUE=URI;X-ADDRESS=Long Beach Alliance Church 3331 Palo Verde Ave Long Beach CA United States;X-APPLE-RADIUS=500;X-TITLE=3331 Palo Verde Ave:geo:-118.107762,33.817334
END:VEVENT
BEGIN:VEVENT
DTSTART;TZID=America/Los_Angeles:20260621T110000
DTEND;TZID=America/Los_Angeles:20260621T113000
DTSTAMP:20260419T050005
CREATED:20260304T025535Z
LAST-MODIFIED:20260416T193757Z
UID:10003582-1782039600-1782041400@longbeachalliance.digitalchurch.app
SUMMARY:VBS Shirt Pick-Up
DESCRIPTION:
URL:https://longbeachalliance.digitalchurch.app/event/vbs-shirt-pick-up-12/
LOCATION:Long Beach Alliance Church\, 3331 Palo Verde Ave\, Long Beach\, CA\, United States
GEO:33.817334;-118.107762
X-APPLE-STRUCTURED-LOCATION;VALUE=URI;X-ADDRESS=Long Beach Alliance Church 3331 Palo Verde Ave Long Beach CA United States;X-APPLE-RADIUS=500;X-TITLE=3331 Palo Verde Ave:geo:-118.107762,33.817334
END:VEVENT
BEGIN:VEVENT
DTSTART;TZID=America/Los_Angeles:20260621T130000
DTEND;TZID=America/Los_Angeles:20260621T200000
DTSTAMP:20260419T050005
CREATED:20260306T035613Z
LAST-MODIFIED:20260416T193758Z
UID:10003584-1782046800-1782072000@longbeachalliance.digitalchurch.app
SUMMARY:VBS Decorating
DESCRIPTION:
URL:https://longbeachalliance.digitalchurch.app/event/vbs-decorating-5/
LOCATION:CA
END:VEVENT
END:VCALENDAR