BEGIN:VCALENDAR
VERSION:2.0
PRODID:-//Long Beach Alliance Church - ECPv6.6.4//NONSGML v1.0//EN
CALSCALE:GREGORIAN
METHOD:PUBLISH
X-WR-CALNAME:Long Beach Alliance Church
X-ORIGINAL-URL:https://longbeachalliance.digitalchurch.app
X-WR-CALDESC:Events for Long Beach Alliance Church
REFRESH-INTERVAL;VALUE=DURATION:PT1H
X-Robots-Tag:noindex
X-PUBLISHED-TTL:PT1H
BEGIN:VTIMEZONE
TZID:America/Los_Angeles
BEGIN:DAYLIGHT
TZOFFSETFROM:-0800
TZOFFSETTO:-0700
TZNAME:PDT
DTSTART:20260308T100000
END:DAYLIGHT
BEGIN:STANDARD
TZOFFSETFROM:-0700
TZOFFSETTO:-0800
TZNAME:PST
DTSTART:20261101T090000
END:STANDARD
END:VTIMEZONE
BEGIN:VEVENT
DTSTART;TZID=America/Los_Angeles:20260707T190000
DTEND;TZID=America/Los_Angeles:20260707T203000
DTSTAMP:20260419T143140
CREATED:20260317T080249Z
LAST-MODIFIED:20260416T194211Z
UID:10003629-1783450800-1783456200@longbeachalliance.digitalchurch.app
SUMMARY:Nominating Committee Meeting #1
DESCRIPTION:
URL:https://longbeachalliance.digitalchurch.app/event/nominating-committee-meeting-1-3/
LOCATION:3331 Palo Verde Ave\nLong Beach\, CA\, United States
END:VEVENT
BEGIN:VEVENT
DTSTART;TZID=America/Los_Angeles:20260707T190000
DTEND;TZID=America/Los_Angeles:20260707T210000
DTSTAMP:20260419T143140
CREATED:20260219T212500Z
LAST-MODIFIED:20260416T194211Z
UID:10003542-1783450800-1783458000@longbeachalliance.digitalchurch.app
SUMMARY:Summer House Church: Middle/High School Youth Group
DESCRIPTION:
URL:https://longbeachalliance.digitalchurch.app/event/middle-high-school-youth-group-137/
LOCATION:Long Beach Alliance Church 3331 Palo Verde Ave\, Long Beach\, CA\, United States
GEO:33.823943;-118.111336
END:VEVENT
BEGIN:VEVENT
DTSTART;TZID=America/Los_Angeles:20260707T190000
DTEND;TZID=America/Los_Angeles:20260707T210000
DTSTAMP:20260419T143140
CREATED:20260219T212500Z
LAST-MODIFIED:20260416T194211Z
UID:10003543-1783450800-1783458000@longbeachalliance.digitalchurch.app
SUMMARY:Men's Bible Study @ the Millers
DESCRIPTION:Studying: Deuteronomy\nFacilitator: John Welliver\nContact Dave Miller 562.773.9100 dmiller002@cc.rr.com
URL:https://longbeachalliance.digitalchurch.app/event/mens-bible-study-the-millers-175/
LOCATION:4702 Snowden Ave\, Lakewood\, CA\, United States
GEO:33.850465;-118.109399
END:VEVENT
END:VCALENDAR