BEGIN:VCALENDAR
VERSION:2.0
PRODID:-//Long Beach Alliance Church - ECPv6.6.4//NONSGML v1.0//EN
CALSCALE:GREGORIAN
METHOD:PUBLISH
X-WR-CALNAME:Long Beach Alliance Church
X-ORIGINAL-URL:https://longbeachalliance.digitalchurch.app
X-WR-CALDESC:Events for Long Beach Alliance Church
REFRESH-INTERVAL;VALUE=DURATION:PT1H
X-Robots-Tag:noindex
X-PUBLISHED-TTL:PT1H
BEGIN:VTIMEZONE
TZID:America/Los_Angeles
BEGIN:DAYLIGHT
TZOFFSETFROM:-0800
TZOFFSETTO:-0700
TZNAME:PDT
DTSTART:20260308T100000
END:DAYLIGHT
BEGIN:STANDARD
TZOFFSETFROM:-0700
TZOFFSETTO:-0800
TZNAME:PST
DTSTART:20261101T090000
END:STANDARD
END:VTIMEZONE
BEGIN:VEVENT
DTSTART;TZID=America/Los_Angeles:20260806T093000
DTEND;TZID=America/Los_Angeles:20260806T113000
DTSTAMP:20260419T173211
CREATED:20260325T042354Z
LAST-MODIFIED:20260416T194217Z
UID:10003668-1786008600-1786015800@longbeachalliance.digitalchurch.app
SUMMARY:Women's Bible Study @ the Millers
DESCRIPTION:Facilitators: Colvin and Miller; Hosting Marilyn MillersContact: Marilyn Miller 562.922.2024 \nDavid- by Charles Swindoll
URL:https://longbeachalliance.digitalchurch.app/event/womens-bible-study-the-millers-212/
LOCATION:4702 Snowden Ave\, Lakewood\, CA\, United States
GEO:33.850465;-118.109399
END:VEVENT
BEGIN:VEVENT
DTSTART;TZID=America/Los_Angeles:20260806T150000
DTEND;TZID=America/Los_Angeles:20260806T220000
DTSTAMP:20260419T173211
CREATED:20260325T050904Z
LAST-MODIFIED:20260416T194217Z
UID:10003670-1786028400-1786053600@longbeachalliance.digitalchurch.app
SUMMARY:Youth End of Summer Bonfire
DESCRIPTION:
URL:https://longbeachalliance.digitalchurch.app/event/youth-end-of-summer-bonfire/
LOCATION:Huntington Beach\, CA\nUnited States
END:VEVENT
BEGIN:VEVENT
DTSTART;TZID=America/Los_Angeles:20260806T180000
DTEND;TZID=America/Los_Angeles:20260806T200000
DTSTAMP:20260419T173211
CREATED:20260325T042354Z
LAST-MODIFIED:20260416T194217Z
UID:10003669-1786039200-1786046400@longbeachalliance.digitalchurch.app
SUMMARY:Worship Team Practice
DESCRIPTION:Sanctuary Used\nContact: Scott Trickett scott@lbac.org
URL:https://longbeachalliance.digitalchurch.app/event/worship-team-practice-72/
LOCATION:Long Beach Alliance Church\, 3331 Palo Verde Ave\, Long Beach\, CA\, United States
GEO:33.817334;-118.107762
X-APPLE-STRUCTURED-LOCATION;VALUE=URI;X-ADDRESS=Long Beach Alliance Church 3331 Palo Verde Ave Long Beach CA United States;X-APPLE-RADIUS=500;X-TITLE=3331 Palo Verde Ave:geo:-118.107762,33.817334
END:VEVENT
BEGIN:VEVENT
DTSTART;TZID=America/Los_Angeles:20260806T190000
DTEND;TZID=America/Los_Angeles:20260806T210000
DTSTAMP:20260419T173211
CREATED:20260325T050904Z
LAST-MODIFIED:20260416T194217Z
UID:10003671-1786042800-1786050000@longbeachalliance.digitalchurch.app
SUMMARY:Women's Homeschool Book Discussion
DESCRIPTION:Marikka Osterman
URL:https://longbeachalliance.digitalchurch.app/event/womens-homeschool-book-discussion-10/
LOCATION:CA
END:VEVENT
END:VCALENDAR