BEGIN:VCALENDAR
VERSION:2.0
PRODID:-//Long Beach Alliance Church - ECPv6.6.4//NONSGML v1.0//EN
CALSCALE:GREGORIAN
METHOD:PUBLISH
X-WR-CALNAME:Long Beach Alliance Church
X-ORIGINAL-URL:https://longbeachalliance.digitalchurch.app
X-WR-CALDESC:Events for Long Beach Alliance Church
REFRESH-INTERVAL;VALUE=DURATION:PT1H
X-Robots-Tag:noindex
X-PUBLISHED-TTL:PT1H
BEGIN:VTIMEZONE
TZID:America/Los_Angeles
BEGIN:DAYLIGHT
TZOFFSETFROM:-0800
TZOFFSETTO:-0700
TZNAME:PDT
DTSTART:20250309T100000
END:DAYLIGHT
BEGIN:STANDARD
TZOFFSETFROM:-0700
TZOFFSETTO:-0800
TZNAME:PST
DTSTART:20251102T090000
END:STANDARD
END:VTIMEZONE
BEGIN:VEVENT
DTSTART;TZID=America/Los_Angeles:20250223T093000
DTEND;TZID=America/Los_Angeles:20250223T104500
DTSTAMP:20260425T073355
CREATED:20241018T223814Z
LAST-MODIFIED:20250223T054329Z
UID:10002031-1740303000-1740307500@longbeachalliance.digitalchurch.app
SUMMARY:Gospel Project: Children's Ministry
DESCRIPTION:Contact Meghan Brearley\, meghan@lbac.org\, for questions \nUpstairs\, Rm 105/Nursery\, and Gym used
URL:https://longbeachalliance.digitalchurch.app/event/gospel-project-childrens-ministry-74/
LOCATION:Long Beach Alliance Church\, 3331 Palo Verde Ave\, Long Beach\, CA\, United States
GEO:33.817334;-118.107762
X-APPLE-STRUCTURED-LOCATION;VALUE=URI;X-ADDRESS=Long Beach Alliance Church 3331 Palo Verde Ave Long Beach CA United States;X-APPLE-RADIUS=500;X-TITLE=3331 Palo Verde Ave:geo:-118.107762,33.817334
END:VEVENT
BEGIN:VEVENT
DTSTART;TZID=America/Los_Angeles:20250223T093000
DTEND;TZID=America/Los_Angeles:20250223T104500
DTSTAMP:20260425T073356
CREATED:20241019T234625Z
LAST-MODIFIED:20250223T054329Z
UID:10002032-1740303000-1740307500@longbeachalliance.digitalchurch.app
SUMMARY:Worship & Celebration Service
DESCRIPTION:To watch the Livestream go to YouTube.com/longbeachalliancechurch
URL:https://longbeachalliance.digitalchurch.app/event/worship-celebration-service-53/
LOCATION:YouTube.com/longbeachalliancechurch
END:VEVENT
BEGIN:VEVENT
DTSTART;TZID=America/Los_Angeles:20250223T110000
DTEND;TZID=America/Los_Angeles:20250223T120000
DTSTAMP:20260425T073356
CREATED:20250116T144922Z
LAST-MODIFIED:20250223T054329Z
UID:10002302-1740308400-1740312000@longbeachalliance.digitalchurch.app
SUMMARY:Gospel Project Leaders Meeting
DESCRIPTION:At church – using a classroom upstairs
URL:https://longbeachalliance.digitalchurch.app/event/gospel-project-leaders-meeting-4/
END:VEVENT
BEGIN:VEVENT
DTSTART;TZID=America/Los_Angeles:20250224T183000
DTEND;TZID=America/Los_Angeles:20250224T203000
DTSTAMP:20260425T073356
CREATED:20241019T234626Z
LAST-MODIFIED:20241027T220100Z
UID:10002035-1740421800-1740429000@longbeachalliance.digitalchurch.app
SUMMARY:Life Group @ Bartlebaughs
DESCRIPTION:Tricketts Facilitating\nBartlebaughs hosting
URL:https://longbeachalliance.digitalchurch.app/event/life-group-bartlebaughs-33/
LOCATION:4752 Bellflower Blvd\, Lakewood\, CA\, United States
GEO:33.850465;-118.109399
END:VEVENT
BEGIN:VEVENT
DTSTART;TZID=America/Los_Angeles:20250224T183000
DTEND;TZID=America/Los_Angeles:20250224T203000
DTSTAMP:20260425T073356
CREATED:20241029T013743Z
LAST-MODIFIED:20250224T055759Z
UID:10002070-1740421800-1740429000@longbeachalliance.digitalchurch.app
SUMMARY:Life Group @ Bartlebaughs
DESCRIPTION:Tricketts Facilitating\nBartlebaughs hosting
URL:https://longbeachalliance.digitalchurch.app/event/life-group-bartlebaughs-38/
LOCATION:4752 Bellflower Blvd\, Lakewood\, CA\, United States
GEO:33.850465;-118.109399
END:VEVENT
BEGIN:VEVENT
DTSTART;TZID=America/Los_Angeles:20250224T190000
DTEND;TZID=America/Los_Angeles:20250224T203000
DTSTAMP:20260425T073356
CREATED:20241019T234626Z
LAST-MODIFIED:20250224T055759Z
UID:10002033-1740423600-1740429000@longbeachalliance.digitalchurch.app
SUMMARY:Survivors of Incest Anonymous In-Person & Zoom Meeting
DESCRIPTION:Rm 102 used\n@ 10 people\nContact: Maryjean Cazeau 714-366-3887
URL:https://longbeachalliance.digitalchurch.app/event/survivors-of-incest-anonymous-in-person-zoom-meeting-93/
LOCATION:Long Beach Alliance Church\, 3331 Palo Verde Ave\, Long Beach\, CA\, United States
GEO:33.817334;-118.107762
X-APPLE-STRUCTURED-LOCATION;VALUE=URI;X-ADDRESS=Long Beach Alliance Church 3331 Palo Verde Ave Long Beach CA United States;X-APPLE-RADIUS=500;X-TITLE=3331 Palo Verde Ave:geo:-118.107762,33.817334
END:VEVENT
BEGIN:VEVENT
DTSTART;TZID=America/Los_Angeles:20250224T190000
DTEND;TZID=America/Los_Angeles:20250224T210000
DTSTAMP:20260425T073356
CREATED:20241019T234626Z
LAST-MODIFIED:20250113T134456Z
UID:10002034-1740423600-1740430800@longbeachalliance.digitalchurch.app
SUMMARY:Betrayal and Beyond Ministry @ the Eberharts
DESCRIPTION:Contact: Debra Eberhart 925.580.7004
URL:https://longbeachalliance.digitalchurch.app/event/betrayal-and-beyond-ministry-the-eberharts-176/
END:VEVENT
BEGIN:VEVENT
DTSTART;TZID=America/Los_Angeles:20250224T190000
DTEND;TZID=America/Los_Angeles:20250224T210000
DTSTAMP:20260425T073356
CREATED:20241023T041431Z
LAST-MODIFIED:20250224T055759Z
UID:10002044-1740423600-1740430800@longbeachalliance.digitalchurch.app
SUMMARY:Pure Desire Ministry Meeting
DESCRIPTION:Gym Used\nContactL Sam Eberhart 925.285.1295
URL:https://longbeachalliance.digitalchurch.app/event/pure-desire-ministry-meeting-92/
LOCATION:3331 Palo Verde Ave\, Long Beach\, CA\, United States
GEO:33.823943;-118.111336
END:VEVENT
BEGIN:VEVENT
DTSTART;TZID=America/Los_Angeles:20250224T190000
DTEND;TZID=America/Los_Angeles:20250224T210000
DTSTAMP:20260425T073356
CREATED:20250114T140112Z
LAST-MODIFIED:20250224T055759Z
UID:10002282-1740423600-1740430800@longbeachalliance.digitalchurch.app
SUMMARY:Betrayal and Beyond Ministry @ the Eberharts
DESCRIPTION:Contact: Debra Eberhart 925.580.7004
URL:https://longbeachalliance.digitalchurch.app/event/betrayal-and-beyond-ministry-the-eberharts-207/
END:VEVENT
BEGIN:VEVENT
DTSTART;TZID=America/Los_Angeles:20250225T100000
DTEND;TZID=America/Los_Angeles:20250225T120000
DTSTAMP:20260425T073356
CREATED:20241023T041432Z
LAST-MODIFIED:20250115T142746Z
UID:10002045-1740477600-1740484800@longbeachalliance.digitalchurch.app
SUMMARY:All Staff • Weekly Team Meeting
DESCRIPTION:
URL:https://longbeachalliance.digitalchurch.app/event/all-staff-weekly-team-meeting-84/
LOCATION:3331 Palo Verde Ave\, Long Beach\, CA\, United States
GEO:33.823943;-118.111336
END:VEVENT
BEGIN:VEVENT
DTSTART;TZID=America/Los_Angeles:20250225T190000
DTEND;TZID=America/Los_Angeles:20250225T210000
DTSTAMP:20260425T073356
CREATED:20230526T152121Z
LAST-MODIFIED:20230526T160214Z
UID:10000257-1740510000-1740517200@longbeachalliance.digitalchurch.app
SUMMARY:High School Youth Group
DESCRIPTION:
URL:https://longbeachalliance.digitalchurch.app/event/high-school-youth-group-6/2025-02-25/
CATEGORIES:Youth
END:VEVENT
BEGIN:VEVENT
DTSTART;TZID=America/Los_Angeles:20250225T190000
DTEND;TZID=America/Los_Angeles:20250225T210000
DTSTAMP:20260425T073356
CREATED:20241023T041432Z
LAST-MODIFIED:20250225T063704Z
UID:10002046-1740510000-1740517200@longbeachalliance.digitalchurch.app
SUMMARY:Men's Bible Study @ the Millers
DESCRIPTION:Facilitator: John Welliver\nContact Dave Miller 562.773.9100 dmiller002@cc.rr.com
URL:https://longbeachalliance.digitalchurch.app/event/mens-bible-study-the-millers-88/
LOCATION:4702 Snowden Ave\, Lakewood\, CA\, United States
GEO:33.850465;-118.109399
END:VEVENT
BEGIN:VEVENT
DTSTART;TZID=America/Los_Angeles:20250225T190000
DTEND;TZID=America/Los_Angeles:20250225T210000
DTSTAMP:20260425T073356
CREATED:20241023T041432Z
LAST-MODIFIED:20250225T063704Z
UID:10002047-1740510000-1740517200@longbeachalliance.digitalchurch.app
SUMMARY:Middle/High School Youth Group
DESCRIPTION:
URL:https://longbeachalliance.digitalchurch.app/event/middle-high-school-youth-group-65/
LOCATION:Long Beach Alliance Church 3331 Palo Verde Ave\, Long Beach\, CA\, United States
GEO:33.823943;-118.111336
END:VEVENT
BEGIN:VEVENT
DTSTART;TZID=America/Los_Angeles:20250225T190000
DTEND;TZID=America/Los_Angeles:20250225T220000
DTSTAMP:20260425T073356
CREATED:20241023T041432Z
LAST-MODIFIED:20250225T063704Z
UID:10002048-1740510000-1740520800@longbeachalliance.digitalchurch.app
SUMMARY:Elder Board Meeting
DESCRIPTION:
URL:https://longbeachalliance.digitalchurch.app/event/elder-board-meeting-19/
LOCATION:Long Beach Alliance Church 3331 Palo Verde Ave\, Long Beach\, CA\, United States
GEO:33.823943;-118.111336
END:VEVENT
BEGIN:VEVENT
DTSTART;TZID=America/Los_Angeles:20250226T183000
DTEND;TZID=America/Los_Angeles:20250226T203000
DTSTAMP:20260425T073356
CREATED:20241023T041432Z
LAST-MODIFIED:20250226T065850Z
UID:10002049-1740594600-1740601800@longbeachalliance.digitalchurch.app
SUMMARY:AWANA
DESCRIPTION:
URL:https://longbeachalliance.digitalchurch.app/event/awana-54/
LOCATION:3331 Palo Verde Ave\nLong Beach\, CA\, United States
END:VEVENT
BEGIN:VEVENT
DTSTART;TZID=America/Los_Angeles:20250227T093000
DTEND;TZID=America/Los_Angeles:20250227T113000
DTSTAMP:20260425T073356
CREATED:20241023T041432Z
LAST-MODIFIED:20241120T163328Z
UID:10002050-1740648600-1740655800@longbeachalliance.digitalchurch.app
SUMMARY:Women's Bible Study @ the Millers
DESCRIPTION:Facilitators: Colvin and Miller; Hosting Marilyn MillersContact: Marilyn Miller 562.922.2024 \n1 Samuel by John MacArthur
URL:https://longbeachalliance.digitalchurch.app/event/womens-bible-study-the-millers-118/
LOCATION:4702 Snowden Ave\, Lakewood\, CA\, United States
GEO:33.850465;-118.109399
END:VEVENT
BEGIN:VEVENT
DTSTART;TZID=America/Los_Angeles:20250227T093000
DTEND;TZID=America/Los_Angeles:20250227T113000
DTSTAMP:20260425T073356
CREATED:20241121T170317Z
LAST-MODIFIED:20250227T071327Z
UID:10002142-1740648600-1740655800@longbeachalliance.digitalchurch.app
SUMMARY:Women's Bible Study @ the Millers
DESCRIPTION:Facilitators: Colvin and Miller; Hosting Marilyn MillersContact: Marilyn Miller 562.922.2024 \nDavid- by Charles Swindoll
URL:https://longbeachalliance.digitalchurch.app/event/womens-bible-study-the-millers-135/
LOCATION:4702 Snowden Ave\, Lakewood\, CA\, United States
GEO:33.850465;-118.109399
END:VEVENT
BEGIN:VEVENT
DTSTART;TZID=America/Los_Angeles:20250227T183000
DTEND;TZID=America/Los_Angeles:20250227T200000
DTSTAMP:20260425T073356
CREATED:20250219T041519Z
LAST-MODIFIED:20250227T071327Z
UID:10002390-1740681000-1740686400@longbeachalliance.digitalchurch.app
SUMMARY:LBAC Night of Worship & Prayer
DESCRIPTION:Sanctuary Lobby Used
URL:https://longbeachalliance.digitalchurch.app/event/lbac-night-of-worship-prayer/
END:VEVENT
BEGIN:VEVENT
DTSTART;TZID=America/Los_Angeles:20250227T190000
DTEND;TZID=America/Los_Angeles:20250227T210000
DTSTAMP:20260425T073356
CREATED:20230526T152203Z
LAST-MODIFIED:20230526T160444Z
UID:10000359-1740682800-1740690000@longbeachalliance.digitalchurch.app
SUMMARY:Middle School Youth Group
DESCRIPTION:
URL:https://longbeachalliance.digitalchurch.app/event/middle-school-youth-group/2025-02-27/
CATEGORIES:Youth
END:VEVENT
BEGIN:VEVENT
DTSTART;TZID=America/Los_Angeles:20250227T190000
DTEND;TZID=America/Los_Angeles:20250227T210000
DTSTAMP:20260425T073356
CREATED:20241023T041433Z
LAST-MODIFIED:20250227T071328Z
UID:10002051-1740682800-1740690000@longbeachalliance.digitalchurch.app
SUMMARY:Betrayal and Beyond Ministry @ the Eberharts
DESCRIPTION:Contact: Debra Eberhart 925.580.7004
URL:https://longbeachalliance.digitalchurch.app/event/betrayal-and-beyond-ministry-the-eberharts-177/
END:VEVENT
BEGIN:VEVENT
DTSTART;TZID=America/Los_Angeles:20250227T190000
DTEND;TZID=America/Los_Angeles:20250227T210000
DTSTAMP:20260425T073356
CREATED:20250205T231825Z
LAST-MODIFIED:20250227T071328Z
UID:10002360-1740682800-1740690000@longbeachalliance.digitalchurch.app
SUMMARY:Youth Night Games
DESCRIPTION:Using whole CE facility
URL:https://longbeachalliance.digitalchurch.app/event/youth-night-games/
END:VEVENT
BEGIN:VEVENT
DTSTART;VALUE=DATE:20250228
DTEND;VALUE=DATE:20250303
DTSTAMP:20260425T073356
CREATED:20250116T144935Z
LAST-MODIFIED:20250302T080524Z
UID:10002303-1740700800-1740959999@longbeachalliance.digitalchurch.app
SUMMARY:Youth Winter Camp @ Ponderosa Pines
DESCRIPTION:Meet @ church/Leave by 1PM\, 2/28\nBack at church by 2PM\, 3/2\nContact: Hank McWatters 562.552.6531
URL:https://longbeachalliance.digitalchurch.app/event/youth-winter-camp-ponderosa-pines/
LOCATION:31324 GREEN VALLEY LAKE RD RUNNING SPRINGS\, Running Springs\, CA\, United States
GEO:34.210229;-117.110941
END:VEVENT
BEGIN:VEVENT
DTSTART;TZID=America/Los_Angeles:20250228T080000
DTEND;TZID=America/Los_Angeles:20250228T100000
DTSTAMP:20260425T073356
CREATED:20241023T041433Z
LAST-MODIFIED:20250228T072651Z
UID:10002052-1740729600-1740736800@longbeachalliance.digitalchurch.app
SUMMARY:Men's In-Person & Zoom Bible Study
DESCRIPTION:In-Person will be in Room 106Contact Bill Michel\, 714.390.7076\, for Zoom link information.
URL:https://longbeachalliance.digitalchurch.app/event/mens-in-person-zoom-bible-study-88/
END:VEVENT
BEGIN:VEVENT
DTSTART;TZID=America/Los_Angeles:20250228T193000
DTEND;TZID=America/Los_Angeles:20250228T213000
DTSTAMP:20260425T073356
CREATED:20241023T041433Z
LAST-MODIFIED:20250228T072651Z
UID:10002053-1740771000-1740778200@longbeachalliance.digitalchurch.app
SUMMARY:Betrayal and Beyond Ministry (@ Eberharts & Zoom)
DESCRIPTION:Contact: Debra Eberhart 925.580.7004
URL:https://longbeachalliance.digitalchurch.app/event/betrayal-and-beyond-ministry-eberharts-zoom-90/
END:VEVENT
BEGIN:VEVENT
DTSTART;TZID=America/Los_Angeles:20250228T200000
DTEND;TZID=America/Los_Angeles:20250228T213000
DTSTAMP:20260425T073356
CREATED:20241030T081147Z
LAST-MODIFIED:20250219T042323Z
UID:10002073-1740772800-1740778200@longbeachalliance.digitalchurch.app
SUMMARY:NA In-Person Meeting
DESCRIPTION:Rm 102\, Sanctuary or back patio used depending on size of the group; Also Kitchen\nContact: Yvonne Turco 562.230.0574
URL:https://longbeachalliance.digitalchurch.app/event/na-in-person-meeting-109/
END:VEVENT
BEGIN:VEVENT
DTSTART;TZID=America/Los_Angeles:20250302T093000
DTEND;TZID=America/Los_Angeles:20250302T104500
DTSTAMP:20260425T073356
CREATED:20241024T101442Z
LAST-MODIFIED:20250302T080524Z
UID:10002055-1740907800-1740912300@longbeachalliance.digitalchurch.app
SUMMARY:Gospel Project: Children's Ministry
DESCRIPTION:Contact Meghan Brearley\, meghan@lbac.org\, for questions \nUpstairs\, Rm 105/Nursery\, and Gym used
URL:https://longbeachalliance.digitalchurch.app/event/gospel-project-childrens-ministry-75/
LOCATION:Long Beach Alliance Church\, 3331 Palo Verde Ave\, Long Beach\, CA\, United States
GEO:33.817334;-118.107762
X-APPLE-STRUCTURED-LOCATION;VALUE=URI;X-ADDRESS=Long Beach Alliance Church 3331 Palo Verde Ave Long Beach CA United States;X-APPLE-RADIUS=500;X-TITLE=3331 Palo Verde Ave:geo:-118.107762,33.817334
END:VEVENT
BEGIN:VEVENT
DTSTART;TZID=America/Los_Angeles:20250302T093000
DTEND;TZID=America/Los_Angeles:20250302T104500
DTSTAMP:20260425T073356
CREATED:20241024T101442Z
LAST-MODIFIED:20250302T080524Z
UID:10002056-1740907800-1740912300@longbeachalliance.digitalchurch.app
SUMMARY:Worship & Celebration Service
DESCRIPTION:To watch the Livestream go to YouTube.com/longbeachalliancechurch
URL:https://longbeachalliance.digitalchurch.app/event/worship-celebration-service-54/
LOCATION:YouTube.com/longbeachalliancechurch
END:VEVENT
BEGIN:VEVENT
DTSTART;TZID=America/Los_Angeles:20250303T190000
DTEND;TZID=America/Los_Angeles:20250303T203000
DTSTAMP:20260425T073356
CREATED:20241025T163836Z
LAST-MODIFIED:20250303T082500Z
UID:10002057-1741028400-1741033800@longbeachalliance.digitalchurch.app
SUMMARY:Survivors of Incest Anonymous In-Person & Zoom Meeting
DESCRIPTION:Rm 102 used\n@ 10 people\nContact: Maryjean Cazeau 714-366-3887
URL:https://longbeachalliance.digitalchurch.app/event/survivors-of-incest-anonymous-in-person-zoom-meeting-94/
LOCATION:Long Beach Alliance Church\, 3331 Palo Verde Ave\, Long Beach\, CA\, United States
GEO:33.817334;-118.107762
X-APPLE-STRUCTURED-LOCATION;VALUE=URI;X-ADDRESS=Long Beach Alliance Church 3331 Palo Verde Ave Long Beach CA United States;X-APPLE-RADIUS=500;X-TITLE=3331 Palo Verde Ave:geo:-118.107762,33.817334
END:VEVENT
BEGIN:VEVENT
DTSTART;TZID=America/Los_Angeles:20250303T190000
DTEND;TZID=America/Los_Angeles:20250303T210000
DTSTAMP:20260425T073356
CREATED:20241025T163836Z
LAST-MODIFIED:20250113T134457Z
UID:10002058-1741028400-1741035600@longbeachalliance.digitalchurch.app
SUMMARY:Betrayal and Beyond Ministry @ the Eberharts
DESCRIPTION:Contact: Debra Eberhart 925.580.7004
URL:https://longbeachalliance.digitalchurch.app/event/betrayal-and-beyond-ministry-the-eberharts-178/
END:VEVENT
BEGIN:VEVENT
DTSTART;TZID=America/Los_Angeles:20250303T190000
DTEND;TZID=America/Los_Angeles:20250303T210000
DTSTAMP:20260425T073356
CREATED:20241026T180949Z
LAST-MODIFIED:20250303T082501Z
UID:10002059-1741028400-1741035600@longbeachalliance.digitalchurch.app
SUMMARY:Pure Desire Ministry Meeting
DESCRIPTION:Gym Used\nContactL Sam Eberhart 925.285.1295
URL:https://longbeachalliance.digitalchurch.app/event/pure-desire-ministry-meeting-93/
LOCATION:3331 Palo Verde Ave\, Long Beach\, CA\, United States
GEO:33.823943;-118.111336
END:VEVENT
END:VCALENDAR