BEGIN:VCALENDAR
VERSION:2.0
PRODID:-//Long Beach Alliance Church - ECPv6.6.4//NONSGML v1.0//EN
CALSCALE:GREGORIAN
METHOD:PUBLISH
X-ORIGINAL-URL:https://longbeachalliance.digitalchurch.app
X-WR-CALDESC:Events for Long Beach Alliance Church
REFRESH-INTERVAL;VALUE=DURATION:PT1H
X-Robots-Tag:noindex
X-PUBLISHED-TTL:PT1H
BEGIN:VTIMEZONE
TZID:America/Los_Angeles
BEGIN:DAYLIGHT
TZOFFSETFROM:-0800
TZOFFSETTO:-0700
TZNAME:PDT
DTSTART:20240310T100000
END:DAYLIGHT
BEGIN:STANDARD
TZOFFSETFROM:-0700
TZOFFSETTO:-0800
TZNAME:PST
DTSTART:20241103T090000
END:STANDARD
END:VTIMEZONE
BEGIN:VEVENT
DTSTART;TZID=America/Los_Angeles:20241101T080000
DTEND;TZID=America/Los_Angeles:20241101T100000
DTSTAMP:20260425T115545
CREATED:20240621T015924Z
LAST-MODIFIED:20241101T084107Z
UID:10001636-1730448000-1730455200@longbeachalliance.digitalchurch.app
SUMMARY:Men's In-Person & Zoom Bible Study
DESCRIPTION:In-Person will be in Room 106Contact Bill Michel\, 714.390.7076\, for Zoom link information.
URL:https://longbeachalliance.digitalchurch.app/event/mens-in-person-zoom-bible-study-71/
END:VEVENT
BEGIN:VEVENT
DTSTART;TZID=America/Los_Angeles:20241101T193000
DTEND;TZID=America/Los_Angeles:20241101T213000
DTSTAMP:20260425T115545
CREATED:20240731T185752Z
LAST-MODIFIED:20241101T084108Z
UID:10001771-1730489400-1730496600@longbeachalliance.digitalchurch.app
SUMMARY:Betrayal and Beyond Ministry (@ Eberharts & Zoom)
DESCRIPTION:Contact: Debra Eberhart 925.580.7004
URL:https://longbeachalliance.digitalchurch.app/event/betrayal-and-beyond-ministry-eberharts-zoom-73/
END:VEVENT
BEGIN:VEVENT
DTSTART;TZID=America/Los_Angeles:20241101T200000
DTEND;TZID=America/Los_Angeles:20241101T213000
DTSTAMP:20260425T115545
CREATED:20240621T015924Z
LAST-MODIFIED:20241101T084108Z
UID:10001637-1730491200-1730496600@longbeachalliance.digitalchurch.app
SUMMARY:NA In-Person Meeting
DESCRIPTION:Rm 102\, Sanctuary or back patio used depending on size of the group; Also Kitchen\nContact: Yvonne Turco 562.230.0574
URL:https://longbeachalliance.digitalchurch.app/event/na-in-person-meeting-91/
END:VEVENT
BEGIN:VEVENT
DTSTART;TZID=America/Los_Angeles:20241103T093000
DTEND;TZID=America/Los_Angeles:20241103T104500
DTSTAMP:20260425T115545
CREATED:20240621T015924Z
LAST-MODIFIED:20241103T083325Z
UID:10001638-1730626200-1730630700@longbeachalliance.digitalchurch.app
SUMMARY:Gospel Project: Children's Ministry
DESCRIPTION:Contact Meghan Brearley\, meghan@lbac.org\, for questions \nUpstairs\, Rm 105/Nursery\, and Gym used
URL:https://longbeachalliance.digitalchurch.app/event/gospel-project-childrens-ministry-58/
LOCATION:Long Beach Alliance Church\, 3331 Palo Verde Ave\, Long Beach\, CA\, United States
GEO:33.817334;-118.107762
X-APPLE-STRUCTURED-LOCATION;VALUE=URI;X-ADDRESS=Long Beach Alliance Church 3331 Palo Verde Ave Long Beach CA United States;X-APPLE-RADIUS=500;X-TITLE=3331 Palo Verde Ave:geo:-118.107762,33.817334
END:VEVENT
BEGIN:VEVENT
DTSTART;TZID=America/Los_Angeles:20241103T093000
DTEND;TZID=America/Los_Angeles:20241103T104500
DTSTAMP:20260425T115545
CREATED:20240621T015924Z
LAST-MODIFIED:20241103T083324Z
UID:10001639-1730626200-1730630700@longbeachalliance.digitalchurch.app
SUMMARY:Worship & Celebration Service
DESCRIPTION:To watch the Livestream go to YouTube.com/longbeachalliancechurch
URL:https://longbeachalliance.digitalchurch.app/event/worship-celebration-service-37/
LOCATION:YouTube.com/longbeachalliancechurch
END:VEVENT
BEGIN:VEVENT
DTSTART;TZID=America/Los_Angeles:20241103T111500
DTEND;TZID=America/Los_Angeles:20241103T121500
DTSTAMP:20260425T115545
CREATED:20240917T021842Z
LAST-MODIFIED:20241019T234504Z
UID:10001928-1730632500-1730636100@longbeachalliance.digitalchurch.app
SUMMARY:Children's Musical Practice
DESCRIPTION:Sanctuary Used\nContact: Marikka Ostermann or Traci Garber
URL:https://longbeachalliance.digitalchurch.app/event/childrens-musical-practice/
LOCATION:Long Beach Alliance Church\, 3331 Palo Verde Ave\, Long Beach\, CA\, United States
GEO:33.817334;-118.107762
X-APPLE-STRUCTURED-LOCATION;VALUE=URI;X-ADDRESS=Long Beach Alliance Church 3331 Palo Verde Ave Long Beach CA United States;X-APPLE-RADIUS=500;X-TITLE=3331 Palo Verde Ave:geo:-118.107762,33.817334
END:VEVENT
BEGIN:VEVENT
DTSTART;TZID=America/Los_Angeles:20241103T111500
DTEND;TZID=America/Los_Angeles:20241103T121500
DTSTAMP:20260425T115545
CREATED:20241010T210752Z
LAST-MODIFIED:20241022T032828Z
UID:10002008-1730632500-1730636100@longbeachalliance.digitalchurch.app
SUMMARY:Children's Musical Practice
DESCRIPTION:Sanctuary Used\nContact: Marikka Ostermann or Traci Garber
URL:https://longbeachalliance.digitalchurch.app/event/childrens-musical-practice-9/
LOCATION:Long Beach Alliance Church\, 3331 Palo Verde Ave\, Long Beach\, CA\, United States
GEO:33.817334;-118.107762
X-APPLE-STRUCTURED-LOCATION;VALUE=URI;X-ADDRESS=Long Beach Alliance Church 3331 Palo Verde Ave Long Beach CA United States;X-APPLE-RADIUS=500;X-TITLE=3331 Palo Verde Ave:geo:-118.107762,33.817334
END:VEVENT
BEGIN:VEVENT
DTSTART;TZID=America/Los_Angeles:20241103T111500
DTEND;TZID=America/Los_Angeles:20241103T121500
DTSTAMP:20260425T115545
CREATED:20241021T005447Z
LAST-MODIFIED:20241021T005447Z
UID:10002036-1730632500-1730636100@longbeachalliance.digitalchurch.app
SUMMARY:Children's Musical Practice
DESCRIPTION:Sanctuary Used\nContact: Marikka Ostermann or Traci Garber
URL:https://longbeachalliance.digitalchurch.app/event/childrens-musical-practice-14/
LOCATION:Long Beach Alliance Church\, 3331 Palo Verde Ave\, Long Beach\, CA\, United States
GEO:33.817334;-118.107762
X-APPLE-STRUCTURED-LOCATION;VALUE=URI;X-ADDRESS=Long Beach Alliance Church 3331 Palo Verde Ave Long Beach CA United States;X-APPLE-RADIUS=500;X-TITLE=3331 Palo Verde Ave:geo:-118.107762,33.817334
END:VEVENT
BEGIN:VEVENT
DTSTART;TZID=America/Los_Angeles:20241103T111500
DTEND;TZID=America/Los_Angeles:20241103T121500
DTSTAMP:20260425T115545
CREATED:20241022T032828Z
LAST-MODIFIED:20241022T032828Z
UID:10002038-1730632500-1730636100@longbeachalliance.digitalchurch.app
SUMMARY:Children's Musical Practice
DESCRIPTION:Sanctuary Used\nContact: Marikka Ostermann or Traci Garber
URL:https://longbeachalliance.digitalchurch.app/event/childrens-musical-practice-15/
LOCATION:Long Beach Alliance Church\, 3331 Palo Verde Ave\, Long Beach\, CA\, United States
GEO:33.817334;-118.107762
X-APPLE-STRUCTURED-LOCATION;VALUE=URI;X-ADDRESS=Long Beach Alliance Church 3331 Palo Verde Ave Long Beach CA United States;X-APPLE-RADIUS=500;X-TITLE=3331 Palo Verde Ave:geo:-118.107762,33.817334
END:VEVENT
BEGIN:VEVENT
DTSTART;TZID=America/Los_Angeles:20241103T130000
DTEND;TZID=America/Los_Angeles:20241103T160000
DTSTAMP:20260425T115545
CREATED:20240829T061120Z
LAST-MODIFIED:20241007T143100Z
UID:10001885-1730638800-1730649600@longbeachalliance.digitalchurch.app
SUMMARY:Vision School- Missions Training
DESCRIPTION:Additional Set up/Tear Down: 12:30PM/4:30PM\nRm 203 used (a/v capabilities needed)\n@15 people expected \nContact: Vince Palacios (562) 370-0881  svpalacios6@gmail.com
URL:https://longbeachalliance.digitalchurch.app/event/vision-school-missions-training-7/
LOCATION:Long Beach Alliance Church\, 3331 Palo Verde Ave\, Long Beach\, CA\, United States
GEO:33.817334;-118.107762
X-APPLE-STRUCTURED-LOCATION;VALUE=URI;X-ADDRESS=Long Beach Alliance Church 3331 Palo Verde Ave Long Beach CA United States;X-APPLE-RADIUS=500;X-TITLE=3331 Palo Verde Ave:geo:-118.107762,33.817334
END:VEVENT
BEGIN:VEVENT
DTSTART;TZID=America/Los_Angeles:20241104T190000
DTEND;TZID=America/Los_Angeles:20241104T203000
DTSTAMP:20260425T115545
CREATED:20240622T120417Z
LAST-MODIFIED:20240815T113427Z
UID:10001640-1730746800-1730752200@longbeachalliance.digitalchurch.app
SUMMARY:Survivors of Incest Anonymous In-Person & Zoom Meeting
DESCRIPTION:Rm 206 used\n@ 10 people\nContact: Maryjean Cazeau 714-366-3887
URL:https://longbeachalliance.digitalchurch.app/event/survivors-of-incest-anonymous-in-person-zoom-meeting-59/
LOCATION:Long Beach Alliance Church\, 3331 Palo Verde Ave\, Long Beach\, CA\, United States
GEO:33.817334;-118.107762
X-APPLE-STRUCTURED-LOCATION;VALUE=URI;X-ADDRESS=Long Beach Alliance Church 3331 Palo Verde Ave Long Beach CA United States;X-APPLE-RADIUS=500;X-TITLE=3331 Palo Verde Ave:geo:-118.107762,33.817334
END:VEVENT
BEGIN:VEVENT
DTSTART;TZID=America/Los_Angeles:20241104T190000
DTEND;TZID=America/Los_Angeles:20241104T203000
DTSTAMP:20260425T115545
CREATED:20240817T011544Z
LAST-MODIFIED:20241104T100035Z
UID:10001826-1730746800-1730752200@longbeachalliance.digitalchurch.app
SUMMARY:Survivors of Incest Anonymous In-Person & Zoom Meeting
DESCRIPTION:Rm 102 used\n@ 10 people\nContact: Maryjean Cazeau 714-366-3887
URL:https://longbeachalliance.digitalchurch.app/event/survivors-of-incest-anonymous-in-person-zoom-meeting-77/
LOCATION:Long Beach Alliance Church\, 3331 Palo Verde Ave\, Long Beach\, CA\, United States
GEO:33.817334;-118.107762
X-APPLE-STRUCTURED-LOCATION;VALUE=URI;X-ADDRESS=Long Beach Alliance Church 3331 Palo Verde Ave Long Beach CA United States;X-APPLE-RADIUS=500;X-TITLE=3331 Palo Verde Ave:geo:-118.107762,33.817334
END:VEVENT
BEGIN:VEVENT
DTSTART;TZID=America/Los_Angeles:20241104T190000
DTEND;TZID=America/Los_Angeles:20241104T210000
DTSTAMP:20260425T115545
CREATED:20240622T120417Z
LAST-MODIFIED:20241104T100035Z
UID:10001641-1730746800-1730754000@longbeachalliance.digitalchurch.app
SUMMARY:Pure Desire Ministry Meeting
DESCRIPTION:Gym Used\nContactL Sam Eberhart 925.285.1295
URL:https://longbeachalliance.digitalchurch.app/event/pure-desire-ministry-meeting-76/
LOCATION:3331 Palo Verde Ave\, Long Beach\, CA\, United States
GEO:33.823943;-118.111336
END:VEVENT
BEGIN:VEVENT
DTSTART;TZID=America/Los_Angeles:20241104T190000
DTEND;TZID=America/Los_Angeles:20241104T210000
DTSTAMP:20260425T115545
CREATED:20240731T185753Z
LAST-MODIFIED:20241104T100035Z
UID:10001772-1730746800-1730754000@longbeachalliance.digitalchurch.app
SUMMARY:Betrayal and Beyond Ministry @ the Eberharts
DESCRIPTION:Contact: Debra Eberhart 925.580.7004
URL:https://longbeachalliance.digitalchurch.app/event/betrayal-and-beyond-ministry-the-eberharts-149/
END:VEVENT
BEGIN:VEVENT
DTSTART;TZID=America/Los_Angeles:20241105T140000
DTEND;TZID=America/Los_Angeles:20241105T160000
DTSTAMP:20260425T115545
CREATED:20240622T120417Z
LAST-MODIFIED:20240730T082445Z
UID:10001642-1730815200-1730822400@longbeachalliance.digitalchurch.app
SUMMARY:All Staff • Weekly Team Meeting
DESCRIPTION:
URL:https://longbeachalliance.digitalchurch.app/event/all-staff-weekly-team-meeting-65/
LOCATION:3331 Palo Verde Ave\, Long Beach\, CA\, United States
GEO:33.823943;-118.111336
END:VEVENT
BEGIN:VEVENT
DTSTART;TZID=America/Los_Angeles:20241105T140000
DTEND;TZID=America/Los_Angeles:20241105T160000
DTSTAMP:20260425T115545
CREATED:20240812T015716Z
LAST-MODIFIED:20241001T013118Z
UID:10001805-1730815200-1730822400@longbeachalliance.digitalchurch.app
SUMMARY:All Staff • Weekly Team Meeting
DESCRIPTION:
URL:https://longbeachalliance.digitalchurch.app/event/all-staff-weekly-team-meeting-72/
LOCATION:3331 Palo Verde Ave\, Long Beach\, CA\, United States
GEO:33.823943;-118.111336
END:VEVENT
BEGIN:VEVENT
DTSTART;TZID=America/Los_Angeles:20241105T190000
DTEND;TZID=America/Los_Angeles:20241105T210000
DTSTAMP:20260425T115545
CREATED:20230526T152121Z
LAST-MODIFIED:20230526T160214Z
UID:10000241-1730833200-1730840400@longbeachalliance.digitalchurch.app
SUMMARY:High School Youth Group
DESCRIPTION:
URL:https://longbeachalliance.digitalchurch.app/event/high-school-youth-group-6/2024-11-05/
CATEGORIES:Youth
END:VEVENT
BEGIN:VEVENT
DTSTART;TZID=America/Los_Angeles:20241105T190000
DTEND;TZID=America/Los_Angeles:20241105T210000
DTSTAMP:20260425T115545
CREATED:20240622T120417Z
LAST-MODIFIED:20241105T102448Z
UID:10001644-1730833200-1730840400@longbeachalliance.digitalchurch.app
SUMMARY:Middle/High School Youth Group
DESCRIPTION:
URL:https://longbeachalliance.digitalchurch.app/event/middle-high-school-youth-group-50/
LOCATION:Long Beach Alliance Church 3331 Palo Verde Ave\, Long Beach\, CA\, United States
GEO:33.823943;-118.111336
END:VEVENT
BEGIN:VEVENT
DTSTART;TZID=America/Los_Angeles:20241105T190000
DTEND;TZID=America/Los_Angeles:20241105T210000
DTSTAMP:20260425T115545
CREATED:20240623T195144Z
LAST-MODIFIED:20241105T102448Z
UID:10001645-1730833200-1730840400@longbeachalliance.digitalchurch.app
SUMMARY:Men's Bible Study @ the Millers
DESCRIPTION:Facilitator: John Welliver\nContact Dave Miller 562.773.9100 dmiller002@cc.rr.com
URL:https://longbeachalliance.digitalchurch.app/event/mens-bible-study-the-millers-72/
LOCATION:4702 Snowden Ave\, Lakewood\, CA\, United States
GEO:33.850465;-118.109399
END:VEVENT
BEGIN:VEVENT
DTSTART;TZID=America/Los_Angeles:20241105T190000
DTEND;TZID=America/Los_Angeles:20241105T210000
DTSTAMP:20260425T115545
CREATED:20240623T195144Z
LAST-MODIFIED:20240730T082445Z
UID:10001646-1730833200-1730840400@longbeachalliance.digitalchurch.app
SUMMARY:Betrayal and Beyond Ministry @ the Eberharts
DESCRIPTION:Contact: Debra Eberhart 925.580.7004
URL:https://longbeachalliance.digitalchurch.app/event/betrayal-and-beyond-ministry-the-eberharts-125/
END:VEVENT
BEGIN:VEVENT
DTSTART;TZID=America/Los_Angeles:20241105T190000
DTEND;TZID=America/Los_Angeles:20241105T220000
DTSTAMP:20260425T115545
CREATED:20240622T120417Z
LAST-MODIFIED:20241105T102448Z
UID:10001643-1730833200-1730844000@longbeachalliance.digitalchurch.app
SUMMARY:Governing Board In-Person Meeting (2nd Tuesday Night of the Month)
DESCRIPTION:
URL:https://longbeachalliance.digitalchurch.app/event/governing-board-in-person-meeting-2nd-tuesday-night-of-the-month-14/
LOCATION:3331 Palo Verde Ave\nLong Beach CA 90808
END:VEVENT
BEGIN:VEVENT
DTSTART;TZID=America/Los_Angeles:20241106T183000
DTEND;TZID=America/Los_Angeles:20241106T203000
DTSTAMP:20260425T115545
CREATED:20240623T195145Z
LAST-MODIFIED:20240730T082445Z
UID:10001647-1730917800-1730925000@longbeachalliance.digitalchurch.app
SUMMARY:Betrayal and Beyond Ministry (@ Eberharts & Zoom)
DESCRIPTION:Contact: Debra Eberhart 925.580.7004
URL:https://longbeachalliance.digitalchurch.app/event/betrayal-and-beyond-ministry-eberharts-zoom-55/
END:VEVENT
BEGIN:VEVENT
DTSTART;TZID=America/Los_Angeles:20241106T183000
DTEND;TZID=America/Los_Angeles:20241106T203000
DTSTAMP:20260425T115545
CREATED:20240731T185754Z
LAST-MODIFIED:20241106T104747Z
UID:10001773-1730917800-1730925000@longbeachalliance.digitalchurch.app
SUMMARY:AWANA
DESCRIPTION:
URL:https://longbeachalliance.digitalchurch.app/event/awana-41/
LOCATION:3331 Palo Verde Ave\nLong Beach\, CA\, United States
END:VEVENT
BEGIN:VEVENT
DTSTART;TZID=America/Los_Angeles:20241107T093000
DTEND;TZID=America/Los_Angeles:20241107T113000
DTSTAMP:20260425T115545
CREATED:20240623T195145Z
LAST-MODIFIED:20240820T013618Z
UID:10001648-1730971800-1730979000@longbeachalliance.digitalchurch.app
SUMMARY:Women's Bible Study @ the Millers
DESCRIPTION:Facilitators: Colvin and Miller; Hosting Marilyn MillersContact: Marilyn Miller 562.922.2024 \nMoses by Charles Swindoll
URL:https://longbeachalliance.digitalchurch.app/event/womens-bible-study-the-millers-86/
LOCATION:4702 Snowden Ave\, Lakewood\, CA\, United States
GEO:33.850465;-118.109399
END:VEVENT
BEGIN:VEVENT
DTSTART;TZID=America/Los_Angeles:20241107T093000
DTEND;TZID=America/Los_Angeles:20241107T113000
DTSTAMP:20260425T115545
CREATED:20240821T015829Z
LAST-MODIFIED:20241107T110948Z
UID:10001853-1730971800-1730979000@longbeachalliance.digitalchurch.app
SUMMARY:Women's Bible Study @ the Millers
DESCRIPTION:Facilitators: Colvin and Miller; Hosting Marilyn MillersContact: Marilyn Miller 562.922.2024 \n1 Samuel by John MacArthur
URL:https://longbeachalliance.digitalchurch.app/event/womens-bible-study-the-millers-102/
LOCATION:4702 Snowden Ave\, Lakewood\, CA\, United States
GEO:33.850465;-118.109399
END:VEVENT
BEGIN:VEVENT
DTSTART;TZID=America/Los_Angeles:20241107T190000
DTEND;TZID=America/Los_Angeles:20241107T210000
DTSTAMP:20260425T115545
CREATED:20230526T152203Z
LAST-MODIFIED:20230526T160444Z
UID:10000343-1731006000-1731013200@longbeachalliance.digitalchurch.app
SUMMARY:Middle School Youth Group
DESCRIPTION:
URL:https://longbeachalliance.digitalchurch.app/event/middle-school-youth-group/2024-11-07/
CATEGORIES:Youth
END:VEVENT
BEGIN:VEVENT
DTSTART;TZID=America/Los_Angeles:20241107T190000
DTEND;TZID=America/Los_Angeles:20241107T210000
DTSTAMP:20260425T115545
CREATED:20240625T080242Z
LAST-MODIFIED:20241107T110948Z
UID:10001650-1731006000-1731013200@longbeachalliance.digitalchurch.app
SUMMARY:Betrayal and Beyond Ministry @ the Eberharts
DESCRIPTION:Contact: Debra Eberhart 925.580.7004
URL:https://longbeachalliance.digitalchurch.app/event/betrayal-and-beyond-ministry-the-eberharts-126/
END:VEVENT
BEGIN:VEVENT
DTSTART;TZID=America/Los_Angeles:20241108T080000
DTEND;TZID=America/Los_Angeles:20241108T100000
DTSTAMP:20260425T115545
CREATED:20240625T080242Z
LAST-MODIFIED:20241108T113457Z
UID:10001651-1731052800-1731060000@longbeachalliance.digitalchurch.app
SUMMARY:Men's In-Person & Zoom Bible Study
DESCRIPTION:In-Person will be in Room 106Contact Bill Michel\, 714.390.7076\, for Zoom link information.
URL:https://longbeachalliance.digitalchurch.app/event/mens-in-person-zoom-bible-study-72/
END:VEVENT
BEGIN:VEVENT
DTSTART;TZID=America/Los_Angeles:20241108T193000
DTEND;TZID=America/Los_Angeles:20241108T213000
DTSTAMP:20260425T115545
CREATED:20240731T185754Z
LAST-MODIFIED:20241108T113457Z
UID:10001774-1731094200-1731101400@longbeachalliance.digitalchurch.app
SUMMARY:Betrayal and Beyond Ministry (@ Eberharts & Zoom)
DESCRIPTION:Contact: Debra Eberhart 925.580.7004
URL:https://longbeachalliance.digitalchurch.app/event/betrayal-and-beyond-ministry-eberharts-zoom-74/
END:VEVENT
BEGIN:VEVENT
DTSTART;TZID=America/Los_Angeles:20241108T200000
DTEND;TZID=America/Los_Angeles:20241108T213000
DTSTAMP:20260425T115545
CREATED:20240625T080243Z
LAST-MODIFIED:20241108T113457Z
UID:10001652-1731096000-1731101400@longbeachalliance.digitalchurch.app
SUMMARY:NA In-Person Meeting
DESCRIPTION:Rm 102\, Sanctuary or back patio used depending on size of the group; Also Kitchen\nContact: Yvonne Turco 562.230.0574
URL:https://longbeachalliance.digitalchurch.app/event/na-in-person-meeting-92/
END:VEVENT
END:VCALENDAR