BEGIN:VCALENDAR
VERSION:2.0
PRODID:-//Long Beach Alliance Church - ECPv6.6.4//NONSGML v1.0//EN
CALSCALE:GREGORIAN
METHOD:PUBLISH
X-ORIGINAL-URL:https://longbeachalliance.digitalchurch.app
X-WR-CALDESC:Events for Long Beach Alliance Church
REFRESH-INTERVAL;VALUE=DURATION:PT1H
X-Robots-Tag:noindex
X-PUBLISHED-TTL:PT1H
BEGIN:VTIMEZONE
TZID:America/Los_Angeles
BEGIN:DAYLIGHT
TZOFFSETFROM:-0800
TZOFFSETTO:-0700
TZNAME:PDT
DTSTART:20250309T100000
END:DAYLIGHT
BEGIN:STANDARD
TZOFFSETFROM:-0700
TZOFFSETTO:-0800
TZNAME:PST
DTSTART:20251102T090000
END:STANDARD
END:VTIMEZONE
BEGIN:VEVENT
DTSTART;TZID=America/Los_Angeles:20250612T093000
DTEND;TZID=America/Los_Angeles:20250612T113000
DTSTAMP:20260420T011745
CREATED:20250130T210824Z
LAST-MODIFIED:20250612T131000Z
UID:10002347-1749720600-1749727800@longbeachalliance.digitalchurch.app
SUMMARY:Women's Bible Study @ the Millers
DESCRIPTION:Facilitators: Colvin and Miller; Hosting Marilyn MillersContact: Marilyn Miller 562.922.2024 \nDavid- by Charles Swindoll
URL:https://longbeachalliance.digitalchurch.app/event/womens-bible-study-the-millers-150/
LOCATION:4702 Snowden Ave\, Lakewood\, CA\, United States
GEO:33.850465;-118.109399
END:VEVENT
BEGIN:VEVENT
DTSTART;TZID=America/Los_Angeles:20250612T190000
DTEND;TZID=America/Los_Angeles:20250612T210000
DTSTAMP:20260420T011745
CREATED:20250130T210824Z
LAST-MODIFIED:20250612T131000Z
UID:10002348-1749754800-1749762000@longbeachalliance.digitalchurch.app
SUMMARY:Betrayal and Beyond Ministry @ the Eberharts
DESCRIPTION:Contact: Debra Eberhart 925.580.7004
URL:https://longbeachalliance.digitalchurch.app/event/betrayal-and-beyond-ministry-the-eberharts-225/
LOCATION:CA
END:VEVENT
BEGIN:VEVENT
DTSTART;TZID=America/Los_Angeles:20250613T080000
DTEND;TZID=America/Los_Angeles:20250613T100000
DTSTAMP:20260420T011745
CREATED:20250131T213535Z
LAST-MODIFIED:20250613T132838Z
UID:10002349-1749801600-1749808800@longbeachalliance.digitalchurch.app
SUMMARY:Men's In-Person & Zoom Bible Study
DESCRIPTION:In-Person will be in Room 106Contact Bill Michel\, 714.390.7076\, for Zoom link information.
URL:https://longbeachalliance.digitalchurch.app/event/mens-in-person-zoom-bible-study-103/
LOCATION:CA
END:VEVENT
BEGIN:VEVENT
DTSTART;TZID=America/Los_Angeles:20250613T193000
DTEND;TZID=America/Los_Angeles:20250613T213000
DTSTAMP:20260420T011745
CREATED:20250131T213535Z
LAST-MODIFIED:20250613T132838Z
UID:10002350-1749843000-1749850200@longbeachalliance.digitalchurch.app
SUMMARY:Betrayal and Beyond Ministry (@ Eberharts & Zoom)
DESCRIPTION:Contact: Debra Eberhart 925.580.7004
URL:https://longbeachalliance.digitalchurch.app/event/betrayal-and-beyond-ministry-eberharts-zoom-105/
LOCATION:CA
END:VEVENT
BEGIN:VEVENT
DTSTART;TZID=America/Los_Angeles:20250613T200000
DTEND;TZID=America/Los_Angeles:20250613T213000
DTSTAMP:20260420T011745
CREATED:20250201T220330Z
LAST-MODIFIED:20250219T042701Z
UID:10002351-1749844800-1749850200@longbeachalliance.digitalchurch.app
SUMMARY:NA In-Person Meeting
DESCRIPTION:Rm 102\, Sanctuary or back patio used depending on size of the group; Also Kitchen\nContact: Yvonne Turco 562.230.0574
URL:https://longbeachalliance.digitalchurch.app/event/na-in-person-meeting-123/
LOCATION:CA
END:VEVENT
BEGIN:VEVENT
DTSTART;TZID=America/Los_Angeles:20250613T200000
DTEND;TZID=America/Los_Angeles:20250613T213000
DTSTAMP:20260420T011745
CREATED:20250312T113409Z
LAST-MODIFIED:20250613T132838Z
UID:10002477-1749844800-1749850200@longbeachalliance.digitalchurch.app
SUMMARY:NA In-Person Meeting
DESCRIPTION:Additional Set up/Tear Down: 7PM/10:30PM\nRm 102 and Kitchen used (may use Gym or Back patio if group is large)\nContact: \nMaryjean Cazeau 714.366.3887\nYvonne Turco 562.230.0574
URL:https://longbeachalliance.digitalchurch.app/event/na-in-person-meeting-139/
LOCATION:CA
END:VEVENT
BEGIN:VEVENT
DTSTART;TZID=America/Los_Angeles:20250614T080000
DTEND;TZID=America/Los_Angeles:20250614T093000
DTSTAMP:20260420T011745
CREATED:20250201T220330Z
LAST-MODIFIED:20250614T140430Z
UID:10002352-1749888000-1749893400@longbeachalliance.digitalchurch.app
SUMMARY:Men's Fellowship Breakfast
DESCRIPTION:Additional time needed: 6AM-10AM\nGym Used\n@ 50 people expected\nContact: John Moses 562.755.0920
URL:https://longbeachalliance.digitalchurch.app/event/mens-fellowship-breakfast-20/
LOCATION:Long Beach Alliance Church\, Palo Verde Avenue\, Long Beach Gym
END:VEVENT
BEGIN:VEVENT
DTSTART;TZID=America/Los_Angeles:20250614T090000
DTEND;TZID=America/Los_Angeles:20250614T103000
DTSTAMP:20260420T011745
CREATED:20250202T224443Z
LAST-MODIFIED:20250603T093946Z
UID:10002353-1749891600-1749897000@longbeachalliance.digitalchurch.app
SUMMARY:Deaconess Meeting
DESCRIPTION:
URL:https://longbeachalliance.digitalchurch.app/event/deaconess-meeting-22/
LOCATION:CA
END:VEVENT
BEGIN:VEVENT
DTSTART;TZID=America/Los_Angeles:20250615T093000
DTEND;TZID=America/Los_Angeles:20250615T104500
DTSTAMP:20260420T011745
CREATED:20250202T224443Z
LAST-MODIFIED:20250615T142449Z
UID:10002354-1749979800-1749984300@longbeachalliance.digitalchurch.app
SUMMARY:Worship & Celebration Service
DESCRIPTION:To watch the Livestream go to YouTube.com/longbeachalliancechurch
URL:https://longbeachalliance.digitalchurch.app/event/worship-celebration-service-69/
LOCATION:YouTube.com/longbeachalliancechurch
END:VEVENT
BEGIN:VEVENT
DTSTART;TZID=America/Los_Angeles:20250615T093000
DTEND;TZID=America/Los_Angeles:20250615T104500
DTSTAMP:20260420T011745
CREATED:20250204T231154Z
LAST-MODIFIED:20250615T142449Z
UID:10002356-1749979800-1749984300@longbeachalliance.digitalchurch.app
SUMMARY:Gospel Project: Children's Ministry
DESCRIPTION:Contact Meghan Brearley\, meghan@lbac.org\, for questions \nUpstairs\, Rm 105/Nursery\, and Gym used
URL:https://longbeachalliance.digitalchurch.app/event/gospel-project-childrens-ministry-90/
LOCATION:Long Beach Alliance Church\, 3331 Palo Verde Ave\, Long Beach\, CA\, United States
GEO:33.817334;-118.107762
X-APPLE-STRUCTURED-LOCATION;VALUE=URI;X-ADDRESS=Long Beach Alliance Church 3331 Palo Verde Ave Long Beach CA United States;X-APPLE-RADIUS=500;X-TITLE=3331 Palo Verde Ave:geo:-118.107762,33.817334
END:VEVENT
BEGIN:VEVENT
DTSTART;TZID=America/Los_Angeles:20250615T104500
DTEND;TZID=America/Los_Angeles:20250615T113000
DTSTAMP:20260420T011745
CREATED:20250227T071018Z
LAST-MODIFIED:20250615T142449Z
UID:10002431-1749984300-1749987000@longbeachalliance.digitalchurch.app
SUMMARY:VBS Shirt Pick-Up
DESCRIPTION:
URL:https://longbeachalliance.digitalchurch.app/event/vbs-shirt-pick-up-5/
LOCATION:Long Beach Alliance Church\, 3331 Palo Verde Ave\, Long Beach\, CA\, United States
GEO:33.817334;-118.107762
X-APPLE-STRUCTURED-LOCATION;VALUE=URI;X-ADDRESS=Long Beach Alliance Church 3331 Palo Verde Ave Long Beach CA United States;X-APPLE-RADIUS=500;X-TITLE=3331 Palo Verde Ave:geo:-118.107762,33.817334
END:VEVENT
BEGIN:VEVENT
DTSTART;TZID=America/Los_Angeles:20250615T110000
DTEND;TZID=America/Los_Angeles:20250615T120000
DTSTAMP:20260420T011745
CREATED:20250523T002808Z
LAST-MODIFIED:20250615T142450Z
UID:10002650-1749985200-1749988800@longbeachalliance.digitalchurch.app
SUMMARY:VBS Worship Crew Practice
DESCRIPTION:in the gym
URL:https://longbeachalliance.digitalchurch.app/event/vbs-worship-crew-practice-7/
LOCATION:CA
END:VEVENT
BEGIN:VEVENT
DTSTART;TZID=America/Los_Angeles:20250616T183000
DTEND;TZID=America/Los_Angeles:20250616T200000
DTSTAMP:20260420T011745
CREATED:20250205T232341Z
LAST-MODIFIED:20250616T150516Z
UID:10002362-1750098600-1750104000@longbeachalliance.digitalchurch.app
SUMMARY:Nominating Committee Meeting #1
DESCRIPTION:
URL:https://longbeachalliance.digitalchurch.app/event/nominating-committee-meeting-1-2/
LOCATION:3331 Palo Verde Ave\nLong Beach\, CA\, United States
END:VEVENT
BEGIN:VEVENT
DTSTART;TZID=America/Los_Angeles:20250616T190000
DTEND;TZID=America/Los_Angeles:20250616T203000
DTSTAMP:20260420T011745
CREATED:20250204T231154Z
LAST-MODIFIED:20250616T150516Z
UID:10002357-1750100400-1750105800@longbeachalliance.digitalchurch.app
SUMMARY:Survivors of Incest Anonymous In-Person & Zoom Meeting
DESCRIPTION:Rm 102 used\n@ 10 people\nContact: Maryjean Cazeau 714-366-3887
URL:https://longbeachalliance.digitalchurch.app/event/survivors-of-incest-anonymous-in-person-zoom-meeting-109/
LOCATION:Long Beach Alliance Church\, 3331 Palo Verde Ave\, Long Beach\, CA\, United States
GEO:33.817334;-118.107762
X-APPLE-STRUCTURED-LOCATION;VALUE=URI;X-ADDRESS=Long Beach Alliance Church 3331 Palo Verde Ave Long Beach CA United States;X-APPLE-RADIUS=500;X-TITLE=3331 Palo Verde Ave:geo:-118.107762,33.817334
END:VEVENT
BEGIN:VEVENT
DTSTART;TZID=America/Los_Angeles:20250616T190000
DTEND;TZID=America/Los_Angeles:20250616T210000
DTSTAMP:20260420T011745
CREATED:20250204T231155Z
LAST-MODIFIED:20250616T150516Z
UID:10002358-1750100400-1750107600@longbeachalliance.digitalchurch.app
SUMMARY:Pure Desire Ministry Meeting
DESCRIPTION:Gym Used\nContactL Sam Eberhart 925.285.1295
URL:https://longbeachalliance.digitalchurch.app/event/pure-desire-ministry-meeting-108/
LOCATION:3331 Palo Verde Ave\, Long Beach\, CA\, United States
GEO:33.823943;-118.111336
END:VEVENT
BEGIN:VEVENT
DTSTART;TZID=America/Los_Angeles:20250616T190000
DTEND;TZID=America/Los_Angeles:20250616T210000
DTSTAMP:20260420T011745
CREATED:20250205T232340Z
LAST-MODIFIED:20250616T150516Z
UID:10002361-1750100400-1750107600@longbeachalliance.digitalchurch.app
SUMMARY:Betrayal and Beyond Ministry @ the Eberharts
DESCRIPTION:Contact: Debra Eberhart 925.580.7004
URL:https://longbeachalliance.digitalchurch.app/event/betrayal-and-beyond-ministry-the-eberharts-226/
LOCATION:CA
END:VEVENT
BEGIN:VEVENT
DTSTART;TZID=America/Los_Angeles:20250617T133000
DTEND;TZID=America/Los_Angeles:20250617T143000
DTSTAMP:20260420T011745
CREATED:20250523T002809Z
LAST-MODIFIED:20250616T150516Z
UID:10002651-1750167000-1750170600@longbeachalliance.digitalchurch.app
SUMMARY:VBS Worship Crew Practice
DESCRIPTION:in the gym
URL:https://longbeachalliance.digitalchurch.app/event/vbs-worship-crew-practice-8/
LOCATION:CA
END:VEVENT
BEGIN:VEVENT
DTSTART;TZID=America/Los_Angeles:20250617T140000
DTEND;TZID=America/Los_Angeles:20250617T160000
DTSTAMP:20260420T011745
CREATED:20250206T234158Z
LAST-MODIFIED:20250616T150516Z
UID:10002363-1750168800-1750176000@longbeachalliance.digitalchurch.app
SUMMARY:All Staff • Weekly Team Meeting
DESCRIPTION:
URL:https://longbeachalliance.digitalchurch.app/event/all-staff-weekly-team-meeting-97/
LOCATION:3331 Palo Verde Ave\, Long Beach\, CA\, United States
GEO:33.823943;-118.111336
END:VEVENT
BEGIN:VEVENT
DTSTART;TZID=America/Los_Angeles:20250617T140000
DTEND;TZID=America/Los_Angeles:20250617T170000
DTSTAMP:20260420T011745
CREATED:20250227T071030Z
LAST-MODIFIED:20250616T150517Z
UID:10002432-1750168800-1750179600@longbeachalliance.digitalchurch.app
SUMMARY:VBS Shirt Pick-Up
DESCRIPTION:
URL:https://longbeachalliance.digitalchurch.app/event/vbs-shirt-pick-up-6/
LOCATION:Long Beach Alliance Church\, 3331 Palo Verde Ave\, Long Beach\, CA\, United States
GEO:33.817334;-118.107762
X-APPLE-STRUCTURED-LOCATION;VALUE=URI;X-ADDRESS=Long Beach Alliance Church 3331 Palo Verde Ave Long Beach CA United States;X-APPLE-RADIUS=500;X-TITLE=3331 Palo Verde Ave:geo:-118.107762,33.817334
END:VEVENT
BEGIN:VEVENT
DTSTART;TZID=America/Los_Angeles:20250617T190000
DTEND;TZID=America/Los_Angeles:20250617T210000
DTSTAMP:20260420T011745
CREATED:20250208T000816Z
LAST-MODIFIED:20250616T150517Z
UID:10002365-1750186800-1750194000@longbeachalliance.digitalchurch.app
SUMMARY:Men's Bible Study @ the Millers
DESCRIPTION:Facilitator: John Welliver\nContact Dave Miller 562.773.9100 dmiller002@cc.rr.com
URL:https://longbeachalliance.digitalchurch.app/event/mens-bible-study-the-millers-104/
LOCATION:4702 Snowden Ave\, Lakewood\, CA\, United States
GEO:33.850465;-118.109399
END:VEVENT
BEGIN:VEVENT
DTSTART;TZID=America/Los_Angeles:20250617T190000
DTEND;TZID=America/Los_Angeles:20250617T210000
DTSTAMP:20260420T011745
CREATED:20250209T003136Z
LAST-MODIFIED:20250616T150517Z
UID:10002366-1750186800-1750194000@longbeachalliance.digitalchurch.app
SUMMARY:Middle/High School Youth Group
DESCRIPTION:
URL:https://longbeachalliance.digitalchurch.app/event/middle-high-school-youth-group-81/
LOCATION:Long Beach Alliance Church 3331 Palo Verde Ave\, Long Beach\, CA\, United States
GEO:33.823943;-118.111336
END:VEVENT
BEGIN:VEVENT
DTSTART;TZID=America/Los_Angeles:20250617T190000
DTEND;TZID=America/Los_Angeles:20250617T220000
DTSTAMP:20260420T011745
CREATED:20250208T000815Z
LAST-MODIFIED:20250520T172149Z
UID:10002364-1750186800-1750197600@longbeachalliance.digitalchurch.app
SUMMARY:Governing Board In-Person Meeting (2nd Tuesday Night of the Month)
DESCRIPTION:
URL:https://longbeachalliance.digitalchurch.app/event/governing-board-in-person-meeting-2nd-tuesday-night-of-the-month-21/
LOCATION:3331 Palo Verde Ave\nLong Beach CA 90808
END:VEVENT
BEGIN:VEVENT
DTSTART;TZID=America/Los_Angeles:20250617T190000
DTEND;TZID=America/Los_Angeles:20250617T220000
DTSTAMP:20260420T011745
CREATED:20250520T173109Z
LAST-MODIFIED:20250616T150517Z
UID:10002639-1750186800-1750197600@longbeachalliance.digitalchurch.app
SUMMARY:Governing Board Meeting (2nd Tuesday Night of the Month)
DESCRIPTION:
URL:https://longbeachalliance.digitalchurch.app/event/governing-board-meeting-2nd-tuesday-night-of-the-month-2/
LOCATION:3331 Palo Verde Ave\nLong Beach CA 90808
END:VEVENT
BEGIN:VEVENT
DTSTART;TZID=America/Los_Angeles:20250618T100000
DTEND;TZID=America/Los_Angeles:20250618T170000
DTSTAMP:20260420T011745
CREATED:20250227T071031Z
LAST-MODIFIED:20250616T150517Z
UID:10002433-1750240800-1750266000@longbeachalliance.digitalchurch.app
SUMMARY:VBS Shirt Pick-Up
DESCRIPTION:
URL:https://longbeachalliance.digitalchurch.app/event/vbs-shirt-pick-up-7/
LOCATION:Long Beach Alliance Church\, 3331 Palo Verde Ave\, Long Beach\, CA\, United States
GEO:33.817334;-118.107762
X-APPLE-STRUCTURED-LOCATION;VALUE=URI;X-ADDRESS=Long Beach Alliance Church 3331 Palo Verde Ave Long Beach CA United States;X-APPLE-RADIUS=500;X-TITLE=3331 Palo Verde Ave:geo:-118.107762,33.817334
END:VEVENT
BEGIN:VEVENT
DTSTART;TZID=America/Los_Angeles:20250618T133000
DTEND;TZID=America/Los_Angeles:20250618T143000
DTSTAMP:20260420T011745
CREATED:20250523T002809Z
LAST-MODIFIED:20250616T150517Z
UID:10002652-1750253400-1750257000@longbeachalliance.digitalchurch.app
SUMMARY:VBS Worship Crew Practice
DESCRIPTION:in the gym
URL:https://longbeachalliance.digitalchurch.app/event/vbs-worship-crew-practice-9/
LOCATION:CA
END:VEVENT
BEGIN:VEVENT
DTSTART;TZID=America/Los_Angeles:20250619T093000
DTEND;TZID=America/Los_Angeles:20250619T113000
DTSTAMP:20260420T011745
CREATED:20250209T003136Z
LAST-MODIFIED:20250619T182646Z
UID:10002367-1750325400-1750332600@longbeachalliance.digitalchurch.app
SUMMARY:Women's Bible Study @ the Millers
DESCRIPTION:Facilitators: Colvin and Miller; Hosting Marilyn MillersContact: Marilyn Miller 562.922.2024 \nDavid- by Charles Swindoll
URL:https://longbeachalliance.digitalchurch.app/event/womens-bible-study-the-millers-151/
LOCATION:4702 Snowden Ave\, Lakewood\, CA\, United States
GEO:33.850465;-118.109399
END:VEVENT
BEGIN:VEVENT
DTSTART;TZID=America/Los_Angeles:20250619T103000
DTEND;TZID=America/Los_Angeles:20250619T113000
DTSTAMP:20260420T011745
CREATED:20250523T002809Z
LAST-MODIFIED:20250619T182646Z
UID:10002653-1750329000-1750332600@longbeachalliance.digitalchurch.app
SUMMARY:VBS Worship Crew Practice
DESCRIPTION:in the gym
URL:https://longbeachalliance.digitalchurch.app/event/vbs-worship-crew-practice-10/
LOCATION:CA
END:VEVENT
BEGIN:VEVENT
DTSTART;TZID=America/Los_Angeles:20250619T150000
DTEND;TZID=America/Los_Angeles:20250619T220000
DTSTAMP:20260420T011745
CREATED:20250619T182024Z
LAST-MODIFIED:20250620T050912Z
UID:10002717-1750345200-1750370400@longbeachalliance.digitalchurch.app
SUMMARY:Youth Beach Day
DESCRIPTION:Drop off & pick up at church\nPermission slips required\nThey will be located by the pier
URL:https://longbeachalliance.digitalchurch.app/event/youth-beach-day/
LOCATION:Huntington Beach Pier\, Huntington Beach\, CA\, United States
GEO:33.67901;-118.014603
END:VEVENT
BEGIN:VEVENT
DTSTART;TZID=America/Los_Angeles:20250619T170000
DTEND;TZID=America/Los_Angeles:20250619T190000
DTSTAMP:20260420T011745
CREATED:20250209T003136Z
LAST-MODIFIED:20250620T015111Z
UID:10002368-1750352400-1750359600@longbeachalliance.digitalchurch.app
SUMMARY:Lydia House Women's Outreach
DESCRIPTION:
URL:https://longbeachalliance.digitalchurch.app/event/lydia-house-womens-outreach-21/
LOCATION:1430 Pacific Ave. Long Beach\, Long Beach\, CA\, United States
GEO:33.780017;-118.183701
END:VEVENT
BEGIN:VEVENT
DTSTART;TZID=America/Los_Angeles:20250619T190000
DTEND;TZID=America/Los_Angeles:20250619T210000
DTSTAMP:20260420T011745
CREATED:20250209T003136Z
LAST-MODIFIED:20250620T035813Z
UID:10002369-1750359600-1750366800@longbeachalliance.digitalchurch.app
SUMMARY:Betrayal and Beyond Ministry @ the Eberharts
DESCRIPTION:Contact: Debra Eberhart 925.580.7004
URL:https://longbeachalliance.digitalchurch.app/event/betrayal-and-beyond-ministry-the-eberharts-227/
LOCATION:CA
END:VEVENT
END:VCALENDAR