BEGIN:VCALENDAR
VERSION:2.0
PRODID:-//Long Beach Alliance Church - ECPv6.6.4//NONSGML v1.0//EN
CALSCALE:GREGORIAN
METHOD:PUBLISH
X-ORIGINAL-URL:https://longbeachalliance.digitalchurch.app
X-WR-CALDESC:Events for Long Beach Alliance Church
REFRESH-INTERVAL;VALUE=DURATION:PT1H
X-Robots-Tag:noindex
X-PUBLISHED-TTL:PT1H
BEGIN:VTIMEZONE
TZID:America/Los_Angeles
BEGIN:DAYLIGHT
TZOFFSETFROM:-0800
TZOFFSETTO:-0700
TZNAME:PDT
DTSTART:20250309T100000
END:DAYLIGHT
BEGIN:STANDARD
TZOFFSETFROM:-0700
TZOFFSETTO:-0800
TZNAME:PST
DTSTART:20251102T090000
END:STANDARD
END:VTIMEZONE
BEGIN:VEVENT
DTSTART;TZID=America/Los_Angeles:20250726T100000
DTEND;TZID=America/Los_Angeles:20250726T120000
DTSTAMP:20260419T234611
CREATED:20250309T102710Z
LAST-MODIFIED:20250726T121219Z
UID:10002454-1753524000-1753531200@longbeachalliance.digitalchurch.app
SUMMARY:Missions Connections Missionary Update
DESCRIPTION:Church Lobby used\nDianna Ullrich and Pam Rice will be updating\nContact: Kathie Metz 562.234.5937
URL:https://longbeachalliance.digitalchurch.app/event/missions-celebrations-missionary-update/
LOCATION:3331 Palo Verde Ave\, Long Beach\, CA\, United States
GEO:33.823943;-118.111336
END:VEVENT
BEGIN:VEVENT
DTSTART;TZID=America/Los_Angeles:20250726T170000
DTEND;TZID=America/Los_Angeles:20250726T180000
DTSTAMP:20260419T234611
CREATED:20250309T102710Z
LAST-MODIFIED:20250726T121220Z
UID:10002455-1753549200-1753552800@longbeachalliance.digitalchurch.app
SUMMARY:Hume Lake Health Screening/Bag Check
DESCRIPTION:
URL:https://longbeachalliance.digitalchurch.app/event/hume-lake-health-screening-bag-check/
LOCATION:CA
END:VEVENT
BEGIN:VEVENT
DTSTART;VALUE=DATE:20250727
DTEND;VALUE=DATE:20250803
DTSTAMP:20260419T234612
CREATED:20250321T144844Z
LAST-MODIFIED:20250802T142521Z
UID:10002488-1753574400-1754179199@longbeachalliance.digitalchurch.app
SUMMARY:Hume Lake Summer Camp
DESCRIPTION:
URL:https://longbeachalliance.digitalchurch.app/event/hume-lake-summer-camp-2/
LOCATION:Long Beach Alliance Church\, 3331 Palo Verde Ave\, Long Beach\, CA\, United States
GEO:33.817334;-118.107762
X-APPLE-STRUCTURED-LOCATION;VALUE=URI;X-ADDRESS=Long Beach Alliance Church 3331 Palo Verde Ave Long Beach CA United States;X-APPLE-RADIUS=500;X-TITLE=3331 Palo Verde Ave:geo:-118.107762,33.817334
END:VEVENT
BEGIN:VEVENT
DTSTART;TZID=America/Los_Angeles:20250727T093000
DTEND;TZID=America/Los_Angeles:20250727T104500
DTSTAMP:20260419T234612
CREATED:20250310T105605Z
LAST-MODIFIED:20250727T123022Z
UID:10002456-1753608600-1753613100@longbeachalliance.digitalchurch.app
SUMMARY:Worship & Celebration Service
DESCRIPTION:To watch the Livestream go to YouTube.com/longbeachalliancechurch
URL:https://longbeachalliance.digitalchurch.app/event/worship-celebration-service-75/
LOCATION:YouTube.com/longbeachalliancechurch
END:VEVENT
BEGIN:VEVENT
DTSTART;TZID=America/Los_Angeles:20250727T093000
DTEND;TZID=America/Los_Angeles:20250727T104500
DTSTAMP:20260419T234612
CREATED:20250310T105605Z
LAST-MODIFIED:20250727T123023Z
UID:10002457-1753608600-1753613100@longbeachalliance.digitalchurch.app
SUMMARY:Gospel Project: Children's Ministry
DESCRIPTION:Contact Meghan Brearley\, meghan@lbac.org\, for questions \nUpstairs\, Rm 105/Nursery\, and Gym used
URL:https://longbeachalliance.digitalchurch.app/event/gospel-project-childrens-ministry-96/
LOCATION:Long Beach Alliance Church\, 3331 Palo Verde Ave\, Long Beach\, CA\, United States
GEO:33.817334;-118.107762
X-APPLE-STRUCTURED-LOCATION;VALUE=URI;X-ADDRESS=Long Beach Alliance Church 3331 Palo Verde Ave Long Beach CA United States;X-APPLE-RADIUS=500;X-TITLE=3331 Palo Verde Ave:geo:-118.107762,33.817334
END:VEVENT
BEGIN:VEVENT
DTSTART;TZID=America/Los_Angeles:20250728T183000
DTEND;TZID=America/Los_Angeles:20250728T200000
DTSTAMP:20260419T234612
CREATED:20250311T112255Z
LAST-MODIFIED:20250508T072233Z
UID:10002460-1753727400-1753732800@longbeachalliance.digitalchurch.app
SUMMARY:Nominating Committee Meeting #2
DESCRIPTION:
URL:https://longbeachalliance.digitalchurch.app/event/nominating-committee-meeting-2/
LOCATION:3331 Palo Verde Ave\nLong Beach\, CA\, United States
END:VEVENT
BEGIN:VEVENT
DTSTART;TZID=America/Los_Angeles:20250728T183000
DTEND;TZID=America/Los_Angeles:20250728T203000
DTSTAMP:20260419T234612
CREATED:20250311T112256Z
LAST-MODIFIED:20250708T052813Z
UID:10002462-1753727400-1753734600@longbeachalliance.digitalchurch.app
SUMMARY:Life Group @ Bartlebaughs
DESCRIPTION:Tricketts Facilitating\nBartlebaughs hosting
URL:https://longbeachalliance.digitalchurch.app/event/life-group-bartlebaughs-48/
LOCATION:4752 Bellflower Blvd\, Lakewood\, CA\, United States
GEO:33.850465;-118.109399
END:VEVENT
BEGIN:VEVENT
DTSTART;TZID=America/Los_Angeles:20250728T190000
DTEND;TZID=America/Los_Angeles:20250728T203000
DTSTAMP:20260419T234612
CREATED:20250311T112255Z
LAST-MODIFIED:20250728T123812Z
UID:10002461-1753729200-1753734600@longbeachalliance.digitalchurch.app
SUMMARY:Survivors of Incest Anonymous In-Person & Zoom Meeting
DESCRIPTION:Rm 102 used\n@ 10 people\nContact: Maryjean Cazeau 714-366-3887
URL:https://longbeachalliance.digitalchurch.app/event/survivors-of-incest-anonymous-in-person-zoom-meeting-115/
LOCATION:Long Beach Alliance Church\, 3331 Palo Verde Ave\, Long Beach\, CA\, United States
GEO:33.817334;-118.107762
X-APPLE-STRUCTURED-LOCATION;VALUE=URI;X-ADDRESS=Long Beach Alliance Church 3331 Palo Verde Ave Long Beach CA United States;X-APPLE-RADIUS=500;X-TITLE=3331 Palo Verde Ave:geo:-118.107762,33.817334
END:VEVENT
BEGIN:VEVENT
DTSTART;TZID=America/Los_Angeles:20250728T190000
DTEND;TZID=America/Los_Angeles:20250728T210000
DTSTAMP:20260419T234612
CREATED:20250310T105605Z
LAST-MODIFIED:20250728T123812Z
UID:10002458-1753729200-1753736400@longbeachalliance.digitalchurch.app
SUMMARY:Betrayal and Beyond Ministry @ the Eberharts
DESCRIPTION:Contact: Debra Eberhart 925.580.7004
URL:https://longbeachalliance.digitalchurch.app/event/betrayal-and-beyond-ministry-the-eberharts-238/
LOCATION:CA
END:VEVENT
BEGIN:VEVENT
DTSTART;TZID=America/Los_Angeles:20250728T190000
DTEND;TZID=America/Los_Angeles:20250728T210000
DTSTAMP:20260419T234612
CREATED:20250311T112256Z
LAST-MODIFIED:20250728T123812Z
UID:10002463-1753729200-1753736400@longbeachalliance.digitalchurch.app
SUMMARY:Pure Desire Ministry Meeting
DESCRIPTION:Gym Used\nContactL Sam Eberhart 925.285.1295
URL:https://longbeachalliance.digitalchurch.app/event/pure-desire-ministry-meeting-114/
LOCATION:3331 Palo Verde Ave\, Long Beach\, CA\, United States
GEO:33.823943;-118.111336
END:VEVENT
BEGIN:VEVENT
DTSTART;TZID=America/Los_Angeles:20250729T190000
DTEND;TZID=America/Los_Angeles:20250729T210000
DTSTAMP:20260419T234612
CREATED:20250322T150725Z
LAST-MODIFIED:20250729T125857Z
UID:10002489-1753815600-1753822800@longbeachalliance.digitalchurch.app
SUMMARY:Men's Bible Study @ the Millers
DESCRIPTION:Facilitator: John Welliver\nContact Dave Miller 562.773.9100 dmiller002@cc.rr.com
URL:https://longbeachalliance.digitalchurch.app/event/mens-bible-study-the-millers-110/
LOCATION:4702 Snowden Ave\, Lakewood\, CA\, United States
GEO:33.850465;-118.109399
END:VEVENT
BEGIN:VEVENT
DTSTART;TZID=America/Los_Angeles:20250729T190000
DTEND;TZID=America/Los_Angeles:20250729T210000
DTSTAMP:20260419T234612
CREATED:20250322T150725Z
LAST-MODIFIED:20250520T180440Z
UID:10002490-1753815600-1753822800@longbeachalliance.digitalchurch.app
SUMMARY:Middle/High School Youth Group
DESCRIPTION:
URL:https://longbeachalliance.digitalchurch.app/event/middle-high-school-youth-group-87/
LOCATION:Long Beach Alliance Church 3331 Palo Verde Ave\, Long Beach\, CA\, United States
GEO:33.823943;-118.111336
END:VEVENT
BEGIN:VEVENT
DTSTART;TZID=America/Los_Angeles:20250731T093000
DTEND;TZID=America/Los_Angeles:20250731T113000
DTSTAMP:20260419T234612
CREATED:20250322T150725Z
LAST-MODIFIED:20250731T133701Z
UID:10002491-1753954200-1753961400@longbeachalliance.digitalchurch.app
SUMMARY:Women's Bible Study @ the Millers
DESCRIPTION:Facilitators: Colvin and Miller; Hosting Marilyn MillersContact: Marilyn Miller 562.922.2024 \nDavid- by Charles Swindoll
URL:https://longbeachalliance.digitalchurch.app/event/womens-bible-study-the-millers-157/
LOCATION:4702 Snowden Ave\, Lakewood\, CA\, United States
GEO:33.850465;-118.109399
END:VEVENT
BEGIN:VEVENT
DTSTART;TZID=America/Los_Angeles:20250731T190000
DTEND;TZID=America/Los_Angeles:20250731T210000
DTSTAMP:20260419T234612
CREATED:20250322T150725Z
LAST-MODIFIED:20250731T133701Z
UID:10002492-1753988400-1753995600@longbeachalliance.digitalchurch.app
SUMMARY:Betrayal and Beyond Ministry @ the Eberharts
DESCRIPTION:Contact: Debra Eberhart 925.580.7004
URL:https://longbeachalliance.digitalchurch.app/event/betrayal-and-beyond-ministry-the-eberharts-239/
LOCATION:CA
END:VEVENT
BEGIN:VEVENT
DTSTART;TZID=America/Los_Angeles:20250801T080000
DTEND;TZID=America/Los_Angeles:20250801T100000
DTSTAMP:20260419T234612
CREATED:20250322T150725Z
LAST-MODIFIED:20250801T141027Z
UID:10002493-1754035200-1754042400@longbeachalliance.digitalchurch.app
SUMMARY:Men's In-Person & Zoom Bible Study
DESCRIPTION:In-Person will be in Room 106Contact Bill Michel\, 714.390.7076\, for Zoom link information.
URL:https://longbeachalliance.digitalchurch.app/event/mens-in-person-zoom-bible-study-110/
LOCATION:CA
END:VEVENT
BEGIN:VEVENT
DTSTART;TZID=America/Los_Angeles:20250801T193000
DTEND;TZID=America/Los_Angeles:20250801T213000
DTSTAMP:20260419T234612
CREATED:20250323T152116Z
LAST-MODIFIED:20250801T141027Z
UID:10002494-1754076600-1754083800@longbeachalliance.digitalchurch.app
SUMMARY:Betrayal and Beyond Ministry (@ Eberharts & Zoom)
DESCRIPTION:Contact: Debra Eberhart 925.580.7004
URL:https://longbeachalliance.digitalchurch.app/event/betrayal-and-beyond-ministry-eberharts-zoom-112/
LOCATION:CA
END:VEVENT
BEGIN:VEVENT
DTSTART;TZID=America/Los_Angeles:20250801T200000
DTEND;TZID=America/Los_Angeles:20250801T213000
DTSTAMP:20260419T234612
CREATED:20250324T153929Z
LAST-MODIFIED:20250801T141027Z
UID:10002495-1754078400-1754083800@longbeachalliance.digitalchurch.app
SUMMARY:NA In-Person Meeting
DESCRIPTION:Additional Set up/Tear Down: 7PM/10:30PM\nRm 102 and Kitchen used (may use Back patio if group is large)\nContact: \nMaryjean Cazeau 714.366.3887\nYvonne Turco 562.230.0574
URL:https://longbeachalliance.digitalchurch.app/event/na-in-person-meeting-146/
LOCATION:CA
END:VEVENT
BEGIN:VEVENT
DTSTART;TZID=America/Los_Angeles:20250803T093000
DTEND;TZID=America/Los_Angeles:20250803T104500
DTSTAMP:20260419T234612
CREATED:20250325T161147Z
LAST-MODIFIED:20250803T144342Z
UID:10002496-1754213400-1754217900@longbeachalliance.digitalchurch.app
SUMMARY:Gospel Project: Children's Ministry
DESCRIPTION:Contact Meghan Brearley\, meghan@lbac.org\, for questions \nUpstairs\, Rm 105/Nursery\, and Gym used
URL:https://longbeachalliance.digitalchurch.app/event/gospel-project-childrens-ministry-97/
LOCATION:Long Beach Alliance Church\, 3331 Palo Verde Ave\, Long Beach\, CA\, United States
GEO:33.817334;-118.107762
X-APPLE-STRUCTURED-LOCATION;VALUE=URI;X-ADDRESS=Long Beach Alliance Church 3331 Palo Verde Ave Long Beach CA United States;X-APPLE-RADIUS=500;X-TITLE=3331 Palo Verde Ave:geo:-118.107762,33.817334
END:VEVENT
BEGIN:VEVENT
DTSTART;TZID=America/Los_Angeles:20250803T093000
DTEND;TZID=America/Los_Angeles:20250803T104500
DTSTAMP:20260419T234612
CREATED:20250325T161147Z
LAST-MODIFIED:20250803T144342Z
UID:10002497-1754213400-1754217900@longbeachalliance.digitalchurch.app
SUMMARY:Worship & Celebration Service
DESCRIPTION:To watch the Livestream go to YouTube.com/longbeachalliancechurch
URL:https://longbeachalliance.digitalchurch.app/event/worship-celebration-service-76/
LOCATION:YouTube.com/longbeachalliancechurch
END:VEVENT
BEGIN:VEVENT
DTSTART;TZID=America/Los_Angeles:20250804T190000
DTEND;TZID=America/Los_Angeles:20250804T203000
DTSTAMP:20260419T234612
CREATED:20250325T161147Z
LAST-MODIFIED:20250804T150627Z
UID:10002498-1754334000-1754339400@longbeachalliance.digitalchurch.app
SUMMARY:Survivors of Incest Anonymous In-Person & Zoom Meeting
DESCRIPTION:Rm 102 used\n@ 10 people\nContact: Maryjean Cazeau 714-366-3887
URL:https://longbeachalliance.digitalchurch.app/event/survivors-of-incest-anonymous-in-person-zoom-meeting-116/
LOCATION:Long Beach Alliance Church\, 3331 Palo Verde Ave\, Long Beach\, CA\, United States
GEO:33.817334;-118.107762
X-APPLE-STRUCTURED-LOCATION;VALUE=URI;X-ADDRESS=Long Beach Alliance Church 3331 Palo Verde Ave Long Beach CA United States;X-APPLE-RADIUS=500;X-TITLE=3331 Palo Verde Ave:geo:-118.107762,33.817334
END:VEVENT
BEGIN:VEVENT
DTSTART;TZID=America/Los_Angeles:20250804T190000
DTEND;TZID=America/Los_Angeles:20250804T210000
DTSTAMP:20260419T234612
CREATED:20250326T162704Z
LAST-MODIFIED:20250804T150627Z
UID:10002499-1754334000-1754341200@longbeachalliance.digitalchurch.app
SUMMARY:Betrayal and Beyond Ministry @ the Eberharts
DESCRIPTION:Contact: Debra Eberhart 925.580.7004
URL:https://longbeachalliance.digitalchurch.app/event/betrayal-and-beyond-ministry-the-eberharts-240/
LOCATION:CA
END:VEVENT
BEGIN:VEVENT
DTSTART;TZID=America/Los_Angeles:20250804T190000
DTEND;TZID=America/Los_Angeles:20250804T210000
DTSTAMP:20260419T234612
CREATED:20250326T162704Z
LAST-MODIFIED:20250804T150627Z
UID:10002500-1754334000-1754341200@longbeachalliance.digitalchurch.app
SUMMARY:Pure Desire Ministry Meeting
DESCRIPTION:Gym Used\nContactL Sam Eberhart 925.285.1295
URL:https://longbeachalliance.digitalchurch.app/event/pure-desire-ministry-meeting-115/
LOCATION:3331 Palo Verde Ave\, Long Beach\, CA\, United States
GEO:33.823943;-118.111336
END:VEVENT
BEGIN:VEVENT
DTSTART;TZID=America/Los_Angeles:20250805T180000
DTEND;TZID=America/Los_Angeles:20250805T203000
DTSTAMP:20260419T234612
CREATED:20250326T162705Z
LAST-MODIFIED:20250805T153306Z
UID:10002501-1754416800-1754425800@longbeachalliance.digitalchurch.app
SUMMARY:Middle/High School Summer House Church
DESCRIPTION:@ Meghans
URL:https://longbeachalliance.digitalchurch.app/event/middle-high-school-youth-group-88/
LOCATION:6007 Deerford St\, Lakewood\, CA\, United States
GEO:33.850465;-118.109399
END:VEVENT
BEGIN:VEVENT
DTSTART;TZID=America/Los_Angeles:20250805T190000
DTEND;TZID=America/Los_Angeles:20250805T210000
DTSTAMP:20260419T234612
CREATED:20250328T172222Z
LAST-MODIFIED:20250805T153305Z
UID:10002503-1754420400-1754427600@longbeachalliance.digitalchurch.app
SUMMARY:Men's Bible Study @ the Millers
DESCRIPTION:Facilitator: John Welliver\nContact Dave Miller 562.773.9100 dmiller002@cc.rr.com
URL:https://longbeachalliance.digitalchurch.app/event/mens-bible-study-the-millers-111/
LOCATION:4702 Snowden Ave\, Lakewood\, CA\, United States
GEO:33.850465;-118.109399
END:VEVENT
BEGIN:VEVENT
DTSTART;TZID=America/Los_Angeles:20250805T190000
DTEND;TZID=America/Los_Angeles:20250805T220000
DTSTAMP:20260419T234612
CREATED:20250327T165444Z
LAST-MODIFIED:20250520T172157Z
UID:10002502-1754420400-1754431200@longbeachalliance.digitalchurch.app
SUMMARY:Governing Board In-Person Meeting (2nd Tuesday Night of the Month)
DESCRIPTION:
URL:https://longbeachalliance.digitalchurch.app/event/governing-board-in-person-meeting-2nd-tuesday-night-of-the-month-23/
LOCATION:3331 Palo Verde Ave\nLong Beach CA 90808
END:VEVENT
BEGIN:VEVENT
DTSTART;TZID=America/Los_Angeles:20250805T190000
DTEND;TZID=America/Los_Angeles:20250805T220000
DTSTAMP:20260419T234612
CREATED:20250520T173335Z
LAST-MODIFIED:20250805T153306Z
UID:10002641-1754420400-1754431200@longbeachalliance.digitalchurch.app
SUMMARY:Governing Board Meeting (2nd Tuesday Night of the Month)
DESCRIPTION:
URL:https://longbeachalliance.digitalchurch.app/event/governing-board-meeting-2nd-tuesday-night-of-the-month-4/
LOCATION:3331 Palo Verde Ave\nLong Beach CA 90808
END:VEVENT
BEGIN:VEVENT
DTSTART;TZID=America/Los_Angeles:20250806T183000
DTEND;TZID=America/Los_Angeles:20250806T200000
DTSTAMP:20260419T234612
CREATED:20250730T131531Z
LAST-MODIFIED:20250806T155743Z
UID:10002822-1754505000-1754510400@longbeachalliance.digitalchurch.app
SUMMARY:Night of Worship and Prayer
DESCRIPTION:
URL:https://longbeachalliance.digitalchurch.app/event/night-of-prayer-and-worship/
LOCATION:Long Beach Alliance Church\, 3331 Palo Verde Ave\, Long Beach\, CA\, United States
GEO:33.817334;-118.107762
X-APPLE-STRUCTURED-LOCATION;VALUE=URI;X-ADDRESS=Long Beach Alliance Church 3331 Palo Verde Ave Long Beach CA United States;X-APPLE-RADIUS=500;X-TITLE=3331 Palo Verde Ave:geo:-118.107762,33.817334
END:VEVENT
BEGIN:VEVENT
DTSTART;TZID=America/Los_Angeles:20250806T183000
DTEND;TZID=America/Los_Angeles:20250806T200000
DTSTAMP:20260419T234612
CREATED:20250730T131531Z
LAST-MODIFIED:20250805T153306Z
UID:10002823-1754505000-1754510400@longbeachalliance.digitalchurch.app
SUMMARY:Night of Worship & Prayer
DESCRIPTION:Sanctuary Lobby Used
URL:https://longbeachalliance.digitalchurch.app/event/night-of-worship-prayer/
LOCATION:Long Beach Alliance Church\, 3331 Palo Verde Ave\, Long Beach\, CA\, United States
GEO:33.817334;-118.107762
X-APPLE-STRUCTURED-LOCATION;VALUE=URI;X-ADDRESS=Long Beach Alliance Church 3331 Palo Verde Ave Long Beach CA United States;X-APPLE-RADIUS=500;X-TITLE=3331 Palo Verde Ave:geo:-118.107762,33.817334
END:VEVENT
BEGIN:VEVENT
DTSTART;TZID=America/Los_Angeles:20250807T093000
DTEND;TZID=America/Los_Angeles:20250807T113000
DTSTAMP:20260419T234612
CREATED:20250328T172223Z
LAST-MODIFIED:20250807T161242Z
UID:10002504-1754559000-1754566200@longbeachalliance.digitalchurch.app
SUMMARY:Women's Bible Study @ the Millers
DESCRIPTION:Facilitators: Colvin and Miller; Hosting Marilyn MillersContact: Marilyn Miller 562.922.2024 \nDavid- by Charles Swindoll
URL:https://longbeachalliance.digitalchurch.app/event/womens-bible-study-the-millers-158/
LOCATION:4702 Snowden Ave\, Lakewood\, CA\, United States
GEO:33.850465;-118.109399
END:VEVENT
BEGIN:VEVENT
DTSTART;TZID=America/Los_Angeles:20250807T150000
DTEND;TZID=America/Los_Angeles:20250807T220000
DTSTAMP:20260419T234612
CREATED:20250619T182400Z
LAST-MODIFIED:20250807T161242Z
UID:10002719-1754578800-1754604000@longbeachalliance.digitalchurch.app
SUMMARY:Youth Beach Day
DESCRIPTION:Drop off & pick up at church\nPermission slips required\nThey will be located by the pier
URL:https://longbeachalliance.digitalchurch.app/event/youth-beach-day-3/
LOCATION:Huntington Beach Pier\, Huntington Beach\, CA\, United States
GEO:33.67901;-118.014603
END:VEVENT
END:VCALENDAR