BEGIN:VCALENDAR
VERSION:2.0
PRODID:-//Long Beach Alliance Church - ECPv6.6.4//NONSGML v1.0//EN
CALSCALE:GREGORIAN
METHOD:PUBLISH
X-ORIGINAL-URL:https://longbeachalliance.digitalchurch.app
X-WR-CALDESC:Events for Long Beach Alliance Church
REFRESH-INTERVAL;VALUE=DURATION:PT1H
X-Robots-Tag:noindex
X-PUBLISHED-TTL:PT1H
BEGIN:VTIMEZONE
TZID:America/Los_Angeles
BEGIN:DAYLIGHT
TZOFFSETFROM:-0800
TZOFFSETTO:-0700
TZNAME:PDT
DTSTART:20250309T100000
END:DAYLIGHT
BEGIN:STANDARD
TZOFFSETFROM:-0700
TZOFFSETTO:-0800
TZNAME:PST
DTSTART:20251102T090000
END:STANDARD
END:VTIMEZONE
BEGIN:VEVENT
DTSTART;TZID=America/Los_Angeles:20250812T190000
DTEND;TZID=America/Los_Angeles:20250812T210000
DTSTAMP:20260420T011747
CREATED:20250401T185645Z
LAST-MODIFIED:20250812T180436Z
UID:10002517-1755025200-1755032400@longbeachalliance.digitalchurch.app
SUMMARY:Men's Bible Study @ the Millers
DESCRIPTION:Facilitator: John Welliver\nContact Dave Miller 562.773.9100 dmiller002@cc.rr.com
URL:https://longbeachalliance.digitalchurch.app/event/mens-bible-study-the-millers-112/
LOCATION:4702 Snowden Ave\, Lakewood\, CA\, United States
GEO:33.850465;-118.109399
END:VEVENT
BEGIN:VEVENT
DTSTART;TZID=America/Los_Angeles:20250812T190000
DTEND;TZID=America/Los_Angeles:20250812T210000
DTSTAMP:20260420T011747
CREATED:20250402T191350Z
LAST-MODIFIED:20250619T182656Z
UID:10002518-1755025200-1755032400@longbeachalliance.digitalchurch.app
SUMMARY:Middle/High School Youth Group
DESCRIPTION:
URL:https://longbeachalliance.digitalchurch.app/event/middle-high-school-youth-group-89/
LOCATION:Long Beach Alliance Church 3331 Palo Verde Ave\, Long Beach\, CA\, United States
GEO:33.823943;-118.111336
END:VEVENT
BEGIN:VEVENT
DTSTART;TZID=America/Los_Angeles:20250813T100000
DTEND;TZID=America/Los_Angeles:20250813T103000
DTSTAMP:20260420T011747
CREATED:20250730T131556Z
LAST-MODIFIED:20250805T153307Z
UID:10002824-1755079200-1755081000@longbeachalliance.digitalchurch.app
SUMMARY:Night of Prayer and Worship
DESCRIPTION:
URL:https://longbeachalliance.digitalchurch.app/event/night-of-prayer-and-worship-2/
LOCATION:Long Beach Alliance Church\, 3331 Palo Verde Ave\, Long Beach\, CA\, United States
GEO:33.817334;-118.107762
X-APPLE-STRUCTURED-LOCATION;VALUE=URI;X-ADDRESS=Long Beach Alliance Church 3331 Palo Verde Ave Long Beach CA United States;X-APPLE-RADIUS=500;X-TITLE=3331 Palo Verde Ave:geo:-118.107762,33.817334
END:VEVENT
BEGIN:VEVENT
DTSTART;TZID=America/Los_Angeles:20250813T183000
DTEND;TZID=America/Los_Angeles:20250813T200000
DTSTAMP:20260420T011747
CREATED:20250806T154926Z
LAST-MODIFIED:20250813T182700Z
UID:10002828-1755109800-1755115200@longbeachalliance.digitalchurch.app
SUMMARY:Night of Worship and Prayer
DESCRIPTION:
URL:https://longbeachalliance.digitalchurch.app/event/night-of-worship-and-prayer/
LOCATION:Long Beach Alliance Church\, 3331 Palo Verde Ave\, Long Beach\, CA\, United States
GEO:33.817334;-118.107762
X-APPLE-STRUCTURED-LOCATION;VALUE=URI;X-ADDRESS=Long Beach Alliance Church 3331 Palo Verde Ave Long Beach CA United States;X-APPLE-RADIUS=500;X-TITLE=3331 Palo Verde Ave:geo:-118.107762,33.817334
END:VEVENT
BEGIN:VEVENT
DTSTART;TZID=America/Los_Angeles:20250814T093000
DTEND;TZID=America/Los_Angeles:20250814T113000
DTSTAMP:20260420T011747
CREATED:20250402T191350Z
LAST-MODIFIED:20250813T182700Z
UID:10002519-1755163800-1755171000@longbeachalliance.digitalchurch.app
SUMMARY:Women's Bible Study @ the Millers
DESCRIPTION:Facilitators: Colvin and Miller; Hosting Marilyn MillersContact: Marilyn Miller 562.922.2024 \nDavid- by Charles Swindoll
URL:https://longbeachalliance.digitalchurch.app/event/womens-bible-study-the-millers-159/
LOCATION:4702 Snowden Ave\, Lakewood\, CA\, United States
GEO:33.850465;-118.109399
END:VEVENT
BEGIN:VEVENT
DTSTART;TZID=America/Los_Angeles:20250814T180000
DTEND;TZID=America/Los_Angeles:20250814T200000
DTSTAMP:20260420T011747
CREATED:20250807T160421Z
LAST-MODIFIED:20250814T185757Z
UID:10002836-1755194400-1755201600@longbeachalliance.digitalchurch.app
SUMMARY:Worship Team Practice
DESCRIPTION:Sanctuary Used\nContact: Scott Trickett scott@lbac.org
URL:https://longbeachalliance.digitalchurch.app/event/worship-team-practice-2/
LOCATION:Long Beach Alliance Church\, 3331 Palo Verde Ave\, Long Beach\, CA\, United States
GEO:33.817334;-118.107762
X-APPLE-STRUCTURED-LOCATION;VALUE=URI;X-ADDRESS=Long Beach Alliance Church 3331 Palo Verde Ave Long Beach CA United States;X-APPLE-RADIUS=500;X-TITLE=3331 Palo Verde Ave:geo:-118.107762,33.817334
END:VEVENT
BEGIN:VEVENT
DTSTART;TZID=America/Los_Angeles:20250814T190000
DTEND;TZID=America/Los_Angeles:20250814T210000
DTSTAMP:20260420T011747
CREATED:20250402T191350Z
LAST-MODIFIED:20250814T185757Z
UID:10002520-1755198000-1755205200@longbeachalliance.digitalchurch.app
SUMMARY:Betrayal and Beyond Ministry @ the Eberharts
DESCRIPTION:Contact: Debra Eberhart 925.580.7004
URL:https://longbeachalliance.digitalchurch.app/event/betrayal-and-beyond-ministry-the-eberharts-243/
LOCATION:CA
END:VEVENT
BEGIN:VEVENT
DTSTART;TZID=America/Los_Angeles:20250815T080000
DTEND;TZID=America/Los_Angeles:20250815T100000
DTSTAMP:20260420T011747
CREATED:20250404T200207Z
LAST-MODIFIED:20250814T185757Z
UID:10002523-1755244800-1755252000@longbeachalliance.digitalchurch.app
SUMMARY:Men's In-Person & Zoom Bible Study
DESCRIPTION:In-Person will be in Room 106Contact Bill Michel\, 714.390.7076\, for Zoom link information.
URL:https://longbeachalliance.digitalchurch.app/event/mens-in-person-zoom-bible-study-112/
LOCATION:CA
END:VEVENT
BEGIN:VEVENT
DTSTART;TZID=America/Los_Angeles:20250815T193000
DTEND;TZID=America/Los_Angeles:20250815T213000
DTSTAMP:20260420T011747
CREATED:20250404T200207Z
LAST-MODIFIED:20250815T193456Z
UID:10002524-1755286200-1755293400@longbeachalliance.digitalchurch.app
SUMMARY:Betrayal and Beyond Ministry (@ Eberharts & Zoom)
DESCRIPTION:Contact: Debra Eberhart 925.580.7004
URL:https://longbeachalliance.digitalchurch.app/event/betrayal-and-beyond-ministry-eberharts-zoom-114/
LOCATION:CA
END:VEVENT
BEGIN:VEVENT
DTSTART;TZID=America/Los_Angeles:20250815T200000
DTEND;TZID=America/Los_Angeles:20250815T213000
DTSTAMP:20260420T011747
CREATED:20250405T202103Z
LAST-MODIFIED:20250815T193456Z
UID:10002525-1755288000-1755293400@longbeachalliance.digitalchurch.app
SUMMARY:NA In-Person Meeting
DESCRIPTION:Additional Set up/Tear Down: 7PM/10:30PM\nRm 102 and Kitchen used (may use Back patio if group is large)\nContact: \nMaryjean Cazeau 714.366.3887\nYvonne Turco 562.230.0574
URL:https://longbeachalliance.digitalchurch.app/event/na-in-person-meeting-148/
LOCATION:CA
END:VEVENT
BEGIN:VEVENT
DTSTART;TZID=America/Los_Angeles:20250816T100000
DTEND;TZID=America/Los_Angeles:20250816T160000
DTSTAMP:20260420T011747
CREATED:20250405T202104Z
LAST-MODIFIED:20250627T004724Z
UID:10002526-1755338400-1755360000@longbeachalliance.digitalchurch.app
SUMMARY:Crafty Women
DESCRIPTION:@12 women \nRm 102 or the Gym used (depends how many ladies come) \nContact: Donna Neel donna@neel.com
URL:https://longbeachalliance.digitalchurch.app/event/crafty-women-21/
LOCATION:Long Beach Alliance Church\, 3331 Palo Verde Ave\, Long Beach\, CA\, United States
GEO:33.817334;-118.107762
X-APPLE-STRUCTURED-LOCATION;VALUE=URI;X-ADDRESS=Long Beach Alliance Church 3331 Palo Verde Ave Long Beach CA United States;X-APPLE-RADIUS=500;X-TITLE=3331 Palo Verde Ave:geo:-118.107762,33.817334
END:VEVENT
BEGIN:VEVENT
DTSTART;TZID=America/Los_Angeles:20250817T093000
DTEND;TZID=America/Los_Angeles:20250817T104500
DTSTAMP:20260420T011747
CREATED:20250405T202104Z
LAST-MODIFIED:20250816T201314Z
UID:10002527-1755423000-1755427500@longbeachalliance.digitalchurch.app
SUMMARY:Worship & Celebration Service
DESCRIPTION:To watch the Livestream go to YouTube.com/longbeachalliancechurch
URL:https://longbeachalliance.digitalchurch.app/event/worship-celebration-service-78/
LOCATION:YouTube.com/longbeachalliancechurch
END:VEVENT
BEGIN:VEVENT
DTSTART;TZID=America/Los_Angeles:20250817T093000
DTEND;TZID=America/Los_Angeles:20250817T104500
DTSTAMP:20260420T011747
CREATED:20250406T204234Z
LAST-MODIFIED:20250816T201314Z
UID:10002528-1755423000-1755427500@longbeachalliance.digitalchurch.app
SUMMARY:Gospel Project: Children's Ministry
DESCRIPTION:Contact Meghan Brearley\, meghan@lbac.org\, for questions \nUpstairs\, Rm 105/Nursery\, and Gym used
URL:https://longbeachalliance.digitalchurch.app/event/gospel-project-childrens-ministry-99/
LOCATION:Long Beach Alliance Church\, 3331 Palo Verde Ave\, Long Beach\, CA\, United States
GEO:33.817334;-118.107762
X-APPLE-STRUCTURED-LOCATION;VALUE=URI;X-ADDRESS=Long Beach Alliance Church 3331 Palo Verde Ave Long Beach CA United States;X-APPLE-RADIUS=500;X-TITLE=3331 Palo Verde Ave:geo:-118.107762,33.817334
END:VEVENT
BEGIN:VEVENT
DTSTART;TZID=America/Los_Angeles:20250818T190000
DTEND;TZID=America/Los_Angeles:20250818T203000
DTSTAMP:20260420T011747
CREATED:20250408T212650Z
LAST-MODIFIED:20250818T211928Z
UID:10002531-1755543600-1755549000@longbeachalliance.digitalchurch.app
SUMMARY:Survivors of Incest Anonymous In-Person & Zoom Meeting
DESCRIPTION:Rm 102 used\n@ 10 people\nContact: Maryjean Cazeau 714-366-3887
URL:https://longbeachalliance.digitalchurch.app/event/survivors-of-incest-anonymous-in-person-zoom-meeting-118/
LOCATION:Long Beach Alliance Church\, 3331 Palo Verde Ave\, Long Beach\, CA\, United States
GEO:33.817334;-118.107762
X-APPLE-STRUCTURED-LOCATION;VALUE=URI;X-ADDRESS=Long Beach Alliance Church 3331 Palo Verde Ave Long Beach CA United States;X-APPLE-RADIUS=500;X-TITLE=3331 Palo Verde Ave:geo:-118.107762,33.817334
END:VEVENT
BEGIN:VEVENT
DTSTART;TZID=America/Los_Angeles:20250818T190000
DTEND;TZID=America/Los_Angeles:20250818T210000
DTSTAMP:20260420T011747
CREATED:20250406T204235Z
LAST-MODIFIED:20250818T211928Z
UID:10002529-1755543600-1755550800@longbeachalliance.digitalchurch.app
SUMMARY:Pure Desire Ministry Meeting
DESCRIPTION:Gym Used\nContactL Sam Eberhart 925.285.1295
URL:https://longbeachalliance.digitalchurch.app/event/pure-desire-ministry-meeting-117/
LOCATION:3331 Palo Verde Ave\, Long Beach\, CA\, United States
GEO:33.823943;-118.111336
END:VEVENT
BEGIN:VEVENT
DTSTART;TZID=America/Los_Angeles:20250818T190000
DTEND;TZID=America/Los_Angeles:20250818T210000
DTSTAMP:20260420T011747
CREATED:20250408T212650Z
LAST-MODIFIED:20250818T211928Z
UID:10002530-1755543600-1755550800@longbeachalliance.digitalchurch.app
SUMMARY:Betrayal and Beyond Ministry @ the Eberharts
DESCRIPTION:Contact: Debra Eberhart 925.580.7004
URL:https://longbeachalliance.digitalchurch.app/event/betrayal-and-beyond-ministry-the-eberharts-244/
LOCATION:CA
END:VEVENT
BEGIN:VEVENT
DTSTART;TZID=America/Los_Angeles:20250819T090000
DTEND;TZID=America/Los_Angeles:20250819T110000
DTSTAMP:20260420T011747
CREATED:20250408T212651Z
LAST-MODIFIED:20250818T211928Z
UID:10002532-1755594000-1755601200@longbeachalliance.digitalchurch.app
SUMMARY:All Staff • Weekly Team Meeting
DESCRIPTION:
URL:https://longbeachalliance.digitalchurch.app/event/all-staff-weekly-team-meeting-99/
LOCATION:3331 Palo Verde Ave\, Long Beach\, CA\, United States
GEO:33.823943;-118.111336
END:VEVENT
BEGIN:VEVENT
DTSTART;TZID=America/Los_Angeles:20250819T130000
DTEND;TZID=America/Los_Angeles:20250819T170000
DTSTAMP:20260420T011747
CREATED:20250724T113620Z
LAST-MODIFIED:20250819T220020Z
UID:10002804-1755608400-1755622800@longbeachalliance.digitalchurch.app
SUMMARY:Ken Ferrel Memorial @LBAC Sanctuary/Gym
DESCRIPTION:Additional Set up/Tear Down Times: 11AM/6PM\nMemorial Begins at 1PM with a reception in the LBAC Gym to follow immediately after\nContact: Deya Slade 562.761.5464
URL:https://longbeachalliance.digitalchurch.app/event/ken-ferrel-memorial-lbac-sanctuary-gym/
LOCATION:Long Beach Alliance Church\, 3331 Palo Verde Ave\, Long Beach\, CA\, United States
GEO:33.817334;-118.107762
X-APPLE-STRUCTURED-LOCATION;VALUE=URI;X-ADDRESS=Long Beach Alliance Church 3331 Palo Verde Ave Long Beach CA United States;X-APPLE-RADIUS=500;X-TITLE=3331 Palo Verde Ave:geo:-118.107762,33.817334
END:VEVENT
BEGIN:VEVENT
DTSTART;TZID=America/Los_Angeles:20250819T190000
DTEND;TZID=America/Los_Angeles:20250819T210000
DTSTAMP:20260420T011747
CREATED:20250409T214255Z
LAST-MODIFIED:20250819T220020Z
UID:10002533-1755630000-1755637200@longbeachalliance.digitalchurch.app
SUMMARY:Men's Bible Study @ the Millers
DESCRIPTION:Facilitator: John Welliver\nContact Dave Miller 562.773.9100 dmiller002@cc.rr.com
URL:https://longbeachalliance.digitalchurch.app/event/mens-bible-study-the-millers-113/
LOCATION:4702 Snowden Ave\, Lakewood\, CA\, United States
GEO:33.850465;-118.109399
END:VEVENT
BEGIN:VEVENT
DTSTART;TZID=America/Los_Angeles:20250819T190000
DTEND;TZID=America/Los_Angeles:20250819T210000
DTSTAMP:20260420T011747
CREATED:20250409T214255Z
LAST-MODIFIED:20250819T220021Z
UID:10002534-1755630000-1755637200@longbeachalliance.digitalchurch.app
SUMMARY:Middle/High School Youth Group
DESCRIPTION:
URL:https://longbeachalliance.digitalchurch.app/event/middle-high-school-youth-group-90/
LOCATION:Long Beach Alliance Church 3331 Palo Verde Ave\, Long Beach\, CA\, United States
GEO:33.823943;-118.111336
END:VEVENT
BEGIN:VEVENT
DTSTART;TZID=America/Los_Angeles:20250820T100000
DTEND;TZID=America/Los_Angeles:20250820T103000
DTSTAMP:20260420T011747
CREATED:20250730T131609Z
LAST-MODIFIED:20250805T153308Z
UID:10002825-1755684000-1755685800@longbeachalliance.digitalchurch.app
SUMMARY:Night of Prayer and Worship
DESCRIPTION:
URL:https://longbeachalliance.digitalchurch.app/event/night-of-prayer-and-worship-3/
LOCATION:Long Beach Alliance Church\, 3331 Palo Verde Ave\, Long Beach\, CA\, United States
GEO:33.817334;-118.107762
X-APPLE-STRUCTURED-LOCATION;VALUE=URI;X-ADDRESS=Long Beach Alliance Church 3331 Palo Verde Ave Long Beach CA United States;X-APPLE-RADIUS=500;X-TITLE=3331 Palo Verde Ave:geo:-118.107762,33.817334
END:VEVENT
BEGIN:VEVENT
DTSTART;TZID=America/Los_Angeles:20250820T153000
DTEND;TZID=America/Los_Angeles:20250820T170000
DTSTAMP:20260420T011747
CREATED:20250724T113621Z
LAST-MODIFIED:20250820T222949Z
UID:10002805-1755703800-1755709200@longbeachalliance.digitalchurch.app
SUMMARY:Ken Ferrel Graveside Service
DESCRIPTION:Viewing: 11AM-2PM\nContact: Deya Slade 562.761.5464\nSteve Ferrel 805.471.9552
URL:https://longbeachalliance.digitalchurch.app/event/ken-ferrel-graveside-service/
LOCATION:6300 Forest Lawn Dr\, Los Angeles\, CA\, United States
GEO:34.129772;-118.330989
END:VEVENT
BEGIN:VEVENT
DTSTART;TZID=America/Los_Angeles:20250820T180000
DTEND;TZID=America/Los_Angeles:20250820T193000
DTSTAMP:20260420T011747
CREATED:20250724T113621Z
LAST-MODIFIED:20250820T222949Z
UID:10002806-1755712800-1755718200@longbeachalliance.digitalchurch.app
SUMMARY:AWANA Volunteer Meeting
DESCRIPTION:Room 102 Used
URL:https://longbeachalliance.digitalchurch.app/event/awana-volunteer-meeting-2/
LOCATION:CA
END:VEVENT
BEGIN:VEVENT
DTSTART;TZID=America/Los_Angeles:20250820T183000
DTEND;TZID=America/Los_Angeles:20250820T200000
DTSTAMP:20260420T011747
CREATED:20250806T154952Z
LAST-MODIFIED:20250820T222949Z
UID:10002829-1755714600-1755720000@longbeachalliance.digitalchurch.app
SUMMARY:Night of Worship and Prayer
DESCRIPTION:
URL:https://longbeachalliance.digitalchurch.app/event/night-of-worship-and-prayer-2/
LOCATION:Long Beach Alliance Church\, 3331 Palo Verde Ave\, Long Beach\, CA\, United States
GEO:33.817334;-118.107762
X-APPLE-STRUCTURED-LOCATION;VALUE=URI;X-ADDRESS=Long Beach Alliance Church 3331 Palo Verde Ave Long Beach CA United States;X-APPLE-RADIUS=500;X-TITLE=3331 Palo Verde Ave:geo:-118.107762,33.817334
END:VEVENT
BEGIN:VEVENT
DTSTART;TZID=America/Los_Angeles:20250821T093000
DTEND;TZID=America/Los_Angeles:20250821T113000
DTSTAMP:20260420T011747
CREATED:20250409T214255Z
LAST-MODIFIED:20250820T222949Z
UID:10002535-1755768600-1755775800@longbeachalliance.digitalchurch.app
SUMMARY:Women's Bible Study @ the Millers
DESCRIPTION:Facilitators: Colvin and Miller; Hosting Marilyn MillersContact: Marilyn Miller 562.922.2024 \nDavid- by Charles Swindoll
URL:https://longbeachalliance.digitalchurch.app/event/womens-bible-study-the-millers-160/
LOCATION:4702 Snowden Ave\, Lakewood\, CA\, United States
GEO:33.850465;-118.109399
END:VEVENT
BEGIN:VEVENT
DTSTART;TZID=America/Los_Angeles:20250821T170000
DTEND;TZID=America/Los_Angeles:20250821T190000
DTSTAMP:20260420T011747
CREATED:20250410T215749Z
LAST-MODIFIED:20250821T225730Z
UID:10002538-1755795600-1755802800@longbeachalliance.digitalchurch.app
SUMMARY:Lydia House Women's Outreach
DESCRIPTION:
URL:https://longbeachalliance.digitalchurch.app/event/lydia-house-womens-outreach-23/
LOCATION:1430 Pacific Ave. Long Beach\, Long Beach\, CA\, United States
GEO:33.780017;-118.183701
END:VEVENT
BEGIN:VEVENT
DTSTART;TZID=America/Los_Angeles:20250821T180000
DTEND;TZID=America/Los_Angeles:20250821T200000
DTSTAMP:20260420T011747
CREATED:20250807T160446Z
LAST-MODIFIED:20250821T225730Z
UID:10002837-1755799200-1755806400@longbeachalliance.digitalchurch.app
SUMMARY:Worship Team Practice
DESCRIPTION:Sanctuary Used\nContact: Scott Trickett scott@lbac.org
URL:https://longbeachalliance.digitalchurch.app/event/worship-team-practice-3/
LOCATION:Long Beach Alliance Church\, 3331 Palo Verde Ave\, Long Beach\, CA\, United States
GEO:33.817334;-118.107762
X-APPLE-STRUCTURED-LOCATION;VALUE=URI;X-ADDRESS=Long Beach Alliance Church 3331 Palo Verde Ave Long Beach CA United States;X-APPLE-RADIUS=500;X-TITLE=3331 Palo Verde Ave:geo:-118.107762,33.817334
END:VEVENT
BEGIN:VEVENT
DTSTART;TZID=America/Los_Angeles:20250821T190000
DTEND;TZID=America/Los_Angeles:20250821T210000
DTSTAMP:20260420T011747
CREATED:20250409T214255Z
LAST-MODIFIED:20250821T225730Z
UID:10002536-1755802800-1755810000@longbeachalliance.digitalchurch.app
SUMMARY:Betrayal and Beyond Ministry @ the Eberharts
DESCRIPTION:Contact: Debra Eberhart 925.580.7004
URL:https://longbeachalliance.digitalchurch.app/event/betrayal-and-beyond-ministry-the-eberharts-245/
LOCATION:CA
END:VEVENT
BEGIN:VEVENT
DTSTART;VALUE=DATE:20250822
DTEND;VALUE=DATE:20250824
DTSTAMP:20260420T011747
CREATED:20250410T215749Z
LAST-MODIFIED:20250823T232825Z
UID:10002537-1755820800-1755993599@longbeachalliance.digitalchurch.app
SUMMARY:Staff & Elder Retreat
DESCRIPTION:
URL:https://longbeachalliance.digitalchurch.app/event/elder-retreat/
LOCATION:CA
END:VEVENT
BEGIN:VEVENT
DTSTART;TZID=America/Los_Angeles:20250822T080000
DTEND;TZID=America/Los_Angeles:20250822T100000
DTSTAMP:20260420T011747
CREATED:20250411T222112Z
LAST-MODIFIED:20250821T225730Z
UID:10002539-1755849600-1755856800@longbeachalliance.digitalchurch.app
SUMMARY:Men's In-Person & Zoom Bible Study
DESCRIPTION:In-Person will be in Room 106Contact Bill Michel\, 714.390.7076\, for Zoom link information.
URL:https://longbeachalliance.digitalchurch.app/event/mens-in-person-zoom-bible-study-113/
LOCATION:CA
END:VEVENT
END:VCALENDAR