BEGIN:VCALENDAR
VERSION:2.0
PRODID:-//Long Beach Alliance Church - ECPv6.6.4//NONSGML v1.0//EN
CALSCALE:GREGORIAN
METHOD:PUBLISH
X-WR-CALNAME:Long Beach Alliance Church
X-ORIGINAL-URL:https://longbeachalliance.digitalchurch.app
X-WR-CALDESC:Events for Long Beach Alliance Church
REFRESH-INTERVAL;VALUE=DURATION:PT1H
X-Robots-Tag:noindex
X-PUBLISHED-TTL:PT1H
BEGIN:VTIMEZONE
TZID:America/Los_Angeles
BEGIN:DAYLIGHT
TZOFFSETFROM:-0800
TZOFFSETTO:-0700
TZNAME:PDT
DTSTART:20240310T100000
END:DAYLIGHT
BEGIN:STANDARD
TZOFFSETFROM:-0700
TZOFFSETTO:-0800
TZNAME:PST
DTSTART:20241103T090000
END:STANDARD
END:VTIMEZONE
BEGIN:VEVENT
DTSTART;TZID=America/Los_Angeles:20241227T193000
DTEND;TZID=America/Los_Angeles:20241227T213000
DTSTAMP:20260425T093219
CREATED:20240828T025451Z
LAST-MODIFIED:20241227T064016Z
UID:10001873-1735327800-1735335000@longbeachalliance.digitalchurch.app
SUMMARY:Betrayal and Beyond Ministry (@ Eberharts & Zoom)
DESCRIPTION:Contact: Debra Eberhart 925.580.7004
URL:https://longbeachalliance.digitalchurch.app/event/betrayal-and-beyond-ministry-eberharts-zoom-81/
LOCATION:CA
END:VEVENT
BEGIN:VEVENT
DTSTART;TZID=America/Los_Angeles:20241227T080000
DTEND;TZID=America/Los_Angeles:20241227T100000
DTSTAMP:20260425T093219
CREATED:20240827T002950Z
LAST-MODIFIED:20241227T064016Z
UID:10001872-1735286400-1735293600@longbeachalliance.digitalchurch.app
SUMMARY:Men's In-Person & Zoom Bible Study
DESCRIPTION:In-Person will be in Room 106Contact Bill Michel\, 714.390.7076\, for Zoom link information.
URL:https://longbeachalliance.digitalchurch.app/event/mens-in-person-zoom-bible-study-79/
LOCATION:CA
END:VEVENT
BEGIN:VEVENT
DTSTART;TZID=America/Los_Angeles:20241226T190000
DTEND;TZID=America/Los_Angeles:20241226T210000
DTSTAMP:20260425T093219
CREATED:20240827T002949Z
LAST-MODIFIED:20241226T060050Z
UID:10001871-1735239600-1735246800@longbeachalliance.digitalchurch.app
SUMMARY:Betrayal and Beyond Ministry @ the Eberharts
DESCRIPTION:Contact: Debra Eberhart 925.580.7004
URL:https://longbeachalliance.digitalchurch.app/event/betrayal-and-beyond-ministry-the-eberharts-159/
LOCATION:CA
END:VEVENT
BEGIN:VEVENT
DTSTART;TZID=America/Los_Angeles:20241226T190000
DTEND;TZID=America/Los_Angeles:20241226T210000
DTSTAMP:20260425T093219
CREATED:20230526T152203Z
LAST-MODIFIED:20230526T160444Z
UID:10000350-1735239600-1735246800@longbeachalliance.digitalchurch.app
SUMMARY:Middle School Youth Group
DESCRIPTION:
URL:https://longbeachalliance.digitalchurch.app/event/middle-school-youth-group/2024-12-26/
LOCATION:CA
CATEGORIES:Youth
END:VEVENT
BEGIN:VEVENT
DTSTART;TZID=America/Los_Angeles:20241226T093000
DTEND;TZID=America/Los_Angeles:20241226T113000
DTSTAMP:20260425T093219
CREATED:20241121T165827Z
LAST-MODIFIED:20241226T060050Z
UID:10002133-1735205400-1735212600@longbeachalliance.digitalchurch.app
SUMMARY:Women's Bible Study @ the Millers
DESCRIPTION:Facilitators: Colvin and Miller; Hosting Marilyn MillersContact: Marilyn Miller 562.922.2024 \nDavid- by Charles Swindoll
URL:https://longbeachalliance.digitalchurch.app/event/womens-bible-study-the-millers-126/
LOCATION:4702 Snowden Ave\, Lakewood\, CA\, United States
GEO:33.850465;-118.109399
END:VEVENT
BEGIN:VEVENT
DTSTART;TZID=America/Los_Angeles:20241226T093000
DTEND;TZID=America/Los_Angeles:20241226T113000
DTSTAMP:20260425T093219
CREATED:20240827T002949Z
LAST-MODIFIED:20241120T163154Z
UID:10001870-1735205400-1735212600@longbeachalliance.digitalchurch.app
SUMMARY:Women's Bible Study @ the Millers
DESCRIPTION:Facilitators: Colvin and Miller; Hosting Marilyn MillersContact: Marilyn Miller 562.922.2024 \n1 Samuel by John MacArthur
URL:https://longbeachalliance.digitalchurch.app/event/womens-bible-study-the-millers-109/
LOCATION:4702 Snowden Ave\, Lakewood\, CA\, United States
GEO:33.850465;-118.109399
END:VEVENT
BEGIN:VEVENT
DTSTART;TZID=America/Los_Angeles:20241224T190000
DTEND;TZID=America/Los_Angeles:20241224T220000
DTSTAMP:20260425T093219
CREATED:20240825T114835Z
LAST-MODIFIED:20241019T234609Z
UID:10001869-1735066800-1735077600@longbeachalliance.digitalchurch.app
SUMMARY:Elder Board Meeting
DESCRIPTION:
URL:https://longbeachalliance.digitalchurch.app/event/elder-board-meeting-17/
LOCATION:Long Beach Alliance Church 3331 Palo Verde Ave\, Long Beach\, CA\, United States
GEO:33.823943;-118.111336
END:VEVENT
BEGIN:VEVENT
DTSTART;TZID=America/Los_Angeles:20241224T190000
DTEND;TZID=America/Los_Angeles:20241224T210000
DTSTAMP:20260425T093219
CREATED:20240824T075927Z
LAST-MODIFIED:20241223T050923Z
UID:10001868-1735066800-1735074000@longbeachalliance.digitalchurch.app
SUMMARY:Men's Bible Study @ the Millers
DESCRIPTION:Facilitator: John Welliver\nContact Dave Miller 562.773.9100 dmiller002@cc.rr.com
URL:https://longbeachalliance.digitalchurch.app/event/mens-bible-study-the-millers-79/
LOCATION:4702 Snowden Ave\, Lakewood\, CA\, United States
GEO:33.850465;-118.109399
END:VEVENT
BEGIN:VEVENT
DTSTART;TZID=America/Los_Angeles:20241224T190000
DTEND;TZID=America/Los_Angeles:20241224T210000
DTSTAMP:20260425T093219
CREATED:20230526T152121Z
LAST-MODIFIED:20230526T160214Z
UID:10000248-1735066800-1735074000@longbeachalliance.digitalchurch.app
SUMMARY:High School Youth Group
DESCRIPTION:
URL:https://longbeachalliance.digitalchurch.app/event/high-school-youth-group-6/2024-12-24/
LOCATION:CA
CATEGORIES:Youth
END:VEVENT
BEGIN:VEVENT
DTSTART;TZID=America/Los_Angeles:20241224T180000
DTEND;TZID=America/Los_Angeles:20241224T191500
DTSTAMP:20260425T093219
CREATED:20231020T205534Z
LAST-MODIFIED:20241224T052308Z
UID:10000571-1735063200-1735067700@longbeachalliance.digitalchurch.app
SUMMARY:Christmas Eve Candlelighting Service
DESCRIPTION:No Childcare\nFamily Service
URL:https://longbeachalliance.digitalchurch.app/event/christmas-eve-candlelighting-service/
LOCATION:Long Beach Alliance Church\n3331 Palo Verde Ave\nLong Beach CA 90808
END:VEVENT
BEGIN:VEVENT
DTSTART;TZID=America/Los_Angeles:20241224T100000
DTEND;TZID=America/Los_Angeles:20241224T120000
DTSTAMP:20260425T093219
CREATED:20240824T075927Z
LAST-MODIFIED:20241003T143040Z
UID:10001867-1735034400-1735041600@longbeachalliance.digitalchurch.app
SUMMARY:All Staff • Weekly Team Meeting
DESCRIPTION:
URL:https://longbeachalliance.digitalchurch.app/event/all-staff-weekly-team-meeting-75/
LOCATION:3331 Palo Verde Ave\, Long Beach\, CA\, United States
GEO:33.823943;-118.111336
END:VEVENT
BEGIN:VEVENT
DTSTART;TZID=America/Los_Angeles:20241223T190000
DTEND;TZID=America/Los_Angeles:20241223T210000
DTSTAMP:20260425T093219
CREATED:20240823T065308Z
LAST-MODIFIED:20241223T050923Z
UID:10001866-1734980400-1734987600@longbeachalliance.digitalchurch.app
SUMMARY:Betrayal and Beyond Ministry @ the Eberharts
DESCRIPTION:Contact: Debra Eberhart 925.580.7004
URL:https://longbeachalliance.digitalchurch.app/event/betrayal-and-beyond-ministry-the-eberharts-158/
LOCATION:CA
END:VEVENT
BEGIN:VEVENT
DTSTART;TZID=America/Los_Angeles:20241223T190000
DTEND;TZID=America/Los_Angeles:20241223T210000
DTSTAMP:20260425T093219
CREATED:20240822T031145Z
LAST-MODIFIED:20241223T050923Z
UID:10001862-1734980400-1734987600@longbeachalliance.digitalchurch.app
SUMMARY:Pure Desire Ministry Meeting
DESCRIPTION:Gym Used\nContactL Sam Eberhart 925.285.1295
URL:https://longbeachalliance.digitalchurch.app/event/pure-desire-ministry-meeting-83/
LOCATION:3331 Palo Verde Ave\, Long Beach\, CA\, United States
GEO:33.823943;-118.111336
END:VEVENT
BEGIN:VEVENT
DTSTART;TZID=America/Los_Angeles:20241223T190000
DTEND;TZID=America/Los_Angeles:20241223T203000
DTSTAMP:20260425T093219
CREATED:20240822T031145Z
LAST-MODIFIED:20241223T050923Z
UID:10001860-1734980400-1734985800@longbeachalliance.digitalchurch.app
SUMMARY:Survivors of Incest Anonymous In-Person & Zoom Meeting
DESCRIPTION:Rm 102 used\n@ 10 people\nContact: Maryjean Cazeau 714-366-3887
URL:https://longbeachalliance.digitalchurch.app/event/survivors-of-incest-anonymous-in-person-zoom-meeting-84/
LOCATION:Long Beach Alliance Church\, 3331 Palo Verde Ave\, Long Beach\, CA\, United States
GEO:33.817334;-118.107762
X-APPLE-STRUCTURED-LOCATION;VALUE=URI;X-ADDRESS=Long Beach Alliance Church 3331 Palo Verde Ave Long Beach CA United States;X-APPLE-RADIUS=500;X-TITLE=3331 Palo Verde Ave:geo:-118.107762,33.817334
END:VEVENT
BEGIN:VEVENT
DTSTART;TZID=America/Los_Angeles:20241223T183000
DTEND;TZID=America/Los_Angeles:20241223T203000
DTSTAMP:20260425T093219
CREATED:20241029T013710Z
LAST-MODIFIED:20241217T025829Z
UID:10002068-1734978600-1734985800@longbeachalliance.digitalchurch.app
SUMMARY:Life Group @ Bartlebaughs
DESCRIPTION:Tricketts Facilitating\nBartlebaughs hosting
URL:https://longbeachalliance.digitalchurch.app/event/life-group-bartlebaughs-36/
LOCATION:4752 Bellflower Blvd\, Lakewood\, CA\, United States
GEO:33.850465;-118.109399
END:VEVENT
BEGIN:VEVENT
DTSTART;TZID=America/Los_Angeles:20241223T183000
DTEND;TZID=America/Los_Angeles:20241223T203000
DTSTAMP:20260425T093219
CREATED:20240822T031145Z
LAST-MODIFIED:20241027T220031Z
UID:10001861-1734978600-1734985800@longbeachalliance.digitalchurch.app
SUMMARY:Life Group @ Bartlebaughs
DESCRIPTION:Tricketts Facilitating\nBartlebaughs hosting
URL:https://longbeachalliance.digitalchurch.app/event/life-group-bartlebaughs-29/
LOCATION:4752 Bellflower Blvd\, Lakewood\, CA\, United States
GEO:33.850465;-118.109399
END:VEVENT
BEGIN:VEVENT
DTSTART;TZID=America/Los_Angeles:20241222T123000
DTEND;TZID=America/Los_Angeles:20241222T143000
DTSTAMP:20260425T093219
CREATED:20241023T041352Z
LAST-MODIFIED:20241222T045814Z
UID:10002043-1734870600-1734877800@longbeachalliance.digitalchurch.app
SUMMARY:Elders & Wives Christmas Luncheon @ Lankford Home
DESCRIPTION:
URL:https://longbeachalliance.digitalchurch.app/event/elders-wives-christmas-dessert-evening-lankford-home/
LOCATION:3424 Hackett Avenue\nLong Beach CA 90808\nUSA
END:VEVENT
BEGIN:VEVENT
DTSTART;TZID=America/Los_Angeles:20241222T093000
DTEND;TZID=America/Los_Angeles:20241222T104500
DTSTAMP:20260425T093219
CREATED:20240819T002607Z
LAST-MODIFIED:20241222T045813Z
UID:10001839-1734859800-1734864300@longbeachalliance.digitalchurch.app
SUMMARY:Worship & Celebration Service
DESCRIPTION:To watch the Livestream go to YouTube.com/longbeachalliancechurch
URL:https://longbeachalliance.digitalchurch.app/event/worship-celebration-service-44/
LOCATION:YouTube.com/longbeachalliancechurch
END:VEVENT
BEGIN:VEVENT
DTSTART;TZID=America/Los_Angeles:20241222T093000
DTEND;TZID=America/Los_Angeles:20241222T104500
DTSTAMP:20260425T093219
CREATED:20240819T002607Z
LAST-MODIFIED:20241222T045814Z
UID:10001840-1734859800-1734864300@longbeachalliance.digitalchurch.app
SUMMARY:Gospel Project: Children's Ministry
DESCRIPTION:Contact Meghan Brearley\, meghan@lbac.org\, for questions \nUpstairs\, Rm 105/Nursery\, and Gym used
URL:https://longbeachalliance.digitalchurch.app/event/gospel-project-childrens-ministry-65/
LOCATION:Long Beach Alliance Church\, 3331 Palo Verde Ave\, Long Beach\, CA\, United States
GEO:33.817334;-118.107762
X-APPLE-STRUCTURED-LOCATION;VALUE=URI;X-ADDRESS=Long Beach Alliance Church 3331 Palo Verde Ave Long Beach CA United States;X-APPLE-RADIUS=500;X-TITLE=3331 Palo Verde Ave:geo:-118.107762,33.817334
END:VEVENT
BEGIN:VEVENT
DTSTART;TZID=America/Los_Angeles:20241221T140000
DTEND;TZID=America/Los_Angeles:20241221T160000
DTSTAMP:20260425T093219
CREATED:20240819T002607Z
LAST-MODIFIED:20241031T082255Z
UID:10001838-1734789600-1734796800@longbeachalliance.digitalchurch.app
SUMMARY:Crafty Women Christmas Gathering/Craft
DESCRIPTION:@12 women\nRm 102 or the Gym used (depends how many ladies come)\nContact: Melinda Lankford 562.685.4131\nStacy Flanagan craft
URL:https://longbeachalliance.digitalchurch.app/event/crafty-women-13/
LOCATION:Long Beach Alliance Church\, 3331 Palo Verde Ave\, Long Beach\, CA\, United States
GEO:33.817334;-118.107762
X-APPLE-STRUCTURED-LOCATION;VALUE=URI;X-ADDRESS=Long Beach Alliance Church 3331 Palo Verde Ave Long Beach CA United States;X-APPLE-RADIUS=500;X-TITLE=3331 Palo Verde Ave:geo:-118.107762,33.817334
END:VEVENT
BEGIN:VEVENT
DTSTART;TZID=America/Los_Angeles:20241221T100000
DTEND;TZID=America/Los_Angeles:20241221T160000
DTSTAMP:20260425T093219
CREATED:20241009T184315Z
LAST-MODIFIED:20241221T043450Z
UID:10002006-1734775200-1734796800@longbeachalliance.digitalchurch.app
SUMMARY:Crafty Women
DESCRIPTION:@12 women\ngym used \nContact: Donna Neel donna@neel.com
URL:https://longbeachalliance.digitalchurch.app/event/crafty-women-regular-gathering-2/
LOCATION:Long Beach Alliance Church\, 3331 Palo Verde Ave\, Long Beach\, CA\, United States
GEO:33.817334;-118.107762
X-APPLE-STRUCTURED-LOCATION;VALUE=URI;X-ADDRESS=Long Beach Alliance Church 3331 Palo Verde Ave Long Beach CA United States;X-APPLE-RADIUS=500;X-TITLE=3331 Palo Verde Ave:geo:-118.107762,33.817334
END:VEVENT
BEGIN:VEVENT
DTSTART;TZID=America/Los_Angeles:20241220T200000
DTEND;TZID=America/Los_Angeles:20241220T213000
DTSTAMP:20260425T093219
CREATED:20240819T002606Z
LAST-MODIFIED:20241221T043450Z
UID:10001836-1734724800-1734730200@longbeachalliance.digitalchurch.app
SUMMARY:NA In-Person Meeting
DESCRIPTION:Rm 102\, Sanctuary or back patio used depending on size of the group; Also Kitchen\nContact: Yvonne Turco 562.230.0574
URL:https://longbeachalliance.digitalchurch.app/event/na-in-person-meeting-98/
LOCATION:CA
END:VEVENT
BEGIN:VEVENT
DTSTART;TZID=America/Los_Angeles:20241220T193000
DTEND;TZID=America/Los_Angeles:20241220T213000
DTSTAMP:20260425T093219
CREATED:20240819T002606Z
LAST-MODIFIED:20241221T043450Z
UID:10001837-1734723000-1734730200@longbeachalliance.digitalchurch.app
SUMMARY:Betrayal and Beyond Ministry (@ Eberharts & Zoom)
DESCRIPTION:Contact: Debra Eberhart 925.580.7004
URL:https://longbeachalliance.digitalchurch.app/event/betrayal-and-beyond-ministry-eberharts-zoom-80/
LOCATION:CA
END:VEVENT
BEGIN:VEVENT
DTSTART;TZID=America/Los_Angeles:20241220T170000
DTEND;TZID=America/Los_Angeles:20241220T220000
DTSTAMP:20260425T093219
CREATED:20240817T011614Z
LAST-MODIFIED:20241221T043450Z
UID:10001835-1734714000-1734732000@longbeachalliance.digitalchurch.app
SUMMARY:LBAC Staff Christmas Party
DESCRIPTION:
URL:https://longbeachalliance.digitalchurch.app/event/lbac-staff-christmas-party/
LOCATION:CA
END:VEVENT
BEGIN:VEVENT
DTSTART;TZID=America/Los_Angeles:20241220T080000
DTEND;TZID=America/Los_Angeles:20241220T100000
DTSTAMP:20260425T093219
CREATED:20240817T011614Z
LAST-MODIFIED:20241220T035934Z
UID:10001834-1734681600-1734688800@longbeachalliance.digitalchurch.app
SUMMARY:Men's In-Person & Zoom Bible Study
DESCRIPTION:In-Person will be in Room 106Contact Bill Michel\, 714.390.7076\, for Zoom link information.
URL:https://longbeachalliance.digitalchurch.app/event/mens-in-person-zoom-bible-study-78/
LOCATION:CA
END:VEVENT
BEGIN:VEVENT
DTSTART;TZID=America/Los_Angeles:20241219T190000
DTEND;TZID=America/Los_Angeles:20241219T210000
DTSTAMP:20260425T093219
CREATED:20240823T065252Z
LAST-MODIFIED:20241220T035934Z
UID:10001865-1734634800-1734642000@longbeachalliance.digitalchurch.app
SUMMARY:Youth Christmas Party
DESCRIPTION:
URL:https://longbeachalliance.digitalchurch.app/event/youth-christmas-party/
LOCATION:CA
END:VEVENT
BEGIN:VEVENT
DTSTART;TZID=America/Los_Angeles:20241219T190000
DTEND;TZID=America/Los_Angeles:20241219T210000
DTSTAMP:20260425T093219
CREATED:20240817T011614Z
LAST-MODIFIED:20241220T035934Z
UID:10001833-1734634800-1734642000@longbeachalliance.digitalchurch.app
SUMMARY:Betrayal and Beyond Ministry @ the Eberharts
DESCRIPTION:Contact: Debra Eberhart 925.580.7004
URL:https://longbeachalliance.digitalchurch.app/event/betrayal-and-beyond-ministry-the-eberharts-157/
LOCATION:CA
END:VEVENT
BEGIN:VEVENT
DTSTART;TZID=America/Los_Angeles:20241219T190000
DTEND;TZID=America/Los_Angeles:20241219T210000
DTSTAMP:20260425T093219
CREATED:20230526T152203Z
LAST-MODIFIED:20230526T160444Z
UID:10000349-1734634800-1734642000@longbeachalliance.digitalchurch.app
SUMMARY:Middle School Youth Group
DESCRIPTION:
URL:https://longbeachalliance.digitalchurch.app/event/middle-school-youth-group/2024-12-19/
LOCATION:CA
CATEGORIES:Youth
END:VEVENT
BEGIN:VEVENT
DTSTART;TZID=America/Los_Angeles:20241219T170000
DTEND;TZID=America/Los_Angeles:20241219T190000
DTSTAMP:20260425T093219
CREATED:20240814T104036Z
LAST-MODIFIED:20241219T034023Z
UID:10001812-1734627600-1734634800@longbeachalliance.digitalchurch.app
SUMMARY:Lydia House Women's Outreach
DESCRIPTION:
URL:https://longbeachalliance.digitalchurch.app/event/lydia-house-womens-outreach-15/
LOCATION:1430 Pacific Ave. Long Beach\, Long Beach\, CA\, United States
GEO:33.780017;-118.183701
END:VEVENT
BEGIN:VEVENT
DTSTART;TZID=America/Los_Angeles:20241219T093000
DTEND;TZID=America/Los_Angeles:20241219T113000
DTSTAMP:20260425T093219
CREATED:20241121T165825Z
LAST-MODIFIED:20241219T034023Z
UID:10002132-1734600600-1734607800@longbeachalliance.digitalchurch.app
SUMMARY:Women's Bible Study @ the Millers
DESCRIPTION:Facilitators: Colvin and Miller; Hosting Marilyn MillersContact: Marilyn Miller 562.922.2024 \nDavid- by Charles Swindoll
URL:https://longbeachalliance.digitalchurch.app/event/womens-bible-study-the-millers-125/
LOCATION:4702 Snowden Ave\, Lakewood\, CA\, United States
GEO:33.850465;-118.109399
END:VEVENT
END:VCALENDAR