BEGIN:VCALENDAR
VERSION:2.0
PRODID:-//Long Beach Alliance Church - ECPv6.6.4//NONSGML v1.0//EN
CALSCALE:GREGORIAN
METHOD:PUBLISH
X-ORIGINAL-URL:https://longbeachalliance.digitalchurch.app
X-WR-CALDESC:Events for Long Beach Alliance Church
REFRESH-INTERVAL;VALUE=DURATION:PT1H
X-Robots-Tag:noindex
X-PUBLISHED-TTL:PT1H
BEGIN:VTIMEZONE
TZID:America/Los_Angeles
BEGIN:DAYLIGHT
TZOFFSETFROM:-0800
TZOFFSETTO:-0700
TZNAME:PDT
DTSTART:20250309T100000
END:DAYLIGHT
BEGIN:STANDARD
TZOFFSETFROM:-0700
TZOFFSETTO:-0800
TZNAME:PST
DTSTART:20251102T090000
END:STANDARD
END:VTIMEZONE
BEGIN:VEVENT
DTSTART;TZID=America/Los_Angeles:20251114T193000
DTEND;TZID=America/Los_Angeles:20251114T213000
DTSTAMP:20260419T225852
CREATED:20250625T051507Z
LAST-MODIFIED:20251114T092442Z
UID:10002739-1763148600-1763155800@longbeachalliance.digitalchurch.app
SUMMARY:Betrayal and Beyond Ministry (@ Eberharts & Zoom)
DESCRIPTION:Contact: Debra Eberhart 925.580.7004
URL:https://longbeachalliance.digitalchurch.app/event/betrayal-and-beyond-ministry-eberharts-zoom-128/
LOCATION:CA
END:VEVENT
BEGIN:VEVENT
DTSTART;TZID=America/Los_Angeles:20251114T200000
DTEND;TZID=America/Los_Angeles:20251114T213000
DTSTAMP:20260419T225852
CREATED:20250625T043223Z
LAST-MODIFIED:20251114T092442Z
UID:10002738-1763150400-1763155800@longbeachalliance.digitalchurch.app
SUMMARY:NA In-Person Meeting
DESCRIPTION:Additional Set up/Tear Down: 7PM/10:30PM\nRm 102 and Kitchen used (may use Gym or Back patio if group is large)\nContact: \nMaryjean Cazeau 714.366.3887\nYvonne Turco 562.230.0574
URL:https://longbeachalliance.digitalchurch.app/event/na-in-person-meeting-162/
LOCATION:CA
END:VEVENT
BEGIN:VEVENT
DTSTART;TZID=America/Los_Angeles:20251115T070000
DTEND;TZID=America/Los_Angeles:20251115T080000
DTSTAMP:20260419T225852
CREATED:20251025T015157Z
LAST-MODIFIED:20251115T093846Z
UID:10003079-1763190000-1763193600@longbeachalliance.digitalchurch.app
SUMMARY:Mens Workout
DESCRIPTION:Aaron Steele (909) 957-6333\nIn Gym
URL:https://longbeachalliance.digitalchurch.app/event/mens-workout-2/
LOCATION:Long Beach Alliance Church\, 3331 Palo Verde Ave\, Long Beach\, CA\, United States
GEO:33.817334;-118.107762
X-APPLE-STRUCTURED-LOCATION;VALUE=URI;X-ADDRESS=Long Beach Alliance Church 3331 Palo Verde Ave Long Beach CA United States;X-APPLE-RADIUS=500;X-TITLE=3331 Palo Verde Ave:geo:-118.107762,33.817334
END:VEVENT
BEGIN:VEVENT
DTSTART;TZID=America/Los_Angeles:20251115T100000
DTEND;TZID=America/Los_Angeles:20251115T160000
DTSTAMP:20260419T225852
CREATED:20250627T005523Z
LAST-MODIFIED:20251115T093846Z
UID:10002740-1763200800-1763222400@longbeachalliance.digitalchurch.app
SUMMARY:Crafty Women
DESCRIPTION:@12 women \nRm 102 or the Gym used (depends how many ladies come) \nContact: Donna Neel donna@neel.com
URL:https://longbeachalliance.digitalchurch.app/event/crafty-women-24/
LOCATION:Long Beach Alliance Church\, 3331 Palo Verde Ave\, Long Beach\, CA\, United States
GEO:33.817334;-118.107762
X-APPLE-STRUCTURED-LOCATION;VALUE=URI;X-ADDRESS=Long Beach Alliance Church 3331 Palo Verde Ave Long Beach CA United States;X-APPLE-RADIUS=500;X-TITLE=3331 Palo Verde Ave:geo:-118.107762,33.817334
END:VEVENT
BEGIN:VEVENT
DTSTART;TZID=America/Los_Angeles:20251115T100000
DTEND;TZID=America/Los_Angeles:20251115T180000
DTSTAMP:20260419T225852
CREATED:20250829T011907Z
LAST-MODIFIED:20251111T081231Z
UID:10002913-1763200800-1763229600@longbeachalliance.digitalchurch.app
SUMMARY:Youth @ Knott's Berry Farm
DESCRIPTION:Contact: Hank hank@lbac.org
URL:https://longbeachalliance.digitalchurch.app/event/youth-knotts-berry-farm/
LOCATION:Knott’s Berry Farm\, 8039 Beach Blvd\, Buena Park\, CA\, United States
GEO:33.846165;-117.997888
X-APPLE-STRUCTURED-LOCATION;VALUE=URI;X-ADDRESS=Knott’s Berry Farm 8039 Beach Blvd Buena Park CA United States;X-APPLE-RADIUS=500;X-TITLE=8039 Beach Blvd:geo:-117.997888,33.846165
END:VEVENT
BEGIN:VEVENT
DTSTART;TZID=America/Los_Angeles:20251115T170000
DTEND;TZID=America/Los_Angeles:20251115T210000
DTSTAMP:20260419T225852
CREATED:20251114T091528Z
LAST-MODIFIED:20251115T093847Z
UID:10003167-1763226000-1763240400@longbeachalliance.digitalchurch.app
SUMMARY:Youth Group - Middle School & High School Game Night In Gym
DESCRIPTION:
URL:https://longbeachalliance.digitalchurch.app/event/youth-group-middle-school-high-school-game-night-in-gym/
LOCATION:Long Beach Alliance Church\, 3331 Palo Verde Ave\, Long Beach\, CA\, United States
GEO:33.817334;-118.107762
X-APPLE-STRUCTURED-LOCATION;VALUE=URI;X-ADDRESS=Long Beach Alliance Church 3331 Palo Verde Ave Long Beach CA United States;X-APPLE-RADIUS=500;X-TITLE=3331 Palo Verde Ave:geo:-118.107762,33.817334
END:VEVENT
BEGIN:VEVENT
DTSTART;TZID=America/Los_Angeles:20251116T093000
DTEND;TZID=America/Los_Angeles:20251116T104500
DTSTAMP:20260419T225852
CREATED:20250627T005523Z
LAST-MODIFIED:20251116T095758Z
UID:10002741-1763285400-1763289900@longbeachalliance.digitalchurch.app
SUMMARY:Gospel Project: Children's Ministry
DESCRIPTION:Contact Meghan Brearley\, meghan@lbac.org\, for questions \nUpstairs\, Rm 105/Nursery\, and Gym used
URL:https://longbeachalliance.digitalchurch.app/event/gospel-project-childrens-ministry-113/
LOCATION:Long Beach Alliance Church\, 3331 Palo Verde Ave\, Long Beach\, CA\, United States
GEO:33.817334;-118.107762
X-APPLE-STRUCTURED-LOCATION;VALUE=URI;X-ADDRESS=Long Beach Alliance Church 3331 Palo Verde Ave Long Beach CA United States;X-APPLE-RADIUS=500;X-TITLE=3331 Palo Verde Ave:geo:-118.107762,33.817334
END:VEVENT
BEGIN:VEVENT
DTSTART;TZID=America/Los_Angeles:20251116T093000
DTEND;TZID=America/Los_Angeles:20251116T104500
DTSTAMP:20260419T225852
CREATED:20250628T010938Z
LAST-MODIFIED:20251116T095758Z
UID:10002742-1763285400-1763289900@longbeachalliance.digitalchurch.app
SUMMARY:Worship & Celebration Service
DESCRIPTION:To watch the Livestream go to YouTube.com/longbeachalliancechurch
URL:https://longbeachalliance.digitalchurch.app/event/worship-celebration-service-92/
LOCATION:YouTube.com/longbeachalliancechurch
END:VEVENT
BEGIN:VEVENT
DTSTART;TZID=America/Los_Angeles:20251116T111500
DTEND;TZID=America/Los_Angeles:20251116T121500
DTSTAMP:20260419T225852
CREATED:20251012T210322Z
LAST-MODIFIED:20251116T095758Z
UID:10003029-1763291700-1763295300@longbeachalliance.digitalchurch.app
SUMMARY:Children's Musical Practice
DESCRIPTION:Sanctuary Used\nContact: Marikka Ostermann or Traci Garber
URL:https://longbeachalliance.digitalchurch.app/event/childrens-musical-practice-22/
LOCATION:Long Beach Alliance Church\, 3331 Palo Verde Ave\, Long Beach\, CA\, United States
GEO:33.817334;-118.107762
X-APPLE-STRUCTURED-LOCATION;VALUE=URI;X-ADDRESS=Long Beach Alliance Church 3331 Palo Verde Ave Long Beach CA United States;X-APPLE-RADIUS=500;X-TITLE=3331 Palo Verde Ave:geo:-118.107762,33.817334
END:VEVENT
BEGIN:VEVENT
DTSTART;TZID=America/Los_Angeles:20251117T190000
DTEND;TZID=America/Los_Angeles:20251117T203000
DTSTAMP:20260419T225852
CREATED:20250628T010938Z
LAST-MODIFIED:20251117T102725Z
UID:10002743-1763406000-1763411400@longbeachalliance.digitalchurch.app
SUMMARY:Survivors of Incest Anonymous In-Person & Zoom Meeting
DESCRIPTION:Rm 102 used\n@ 10 people\nContact: Maryjean Cazeau 714-366-3887
URL:https://longbeachalliance.digitalchurch.app/event/survivors-of-incest-anonymous-in-person-zoom-meeting-132/
LOCATION:Long Beach Alliance Church\, 3331 Palo Verde Ave\, Long Beach\, CA\, United States
GEO:33.817334;-118.107762
X-APPLE-STRUCTURED-LOCATION;VALUE=URI;X-ADDRESS=Long Beach Alliance Church 3331 Palo Verde Ave Long Beach CA United States;X-APPLE-RADIUS=500;X-TITLE=3331 Palo Verde Ave:geo:-118.107762,33.817334
END:VEVENT
BEGIN:VEVENT
DTSTART;TZID=America/Los_Angeles:20251117T190000
DTEND;TZID=America/Los_Angeles:20251117T210000
DTSTAMP:20260419T225852
CREATED:20250628T010939Z
LAST-MODIFIED:20251117T102725Z
UID:10002744-1763406000-1763413200@longbeachalliance.digitalchurch.app
SUMMARY:Betrayal and Beyond Ministry @ the Eberharts
DESCRIPTION:Contact: Debra Eberhart 925.580.7004
URL:https://longbeachalliance.digitalchurch.app/event/betrayal-and-beyond-ministry-the-eberharts-273/
LOCATION:CA
END:VEVENT
BEGIN:VEVENT
DTSTART;TZID=America/Los_Angeles:20251117T190000
DTEND;TZID=America/Los_Angeles:20251117T210000
DTSTAMP:20260419T225852
CREATED:20250628T010939Z
LAST-MODIFIED:20251117T102725Z
UID:10002745-1763406000-1763413200@longbeachalliance.digitalchurch.app
SUMMARY:Pure Desire Ministry Meeting
DESCRIPTION:Gym Used\nContactL Sam Eberhart 925.285.1295
URL:https://longbeachalliance.digitalchurch.app/event/pure-desire-ministry-meeting-131/
LOCATION:3331 Palo Verde Ave\, Long Beach\, CA\, United States
GEO:33.823943;-118.111336
END:VEVENT
BEGIN:VEVENT
DTSTART;TZID=America/Los_Angeles:20251118T100000
DTEND;TZID=America/Los_Angeles:20251118T120000
DTSTAMP:20260419T225852
CREATED:20250628T010939Z
LAST-MODIFIED:20251103T050627Z
UID:10002746-1763460000-1763467200@longbeachalliance.digitalchurch.app
SUMMARY:All Staff • Weekly Team Meeting
DESCRIPTION:
URL:https://longbeachalliance.digitalchurch.app/event/all-staff-weekly-team-meeting-102/
LOCATION:3331 Palo Verde Ave\, Long Beach\, CA\, United States
GEO:33.823943;-118.111336
END:VEVENT
BEGIN:VEVENT
DTSTART;TZID=America/Los_Angeles:20251118T180000
DTEND;TZID=America/Los_Angeles:20251118T200000
DTSTAMP:20260419T225852
CREATED:20250916T032256Z
LAST-MODIFIED:20251015T221511Z
UID:10002962-1763488800-1763496000@longbeachalliance.digitalchurch.app
SUMMARY:Women's Bible Study
DESCRIPTION:Located at Michelle Moses’ house\nContact: Deya Slade deya@charter.net
URL:https://longbeachalliance.digitalchurch.app/event/womens-bible-study-9/
LOCATION:5454 E Ocean Blvd\, Long Beach\, CA\, United States
GEO:33.759885;-118.13016
END:VEVENT
BEGIN:VEVENT
DTSTART;TZID=America/Los_Angeles:20251118T190000
DTEND;TZID=America/Los_Angeles:20251118T210000
DTSTAMP:20260419T225852
CREATED:20250629T013557Z
LAST-MODIFIED:20250812T180452Z
UID:10002747-1763492400-1763499600@longbeachalliance.digitalchurch.app
SUMMARY:Men's Bible Study @ the Millers
DESCRIPTION:Facilitator: John Welliver\nContact Dave Miller 562.773.9100 dmiller002@cc.rr.com
URL:https://longbeachalliance.digitalchurch.app/event/mens-bible-study-the-millers-127/
LOCATION:4702 Snowden Ave\, Lakewood\, CA\, United States
GEO:33.850465;-118.109399
END:VEVENT
BEGIN:VEVENT
DTSTART;TZID=America/Los_Angeles:20251118T190000
DTEND;TZID=America/Los_Angeles:20251118T210000
DTSTAMP:20260419T225852
CREATED:20250630T020358Z
LAST-MODIFIED:20251118T103902Z
UID:10002749-1763492400-1763499600@longbeachalliance.digitalchurch.app
SUMMARY:Middle/High School Youth Group
DESCRIPTION:
URL:https://longbeachalliance.digitalchurch.app/event/middle-high-school-youth-group-104/
LOCATION:Long Beach Alliance Church 3331 Palo Verde Ave\, Long Beach\, CA\, United States
GEO:33.823943;-118.111336
END:VEVENT
BEGIN:VEVENT
DTSTART;TZID=America/Los_Angeles:20251118T190000
DTEND;TZID=America/Los_Angeles:20251118T210000
DTSTAMP:20260419T225852
CREATED:20250813T181921Z
LAST-MODIFIED:20251118T103901Z
UID:10002866-1763492400-1763499600@longbeachalliance.digitalchurch.app
SUMMARY:Men's Bible Study @ the Millers
DESCRIPTION:Studying: Deuteronomy\nFacilitator: John Welliver\nContact Dave Miller 562.773.9100 dmiller002@cc.rr.com
URL:https://longbeachalliance.digitalchurch.app/event/mens-bible-study-the-millers-142/
LOCATION:4702 Snowden Ave\, Lakewood\, CA\, United States
GEO:33.850465;-118.109399
END:VEVENT
BEGIN:VEVENT
DTSTART;TZID=America/Los_Angeles:20251118T190000
DTEND;TZID=America/Los_Angeles:20251118T220000
DTSTAMP:20260419T225852
CREATED:20250624T034732Z
LAST-MODIFIED:20251118T103901Z
UID:10002733-1763492400-1763503200@longbeachalliance.digitalchurch.app
SUMMARY:Governing Board Meeting (2nd Tuesday Night of the Month)
DESCRIPTION:
URL:https://longbeachalliance.digitalchurch.app/event/governing-board-meeting-2nd-tuesday-night-of-the-month-7/
LOCATION:3331 Palo Verde Ave\nLong Beach CA 90808
END:VEVENT
BEGIN:VEVENT
DTSTART;TZID=America/Los_Angeles:20251119T180000
DTEND;TZID=America/Los_Angeles:20251119T200000
DTSTAMP:20260419T225852
CREATED:20250724T114100Z
LAST-MODIFIED:20251119T111521Z
UID:10002818-1763575200-1763582400@longbeachalliance.digitalchurch.app
SUMMARY:Awana - Give Thanks
DESCRIPTION:
URL:https://longbeachalliance.digitalchurch.app/event/awana-76/
LOCATION:CA
END:VEVENT
BEGIN:VEVENT
DTSTART;TZID=America/Los_Angeles:20251120T093000
DTEND;TZID=America/Los_Angeles:20251120T113000
DTSTAMP:20260419T225852
CREATED:20250630T020358Z
LAST-MODIFIED:20251120T114229Z
UID:10002750-1763631000-1763638200@longbeachalliance.digitalchurch.app
SUMMARY:Women's Bible Study @ the Millers
DESCRIPTION:Facilitators: Colvin and Miller; Hosting Marilyn MillersContact: Marilyn Miller 562.922.2024 \nDavid- by Charles Swindoll
URL:https://longbeachalliance.digitalchurch.app/event/womens-bible-study-the-millers-175/
LOCATION:4702 Snowden Ave\, Lakewood\, CA\, United States
GEO:33.850465;-118.109399
END:VEVENT
BEGIN:VEVENT
DTSTART;TZID=America/Los_Angeles:20251120T170000
DTEND;TZID=America/Los_Angeles:20251120T190000
DTSTAMP:20260419T225852
CREATED:20250702T025405Z
LAST-MODIFIED:20251120T114230Z
UID:10002751-1763658000-1763665200@longbeachalliance.digitalchurch.app
SUMMARY:Lydia House Women's Outreach
DESCRIPTION:
URL:https://longbeachalliance.digitalchurch.app/event/lydia-house-womens-outreach-26/
LOCATION:1430 Pacific Ave. Long Beach\, Long Beach\, CA\, United States
GEO:33.780017;-118.183701
END:VEVENT
BEGIN:VEVENT
DTSTART;TZID=America/Los_Angeles:20251120T180000
DTEND;TZID=America/Los_Angeles:20251120T200000
DTSTAMP:20260419T225852
CREATED:20250807T160930Z
LAST-MODIFIED:20251120T114230Z
UID:10002850-1763661600-1763668800@longbeachalliance.digitalchurch.app
SUMMARY:Worship Team Practice
DESCRIPTION:Sanctuary Used\nContact: Scott Trickett scott@lbac.org
URL:https://longbeachalliance.digitalchurch.app/event/worship-team-practice-16/
LOCATION:Long Beach Alliance Church\, 3331 Palo Verde Ave\, Long Beach\, CA\, United States
GEO:33.817334;-118.107762
X-APPLE-STRUCTURED-LOCATION;VALUE=URI;X-ADDRESS=Long Beach Alliance Church 3331 Palo Verde Ave Long Beach CA United States;X-APPLE-RADIUS=500;X-TITLE=3331 Palo Verde Ave:geo:-118.107762,33.817334
END:VEVENT
BEGIN:VEVENT
DTSTART;TZID=America/Los_Angeles:20251120T190000
DTEND;TZID=America/Los_Angeles:20251120T210000
DTSTAMP:20260419T225852
CREATED:20250702T025405Z
LAST-MODIFIED:20251120T114230Z
UID:10002752-1763665200-1763672400@longbeachalliance.digitalchurch.app
SUMMARY:Betrayal and Beyond Ministry @ the Eberharts
DESCRIPTION:Contact: Debra Eberhart 925.580.7004
URL:https://longbeachalliance.digitalchurch.app/event/betrayal-and-beyond-ministry-the-eberharts-274/
LOCATION:CA
END:VEVENT
BEGIN:VEVENT
DTSTART;TZID=America/Los_Angeles:20251121T080000
DTEND;TZID=America/Los_Angeles:20251121T100000
DTSTAMP:20260419T225852
CREATED:20250702T025405Z
LAST-MODIFIED:20251121T115921Z
UID:10002753-1763712000-1763719200@longbeachalliance.digitalchurch.app
SUMMARY:Men's In-Person & Zoom Bible Study
DESCRIPTION:In-Person will be in Room 106Contact Bill Michel\, 714.390.7076\, for Zoom link information.
URL:https://longbeachalliance.digitalchurch.app/event/mens-in-person-zoom-bible-study-128/
LOCATION:CA
END:VEVENT
BEGIN:VEVENT
DTSTART;TZID=America/Los_Angeles:20251121T193000
DTEND;TZID=America/Los_Angeles:20251121T213000
DTSTAMP:20260419T225852
CREATED:20250703T032157Z
LAST-MODIFIED:20251121T115922Z
UID:10002755-1763753400-1763760600@longbeachalliance.digitalchurch.app
SUMMARY:Betrayal and Beyond Ministry (@ Eberharts & Zoom)
DESCRIPTION:Contact: Debra Eberhart 925.580.7004
URL:https://longbeachalliance.digitalchurch.app/event/betrayal-and-beyond-ministry-eberharts-zoom-129/
LOCATION:CA
END:VEVENT
BEGIN:VEVENT
DTSTART;TZID=America/Los_Angeles:20251121T200000
DTEND;TZID=America/Los_Angeles:20251121T213000
DTSTAMP:20260419T225852
CREATED:20250702T025405Z
LAST-MODIFIED:20251121T115922Z
UID:10002754-1763755200-1763760600@longbeachalliance.digitalchurch.app
SUMMARY:NA In-Person Meeting
DESCRIPTION:Additional Set up/Tear Down: 7PM/10:30PM\nRm 102 and Kitchen used (may use Gym or Back patio if group is large)\nContact: \nMaryjean Cazeau 714.366.3887\nYvonne Turco 562.230.0574
URL:https://longbeachalliance.digitalchurch.app/event/na-in-person-meeting-163/
LOCATION:CA
END:VEVENT
BEGIN:VEVENT
DTSTART;TZID=America/Los_Angeles:20251122T080000
DTEND;TZID=America/Los_Angeles:20251122T120000
DTSTAMP:20260419T225852
CREATED:20250807T160943Z
LAST-MODIFIED:20251122T121344Z
UID:10002851-1763798400-1763812800@longbeachalliance.digitalchurch.app
SUMMARY:Work Day
DESCRIPTION:Lunch to follow directly after\nContact: Jeremiah jeremiah@lbac.org
URL:https://longbeachalliance.digitalchurch.app/event/work-day-8/
LOCATION:CA
END:VEVENT
BEGIN:VEVENT
DTSTART;TZID=America/Los_Angeles:20251122T180000
DTEND;TZID=America/Los_Angeles:20251122T200000
DTSTAMP:20260419T225852
CREATED:20250826T002305Z
LAST-MODIFIED:20251122T121344Z
UID:10002899-1763834400-1763841600@longbeachalliance.digitalchurch.app
SUMMARY:Family Movie Night (Light of the World)
DESCRIPTION:Gym and Kitchen being used\nGym will be set up earlier in the day
URL:https://longbeachalliance.digitalchurch.app/event/family-movie-night-3/
LOCATION:CA
END:VEVENT
BEGIN:VEVENT
DTSTART;VALUE=DATE:20251123
DTEND;VALUE=DATE:20251124
DTSTAMP:20260419T225852
CREATED:20251113T084818Z
LAST-MODIFIED:20251123T122946Z
UID:10003143-1763856000-1763942399@longbeachalliance.digitalchurch.app
SUMMARY:Worship And Prayer
DESCRIPTION:
URL:https://longbeachalliance.digitalchurch.app/event/worship-and-prayer/
LOCATION:CA
END:VEVENT
BEGIN:VEVENT
DTSTART;TZID=America/Los_Angeles:20251123T093000
DTEND;TZID=America/Los_Angeles:20251123T104500
DTSTAMP:20260419T225852
CREATED:20250703T032157Z
LAST-MODIFIED:20251123T122946Z
UID:10002756-1763890200-1763894700@longbeachalliance.digitalchurch.app
SUMMARY:Gospel Project: Children's Ministry
DESCRIPTION:Contact Meghan Brearley\, meghan@lbac.org\, for questions \nUpstairs\, Rm 105/Nursery\, and Gym used
URL:https://longbeachalliance.digitalchurch.app/event/gospel-project-childrens-ministry-114/
LOCATION:Long Beach Alliance Church\, 3331 Palo Verde Ave\, Long Beach\, CA\, United States
GEO:33.817334;-118.107762
X-APPLE-STRUCTURED-LOCATION;VALUE=URI;X-ADDRESS=Long Beach Alliance Church 3331 Palo Verde Ave Long Beach CA United States;X-APPLE-RADIUS=500;X-TITLE=3331 Palo Verde Ave:geo:-118.107762,33.817334
END:VEVENT
END:VCALENDAR