BEGIN:VCALENDAR
VERSION:2.0
PRODID:-//Long Beach Alliance Church - ECPv6.6.4//NONSGML v1.0//EN
CALSCALE:GREGORIAN
METHOD:PUBLISH
X-WR-CALNAME:Long Beach Alliance Church
X-ORIGINAL-URL:https://longbeachalliance.digitalchurch.app
X-WR-CALDESC:Events for Long Beach Alliance Church
REFRESH-INTERVAL;VALUE=DURATION:PT1H
X-Robots-Tag:noindex
X-PUBLISHED-TTL:PT1H
BEGIN:VTIMEZONE
TZID:America/Los_Angeles
BEGIN:DAYLIGHT
TZOFFSETFROM:-0800
TZOFFSETTO:-0700
TZNAME:PDT
DTSTART:20250309T100000
END:DAYLIGHT
BEGIN:STANDARD
TZOFFSETFROM:-0700
TZOFFSETTO:-0800
TZNAME:PST
DTSTART:20251102T090000
END:STANDARD
END:VTIMEZONE
BEGIN:VEVENT
DTSTART;TZID=America/Los_Angeles:20250326T183000
DTEND;TZID=America/Los_Angeles:20250326T203000
DTSTAMP:20260425T035910
CREATED:20241118T154622Z
LAST-MODIFIED:20250326T162930Z
UID:10002124-1743013800-1743021000@longbeachalliance.digitalchurch.app
SUMMARY:AWANA
DESCRIPTION:
URL:https://longbeachalliance.digitalchurch.app/event/awana-58/
LOCATION:3331 Palo Verde Ave\nLong Beach\, CA\, United States
END:VEVENT
BEGIN:VEVENT
DTSTART;TZID=America/Los_Angeles:20250327T093000
DTEND;TZID=America/Los_Angeles:20250327T113000
DTSTAMP:20260425T035910
CREATED:20241119T160918Z
LAST-MODIFIED:20241120T164108Z
UID:10002125-1743067800-1743075000@longbeachalliance.digitalchurch.app
SUMMARY:Women's Bible Study @ the Millers
DESCRIPTION:Facilitators: Colvin and Miller; Hosting Marilyn MillersContact: Marilyn Miller 562.922.2024 \n1 Samuel by John MacArthur
URL:https://longbeachalliance.digitalchurch.app/event/womens-bible-study-the-millers-122/
LOCATION:4702 Snowden Ave\, Lakewood\, CA\, United States
GEO:33.850465;-118.109399
END:VEVENT
BEGIN:VEVENT
DTSTART;TZID=America/Los_Angeles:20250327T093000
DTEND;TZID=America/Los_Angeles:20250327T113000
DTSTAMP:20260425T035910
CREATED:20241121T170324Z
LAST-MODIFIED:20250327T170554Z
UID:10002146-1743067800-1743075000@longbeachalliance.digitalchurch.app
SUMMARY:Women's Bible Study @ the Millers
DESCRIPTION:Facilitators: Colvin and Miller; Hosting Marilyn MillersContact: Marilyn Miller 562.922.2024 \nDavid- by Charles Swindoll
URL:https://longbeachalliance.digitalchurch.app/event/womens-bible-study-the-millers-139/
LOCATION:4702 Snowden Ave\, Lakewood\, CA\, United States
GEO:33.850465;-118.109399
END:VEVENT
BEGIN:VEVENT
DTSTART;TZID=America/Los_Angeles:20250327T183000
DTEND;TZID=America/Los_Angeles:20250327T200000
DTSTAMP:20260425T035910
CREATED:20250219T041651Z
LAST-MODIFIED:20250327T170555Z
UID:10002394-1743100200-1743105600@longbeachalliance.digitalchurch.app
SUMMARY:LBAC Night of Worship & Prayer
DESCRIPTION:Sanctuary Lobby Used
URL:https://longbeachalliance.digitalchurch.app/event/lbac-night-of-worship-prayer-5/
END:VEVENT
BEGIN:VEVENT
DTSTART;TZID=America/Los_Angeles:20250327T190000
DTEND;TZID=America/Los_Angeles:20250327T210000
DTSTAMP:20260425T035910
CREATED:20230526T152203Z
LAST-MODIFIED:20230526T160444Z
UID:10000363-1743102000-1743109200@longbeachalliance.digitalchurch.app
SUMMARY:Middle School Youth Group
DESCRIPTION:
URL:https://longbeachalliance.digitalchurch.app/event/middle-school-youth-group/2025-03-27/
CATEGORIES:Youth
END:VEVENT
BEGIN:VEVENT
DTSTART;TZID=America/Los_Angeles:20250327T190000
DTEND;TZID=America/Los_Angeles:20250327T210000
DTSTAMP:20260425T035910
CREATED:20241119T160918Z
LAST-MODIFIED:20250327T170555Z
UID:10002126-1743102000-1743109200@longbeachalliance.digitalchurch.app
SUMMARY:Betrayal and Beyond Ministry @ the Eberharts
DESCRIPTION:Contact: Debra Eberhart 925.580.7004
URL:https://longbeachalliance.digitalchurch.app/event/betrayal-and-beyond-ministry-the-eberharts-185/
END:VEVENT
BEGIN:VEVENT
DTSTART;TZID=America/Los_Angeles:20250328T080000
DTEND;TZID=America/Los_Angeles:20250328T100000
DTSTAMP:20260425T035910
CREATED:20241119T160919Z
LAST-MODIFIED:20250327T170555Z
UID:10002127-1743148800-1743156000@longbeachalliance.digitalchurch.app
SUMMARY:Men's In-Person & Zoom Bible Study
DESCRIPTION:In-Person will be in Room 106Contact Bill Michel\, 714.390.7076\, for Zoom link information.
URL:https://longbeachalliance.digitalchurch.app/event/mens-in-person-zoom-bible-study-92/
END:VEVENT
BEGIN:VEVENT
DTSTART;TZID=America/Los_Angeles:20250328T100000
DTEND;TZID=America/Los_Angeles:20250328T120000
DTSTAMP:20260425T035910
CREATED:20250306T091958Z
LAST-MODIFIED:20250328T172527Z
UID:10002448-1743156000-1743163200@longbeachalliance.digitalchurch.app
SUMMARY:Women Connecting with Missions Stamp Sorting
DESCRIPTION:Contact: Kathie Metz 562.234.5937
URL:https://longbeachalliance.digitalchurch.app/event/women-connecting-with-missions-stamp-sorting/
LOCATION:3448 Stevely Ave\, Long Beach\, CA\, United States
GEO:33.823943;-118.111336
END:VEVENT
BEGIN:VEVENT
DTSTART;TZID=America/Los_Angeles:20250328T183000
DTEND;TZID=America/Los_Angeles:20250328T213000
DTSTAMP:20260425T035910
CREATED:20250314T121503Z
LAST-MODIFIED:20250328T172527Z
UID:10002483-1743186600-1743197400@longbeachalliance.digitalchurch.app
SUMMARY:Youth Puzzle/Game Night
DESCRIPTION:Upstairs CE Youth room and Classrooms used
URL:https://longbeachalliance.digitalchurch.app/event/youth-puzzle-game-night/
END:VEVENT
BEGIN:VEVENT
DTSTART;TZID=America/Los_Angeles:20250328T193000
DTEND;TZID=America/Los_Angeles:20250328T213000
DTSTAMP:20260425T035910
CREATED:20241120T162808Z
LAST-MODIFIED:20250328T172527Z
UID:10002128-1743190200-1743197400@longbeachalliance.digitalchurch.app
SUMMARY:Betrayal and Beyond Ministry (@ Eberharts & Zoom)
DESCRIPTION:Contact: Debra Eberhart 925.580.7004
URL:https://longbeachalliance.digitalchurch.app/event/betrayal-and-beyond-ministry-eberharts-zoom-94/
END:VEVENT
BEGIN:VEVENT
DTSTART;TZID=America/Los_Angeles:20250328T200000
DTEND;TZID=America/Los_Angeles:20250328T213000
DTSTAMP:20260425T035910
CREATED:20241120T162809Z
LAST-MODIFIED:20250219T042329Z
UID:10002129-1743192000-1743197400@longbeachalliance.digitalchurch.app
SUMMARY:NA In-Person Meeting
DESCRIPTION:Rm 102\, Sanctuary or back patio used depending on size of the group; Also Kitchen\nContact: Yvonne Turco 562.230.0574
URL:https://longbeachalliance.digitalchurch.app/event/na-in-person-meeting-112/
END:VEVENT
BEGIN:VEVENT
DTSTART;TZID=America/Los_Angeles:20250328T200000
DTEND;TZID=America/Los_Angeles:20250328T213000
DTSTAMP:20260425T035910
CREATED:20250312T113010Z
LAST-MODIFIED:20250328T172527Z
UID:10002466-1743192000-1743197400@longbeachalliance.digitalchurch.app
SUMMARY:NA In-Person Meeting
DESCRIPTION:Additional Set up/Tear Down: 7PM/10:30PM\nRm 102 and Kitchen used (may use Gym or Back patio if group is large)\nContact: \nMaryjean Cazeau 714.366.3887\nYvonne Turco 562.230.0574
URL:https://longbeachalliance.digitalchurch.app/event/na-in-person-meeting-128/
END:VEVENT
BEGIN:VEVENT
DTSTART;TZID=America/Los_Angeles:20250329T100000
DTEND;TZID=America/Los_Angeles:20250329T120000
DTSTAMP:20260425T035910
CREATED:20250306T091958Z
LAST-MODIFIED:20250329T173647Z
UID:10002449-1743242400-1743249600@longbeachalliance.digitalchurch.app
SUMMARY:Women Connecting with Missions Stamp Sorting
DESCRIPTION:Contact: Kathie Metz 562.234.5937
URL:https://longbeachalliance.digitalchurch.app/event/women-connecting-with-missions-stamp-sorting-2/
LOCATION:3448 Stevely Ave\, Long Beach\, CA\, United States
GEO:33.823943;-118.111336
END:VEVENT
BEGIN:VEVENT
DTSTART;TZID=America/Los_Angeles:20250330T093000
DTEND;TZID=America/Los_Angeles:20250330T104500
DTSTAMP:20260425T035910
CREATED:20241121T170324Z
LAST-MODIFIED:20250329T173648Z
UID:10002147-1743327000-1743331500@longbeachalliance.digitalchurch.app
SUMMARY:Gospel Project: Children's Ministry
DESCRIPTION:Contact Meghan Brearley\, meghan@lbac.org\, for questions \nUpstairs\, Rm 105/Nursery\, and Gym used
URL:https://longbeachalliance.digitalchurch.app/event/gospel-project-childrens-ministry-79/
LOCATION:Long Beach Alliance Church\, 3331 Palo Verde Ave\, Long Beach\, CA\, United States
GEO:33.817334;-118.107762
X-APPLE-STRUCTURED-LOCATION;VALUE=URI;X-ADDRESS=Long Beach Alliance Church 3331 Palo Verde Ave Long Beach CA United States;X-APPLE-RADIUS=500;X-TITLE=3331 Palo Verde Ave:geo:-118.107762,33.817334
END:VEVENT
BEGIN:VEVENT
DTSTART;TZID=America/Los_Angeles:20250330T093000
DTEND;TZID=America/Los_Angeles:20250330T104500
DTSTAMP:20260425T035910
CREATED:20241122T171319Z
LAST-MODIFIED:20250329T173648Z
UID:10002148-1743327000-1743331500@longbeachalliance.digitalchurch.app
SUMMARY:Worship & Celebration Service
DESCRIPTION:To watch the Livestream go to YouTube.com/longbeachalliancechurch
URL:https://longbeachalliance.digitalchurch.app/event/worship-celebration-service-58/
LOCATION:YouTube.com/longbeachalliancechurch
END:VEVENT
BEGIN:VEVENT
DTSTART;TZID=America/Los_Angeles:20250331T183000
DTEND;TZID=America/Los_Angeles:20250331T210000
DTSTAMP:20260425T035910
CREATED:20250116T145107Z
LAST-MODIFIED:20250331T183902Z
UID:10002304-1743445800-1743454800@longbeachalliance.digitalchurch.app
SUMMARY:Family Skate Night
DESCRIPTION:
URL:https://longbeachalliance.digitalchurch.app/event/family-skate-night/
LOCATION:Holiday Skate Center 175 N Wayfield St\, Orange\, CA\, United States
GEO:33.80098;-117.843772
END:VEVENT
BEGIN:VEVENT
DTSTART;TZID=America/Los_Angeles:20250331T190000
DTEND;TZID=America/Los_Angeles:20250331T203000
DTSTAMP:20260425T035910
CREATED:20241122T171319Z
LAST-MODIFIED:20250331T183902Z
UID:10002151-1743447600-1743453000@longbeachalliance.digitalchurch.app
SUMMARY:Survivors of Incest Anonymous In-Person & Zoom Meeting
DESCRIPTION:Rm 102 used\n@ 10 people\nContact: Maryjean Cazeau 714-366-3887
URL:https://longbeachalliance.digitalchurch.app/event/survivors-of-incest-anonymous-in-person-zoom-meeting-98/
LOCATION:Long Beach Alliance Church\, 3331 Palo Verde Ave\, Long Beach\, CA\, United States
GEO:33.817334;-118.107762
X-APPLE-STRUCTURED-LOCATION;VALUE=URI;X-ADDRESS=Long Beach Alliance Church 3331 Palo Verde Ave Long Beach CA United States;X-APPLE-RADIUS=500;X-TITLE=3331 Palo Verde Ave:geo:-118.107762,33.817334
END:VEVENT
BEGIN:VEVENT
DTSTART;TZID=America/Los_Angeles:20250331T190000
DTEND;TZID=America/Los_Angeles:20250331T210000
DTSTAMP:20260425T035910
CREATED:20241122T171319Z
LAST-MODIFIED:20250331T183902Z
UID:10002149-1743447600-1743454800@longbeachalliance.digitalchurch.app
SUMMARY:Pure Desire Ministry Meeting
DESCRIPTION:Gym Used\nContactL Sam Eberhart 925.285.1295
URL:https://longbeachalliance.digitalchurch.app/event/pure-desire-ministry-meeting-97/
LOCATION:3331 Palo Verde Ave\, Long Beach\, CA\, United States
GEO:33.823943;-118.111336
END:VEVENT
BEGIN:VEVENT
DTSTART;TZID=America/Los_Angeles:20250331T190000
DTEND;TZID=America/Los_Angeles:20250331T210000
DTSTAMP:20260425T035910
CREATED:20241122T171319Z
LAST-MODIFIED:20250113T134503Z
UID:10002150-1743447600-1743454800@longbeachalliance.digitalchurch.app
SUMMARY:Betrayal and Beyond Ministry @ the Eberharts
DESCRIPTION:Contact: Debra Eberhart 925.580.7004
URL:https://longbeachalliance.digitalchurch.app/event/betrayal-and-beyond-ministry-the-eberharts-186/
END:VEVENT
BEGIN:VEVENT
DTSTART;TZID=America/Los_Angeles:20250331T190000
DTEND;TZID=America/Los_Angeles:20250331T210000
DTSTAMP:20260425T035910
CREATED:20250114T140258Z
LAST-MODIFIED:20250331T183903Z
UID:10002287-1743447600-1743454800@longbeachalliance.digitalchurch.app
SUMMARY:Betrayal and Beyond Ministry @ the Eberharts
DESCRIPTION:Contact: Debra Eberhart 925.580.7004
URL:https://longbeachalliance.digitalchurch.app/event/betrayal-and-beyond-ministry-the-eberharts-212/
END:VEVENT
BEGIN:VEVENT
DTSTART;TZID=America/Los_Angeles:20250401T100000
DTEND;TZID=America/Los_Angeles:20250401T120000
DTSTAMP:20260425T035910
CREATED:20241123T172315Z
LAST-MODIFIED:20250115T142753Z
UID:10002152-1743501600-1743508800@longbeachalliance.digitalchurch.app
SUMMARY:All Staff • Weekly Team Meeting
DESCRIPTION:
URL:https://longbeachalliance.digitalchurch.app/event/all-staff-weekly-team-meeting-89/
LOCATION:3331 Palo Verde Ave\, Long Beach\, CA\, United States
GEO:33.823943;-118.111336
END:VEVENT
BEGIN:VEVENT
DTSTART;TZID=America/Los_Angeles:20250401T190000
DTEND;TZID=America/Los_Angeles:20250401T210000
DTSTAMP:20260425T035910
CREATED:20230526T152121Z
LAST-MODIFIED:20230526T160214Z
UID:10000262-1743534000-1743541200@longbeachalliance.digitalchurch.app
SUMMARY:High School Youth Group
DESCRIPTION:
URL:https://longbeachalliance.digitalchurch.app/event/high-school-youth-group-6/2025-04-01/
CATEGORIES:Youth
END:VEVENT
BEGIN:VEVENT
DTSTART;TZID=America/Los_Angeles:20250401T190000
DTEND;TZID=America/Los_Angeles:20250401T210000
DTSTAMP:20260425T035910
CREATED:20241123T172315Z
LAST-MODIFIED:20250401T190135Z
UID:10002153-1743534000-1743541200@longbeachalliance.digitalchurch.app
SUMMARY:Middle/High School Youth Group
DESCRIPTION:
URL:https://longbeachalliance.digitalchurch.app/event/middle-high-school-youth-group-70/
LOCATION:Long Beach Alliance Church 3331 Palo Verde Ave\, Long Beach\, CA\, United States
GEO:33.823943;-118.111336
END:VEVENT
BEGIN:VEVENT
DTSTART;TZID=America/Los_Angeles:20250401T190000
DTEND;TZID=America/Los_Angeles:20250401T210000
DTSTAMP:20260425T035910
CREATED:20241123T172315Z
LAST-MODIFIED:20250401T190135Z
UID:10002154-1743534000-1743541200@longbeachalliance.digitalchurch.app
SUMMARY:Men's Bible Study @ the Millers
DESCRIPTION:Facilitator: John Welliver\nContact Dave Miller 562.773.9100 dmiller002@cc.rr.com
URL:https://longbeachalliance.digitalchurch.app/event/mens-bible-study-the-millers-93/
LOCATION:4702 Snowden Ave\, Lakewood\, CA\, United States
GEO:33.850465;-118.109399
END:VEVENT
BEGIN:VEVENT
DTSTART;TZID=America/Los_Angeles:20250402T183000
DTEND;TZID=America/Los_Angeles:20250402T203000
DTSTAMP:20260425T035910
CREATED:20241124T174311Z
LAST-MODIFIED:20250402T190733Z
UID:10002155-1743618600-1743625800@longbeachalliance.digitalchurch.app
SUMMARY:AWANA
DESCRIPTION:
URL:https://longbeachalliance.digitalchurch.app/event/awana-59/
LOCATION:3331 Palo Verde Ave\nLong Beach\, CA\, United States
END:VEVENT
BEGIN:VEVENT
DTSTART;TZID=America/Los_Angeles:20250403T093000
DTEND;TZID=America/Los_Angeles:20250403T113000
DTSTAMP:20260425T035910
CREATED:20241124T174311Z
LAST-MODIFIED:20250402T190733Z
UID:10002156-1743672600-1743679800@longbeachalliance.digitalchurch.app
SUMMARY:Women's Bible Study @ the Millers
DESCRIPTION:Facilitators: Colvin and Miller; Hosting Marilyn MillersContact: Marilyn Miller 562.922.2024 \nDavid- by Charles Swindoll
URL:https://longbeachalliance.digitalchurch.app/event/womens-bible-study-the-millers-140/
LOCATION:4702 Snowden Ave\, Lakewood\, CA\, United States
GEO:33.850465;-118.109399
END:VEVENT
BEGIN:VEVENT
DTSTART;TZID=America/Los_Angeles:20250403T190000
DTEND;TZID=America/Los_Angeles:20250403T210000
DTSTAMP:20260425T035910
CREATED:20230526T152203Z
LAST-MODIFIED:20230526T160444Z
UID:10000364-1743706800-1743714000@longbeachalliance.digitalchurch.app
SUMMARY:Middle School Youth Group
DESCRIPTION:
URL:https://longbeachalliance.digitalchurch.app/event/middle-school-youth-group/2025-04-03/
CATEGORIES:Youth
END:VEVENT
BEGIN:VEVENT
DTSTART;TZID=America/Los_Angeles:20250403T190000
DTEND;TZID=America/Los_Angeles:20250403T210000
DTSTAMP:20260425T035910
CREATED:20241125T181506Z
LAST-MODIFIED:20250403T192701Z
UID:10002157-1743706800-1743714000@longbeachalliance.digitalchurch.app
SUMMARY:Betrayal and Beyond Ministry @ the Eberharts
DESCRIPTION:Contact: Debra Eberhart 925.580.7004
URL:https://longbeachalliance.digitalchurch.app/event/betrayal-and-beyond-ministry-the-eberharts-187/
END:VEVENT
BEGIN:VEVENT
DTSTART;TZID=America/Los_Angeles:20250404T080000
DTEND;TZID=America/Los_Angeles:20250404T100000
DTSTAMP:20260425T035910
CREATED:20241125T181506Z
LAST-MODIFIED:20250403T192702Z
UID:10002158-1743753600-1743760800@longbeachalliance.digitalchurch.app
SUMMARY:Men's In-Person & Zoom Bible Study
DESCRIPTION:In-Person will be in Room 106Contact Bill Michel\, 714.390.7076\, for Zoom link information.
URL:https://longbeachalliance.digitalchurch.app/event/mens-in-person-zoom-bible-study-93/
END:VEVENT
BEGIN:VEVENT
DTSTART;TZID=America/Los_Angeles:20250404T193000
DTEND;TZID=America/Los_Angeles:20250404T213000
DTSTAMP:20260425T035910
CREATED:20241125T181507Z
LAST-MODIFIED:20250404T200249Z
UID:10002159-1743795000-1743802200@longbeachalliance.digitalchurch.app
SUMMARY:Betrayal and Beyond Ministry (@ Eberharts & Zoom)
DESCRIPTION:Contact: Debra Eberhart 925.580.7004
URL:https://longbeachalliance.digitalchurch.app/event/betrayal-and-beyond-ministry-eberharts-zoom-95/
END:VEVENT
END:VCALENDAR