BEGIN:VCALENDAR
VERSION:2.0
PRODID:-//Long Beach Alliance Church - ECPv6.6.4//NONSGML v1.0//EN
CALSCALE:GREGORIAN
METHOD:PUBLISH
X-WR-CALNAME:Long Beach Alliance Church
X-ORIGINAL-URL:https://longbeachalliance.digitalchurch.app
X-WR-CALDESC:Events for Long Beach Alliance Church
REFRESH-INTERVAL;VALUE=DURATION:PT1H
X-Robots-Tag:noindex
X-PUBLISHED-TTL:PT1H
BEGIN:VTIMEZONE
TZID:America/Los_Angeles
BEGIN:DAYLIGHT
TZOFFSETFROM:-0800
TZOFFSETTO:-0700
TZNAME:PDT
DTSTART:20250309T100000
END:DAYLIGHT
BEGIN:STANDARD
TZOFFSETFROM:-0700
TZOFFSETTO:-0800
TZNAME:PST
DTSTART:20251102T090000
END:STANDARD
END:VTIMEZONE
BEGIN:VEVENT
DTSTART;TZID=America/Los_Angeles:20250918T170000
DTEND;TZID=America/Los_Angeles:20250918T190000
DTSTAMP:20260419T211202
CREATED:20250505T062655Z
LAST-MODIFIED:20250918T121200Z
UID:10002601-1758214800-1758222000@longbeachalliance.digitalchurch.app
SUMMARY:Lydia House Women's Outreach
DESCRIPTION:
URL:https://longbeachalliance.digitalchurch.app/event/lydia-house-womens-outreach-24/
LOCATION:1430 Pacific Ave. Long Beach\, Long Beach\, CA\, United States
GEO:33.780017;-118.183701
END:VEVENT
BEGIN:VEVENT
DTSTART;TZID=America/Los_Angeles:20250918T180000
DTEND;TZID=America/Los_Angeles:20250918T200000
DTSTAMP:20260419T211202
CREATED:20250807T160615Z
LAST-MODIFIED:20250918T121200Z
UID:10002841-1758218400-1758225600@longbeachalliance.digitalchurch.app
SUMMARY:Worship Team Practice
DESCRIPTION:Sanctuary Used\nContact: Scott Trickett scott@lbac.org
URL:https://longbeachalliance.digitalchurch.app/event/worship-team-practice-7/
LOCATION:Long Beach Alliance Church\, 3331 Palo Verde Ave\, Long Beach\, CA\, United States
GEO:33.817334;-118.107762
X-APPLE-STRUCTURED-LOCATION;VALUE=URI;X-ADDRESS=Long Beach Alliance Church 3331 Palo Verde Ave Long Beach CA United States;X-APPLE-RADIUS=500;X-TITLE=3331 Palo Verde Ave:geo:-118.107762,33.817334
END:VEVENT
BEGIN:VEVENT
DTSTART;TZID=America/Los_Angeles:20250918T180000
DTEND;TZID=America/Los_Angeles:20250918T213000
DTSTAMP:20260419T211202
CREATED:20250829T011609Z
LAST-MODIFIED:20250902T025913Z
UID:10002910-1758218400-1758231000@longbeachalliance.digitalchurch.app
SUMMARY:Youth Ice Skating
DESCRIPTION:Meet at Church at 6PM\nContact: Hank hank@lbac.org
URL:https://longbeachalliance.digitalchurch.app/event/youth-ice-skating/
LOCATION:The Rinks – Lakewood ICE\, 3975 Pixie Ave\, Lakewood\, CA\, United States
GEO:33.829555;-118.162417
X-APPLE-STRUCTURED-LOCATION;VALUE=URI;X-ADDRESS=The Rinks – Lakewood ICE 3975 Pixie Ave Lakewood CA United States;X-APPLE-RADIUS=500;X-TITLE=3975 Pixie Ave:geo:-118.162417,33.829555
END:VEVENT
BEGIN:VEVENT
DTSTART;TZID=America/Los_Angeles:20250918T180000
DTEND;TZID=America/Los_Angeles:20250918T213000
DTSTAMP:20260419T211202
CREATED:20250903T025934Z
LAST-MODIFIED:20250918T121200Z
UID:10002918-1758218400-1758231000@longbeachalliance.digitalchurch.app
SUMMARY:Youth Ice Skating
DESCRIPTION:Meet at Church at 6PM\nContact: Hank hank@lbac.org
URL:https://longbeachalliance.digitalchurch.app/event/youth-ice-skating-2/
LOCATION:The Rinks – Lakewood ICE\, 3975 Pixie Ave\, Lakewood\, CA\, United States
GEO:33.829555;-118.162417
X-APPLE-STRUCTURED-LOCATION;VALUE=URI;X-ADDRESS=The Rinks – Lakewood ICE 3975 Pixie Ave Lakewood CA United States;X-APPLE-RADIUS=500;X-TITLE=3975 Pixie Ave:geo:-118.162417,33.829555
END:VEVENT
BEGIN:VEVENT
DTSTART;TZID=America/Los_Angeles:20250918T190000
DTEND;TZID=America/Los_Angeles:20250918T210000
DTSTAMP:20260419T211202
CREATED:20250504T055953Z
LAST-MODIFIED:20250918T121200Z
UID:10002600-1758222000-1758229200@longbeachalliance.digitalchurch.app
SUMMARY:Betrayal and Beyond Ministry @ the Eberharts
DESCRIPTION:Contact: Debra Eberhart 925.580.7004
URL:https://longbeachalliance.digitalchurch.app/event/betrayal-and-beyond-ministry-the-eberharts-253/
END:VEVENT
BEGIN:VEVENT
DTSTART;TZID=America/Los_Angeles:20250919T080000
DTEND;TZID=America/Los_Angeles:20250919T100000
DTSTAMP:20260419T211202
CREATED:20250505T062655Z
LAST-MODIFIED:20250919T123116Z
UID:10002602-1758268800-1758276000@longbeachalliance.digitalchurch.app
SUMMARY:Men's In-Person & Zoom Bible Study
DESCRIPTION:In-Person will be in Room 106Contact Bill Michel\, 714.390.7076\, for Zoom link information.
URL:https://longbeachalliance.digitalchurch.app/event/mens-in-person-zoom-bible-study-117/
END:VEVENT
BEGIN:VEVENT
DTSTART;TZID=America/Los_Angeles:20250919T193000
DTEND;TZID=America/Los_Angeles:20250919T213000
DTSTAMP:20260419T211202
CREATED:20250506T065604Z
LAST-MODIFIED:20250919T123116Z
UID:10002604-1758310200-1758317400@longbeachalliance.digitalchurch.app
SUMMARY:Betrayal and Beyond Ministry (@ Eberharts & Zoom)
DESCRIPTION:Contact: Debra Eberhart 925.580.7004
URL:https://longbeachalliance.digitalchurch.app/event/betrayal-and-beyond-ministry-eberharts-zoom-119/
END:VEVENT
BEGIN:VEVENT
DTSTART;TZID=America/Los_Angeles:20250919T200000
DTEND;TZID=America/Los_Angeles:20250919T213000
DTSTAMP:20260419T211202
CREATED:20250506T065603Z
LAST-MODIFIED:20250919T123116Z
UID:10002603-1758312000-1758317400@longbeachalliance.digitalchurch.app
SUMMARY:NA In-Person Meeting
DESCRIPTION:Additional Set up/Tear Down: 7PM/10:30PM\nRm 102 and Kitchen used (may use Gym or Back patio if group is large)\nContact: \nMaryjean Cazeau 714.366.3887\nYvonne Turco 562.230.0574
URL:https://longbeachalliance.digitalchurch.app/event/na-in-person-meeting-153/
END:VEVENT
BEGIN:VEVENT
DTSTART;TZID=America/Los_Angeles:20250920T100000
DTEND;TZID=America/Los_Angeles:20250920T160000
DTSTAMP:20260419T211202
CREATED:20250506T065604Z
LAST-MODIFIED:20250920T130040Z
UID:10002605-1758362400-1758384000@longbeachalliance.digitalchurch.app
SUMMARY:Crafty Women
DESCRIPTION:@12 women \nRm 102 or the Gym used (depends how many ladies come) \nContact: Donna Neel donna@neel.com
URL:https://longbeachalliance.digitalchurch.app/event/crafty-women-22/
LOCATION:Long Beach Alliance Church\, 3331 Palo Verde Ave\, Long Beach\, CA\, United States
GEO:33.817334;-118.107762
X-APPLE-STRUCTURED-LOCATION;VALUE=URI;X-ADDRESS=Long Beach Alliance Church 3331 Palo Verde Ave Long Beach CA United States;X-APPLE-RADIUS=500;X-TITLE=3331 Palo Verde Ave:geo:-118.107762,33.817334
END:VEVENT
BEGIN:VEVENT
DTSTART;TZID=America/Los_Angeles:20250921T093000
DTEND;TZID=America/Los_Angeles:20250921T104500
DTSTAMP:20260419T211202
CREATED:20250507T071244Z
LAST-MODIFIED:20250921T132533Z
UID:10002606-1758447000-1758451500@longbeachalliance.digitalchurch.app
SUMMARY:Gospel Project: Children's Ministry
DESCRIPTION:Contact Meghan Brearley\, meghan@lbac.org\, for questions \nUpstairs\, Rm 105/Nursery\, and Gym used
URL:https://longbeachalliance.digitalchurch.app/event/gospel-project-childrens-ministry-104/
LOCATION:Long Beach Alliance Church\, 3331 Palo Verde Ave\, Long Beach\, CA\, United States
GEO:33.817334;-118.107762
X-APPLE-STRUCTURED-LOCATION;VALUE=URI;X-ADDRESS=Long Beach Alliance Church 3331 Palo Verde Ave Long Beach CA United States;X-APPLE-RADIUS=500;X-TITLE=3331 Palo Verde Ave:geo:-118.107762,33.817334
END:VEVENT
BEGIN:VEVENT
DTSTART;TZID=America/Los_Angeles:20250921T093000
DTEND;TZID=America/Los_Angeles:20250921T104500
DTSTAMP:20260419T211202
CREATED:20250507T071244Z
LAST-MODIFIED:20250921T132533Z
UID:10002607-1758447000-1758451500@longbeachalliance.digitalchurch.app
SUMMARY:Worship & Celebration Service
DESCRIPTION:To watch the Livestream go to YouTube.com/longbeachalliancechurch
URL:https://longbeachalliance.digitalchurch.app/event/worship-celebration-service-83/
LOCATION:YouTube.com/longbeachalliancechurch
END:VEVENT
BEGIN:VEVENT
DTSTART;TZID=America/Los_Angeles:20250921T120000
DTEND;TZID=America/Los_Angeles:20250921T170000
DTSTAMP:20260419T211202
CREATED:20250910T011547Z
LAST-MODIFIED:20250921T132533Z
UID:10002940-1758456000-1758474000@longbeachalliance.digitalchurch.app
SUMMARY:New Member's Class/Luncheon
DESCRIPTION:
URL:https://longbeachalliance.digitalchurch.app/event/new-members-class-luncheon/
LOCATION:3331 Palo Verde Ave\, Long Beach\, CA\, United States
GEO:33.823943;-118.111336
END:VEVENT
BEGIN:VEVENT
DTSTART;TZID=America/Los_Angeles:20250922T183000
DTEND;TZID=America/Los_Angeles:20250922T203000
DTSTAMP:20260419T211202
CREATED:20250509T075129Z
LAST-MODIFIED:20250922T134321Z
UID:10002611-1758565800-1758573000@longbeachalliance.digitalchurch.app
SUMMARY:Life Group @ Bartlebaughs
DESCRIPTION:Tricketts Facilitating\nBartlebaughs hosting
URL:https://longbeachalliance.digitalchurch.app/event/life-group-bartlebaughs-52/
LOCATION:4752 Bellflower Blvd\, Lakewood\, CA\, United States
GEO:33.850465;-118.109399
END:VEVENT
BEGIN:VEVENT
DTSTART;TZID=America/Los_Angeles:20250922T190000
DTEND;TZID=America/Los_Angeles:20250922T203000
DTSTAMP:20260419T211202
CREATED:20250507T071245Z
LAST-MODIFIED:20250922T134321Z
UID:10002608-1758567600-1758573000@longbeachalliance.digitalchurch.app
SUMMARY:Survivors of Incest Anonymous In-Person & Zoom Meeting
DESCRIPTION:Rm 102 used\n@ 10 people\nContact: Maryjean Cazeau 714-366-3887
URL:https://longbeachalliance.digitalchurch.app/event/survivors-of-incest-anonymous-in-person-zoom-meeting-123/
LOCATION:Long Beach Alliance Church\, 3331 Palo Verde Ave\, Long Beach\, CA\, United States
GEO:33.817334;-118.107762
X-APPLE-STRUCTURED-LOCATION;VALUE=URI;X-ADDRESS=Long Beach Alliance Church 3331 Palo Verde Ave Long Beach CA United States;X-APPLE-RADIUS=500;X-TITLE=3331 Palo Verde Ave:geo:-118.107762,33.817334
END:VEVENT
BEGIN:VEVENT
DTSTART;TZID=America/Los_Angeles:20250922T190000
DTEND;TZID=America/Los_Angeles:20250922T210000
DTSTAMP:20260419T211202
CREATED:20250508T072303Z
LAST-MODIFIED:20250922T134321Z
UID:10002609-1758567600-1758574800@longbeachalliance.digitalchurch.app
SUMMARY:Betrayal and Beyond Ministry @ the Eberharts
DESCRIPTION:Contact: Debra Eberhart 925.580.7004
URL:https://longbeachalliance.digitalchurch.app/event/betrayal-and-beyond-ministry-the-eberharts-254/
END:VEVENT
BEGIN:VEVENT
DTSTART;TZID=America/Los_Angeles:20250922T190000
DTEND;TZID=America/Los_Angeles:20250922T210000
DTSTAMP:20260419T211202
CREATED:20250508T072304Z
LAST-MODIFIED:20250922T134321Z
UID:10002610-1758567600-1758574800@longbeachalliance.digitalchurch.app
SUMMARY:Pure Desire Ministry Meeting
DESCRIPTION:Gym Used\nContactL Sam Eberhart 925.285.1295
URL:https://longbeachalliance.digitalchurch.app/event/pure-desire-ministry-meeting-122/
LOCATION:3331 Palo Verde Ave\, Long Beach\, CA\, United States
GEO:33.823943;-118.111336
END:VEVENT
BEGIN:VEVENT
DTSTART;TZID=America/Los_Angeles:20250923T190000
DTEND;TZID=America/Los_Angeles:20250923T210000
DTSTAMP:20260419T211202
CREATED:20250509T075129Z
LAST-MODIFIED:20250923T140010Z
UID:10002612-1758654000-1758661200@longbeachalliance.digitalchurch.app
SUMMARY:Middle/High School Youth Group
DESCRIPTION:
URL:https://longbeachalliance.digitalchurch.app/event/middle-high-school-youth-group-95/
LOCATION:Long Beach Alliance Church 3331 Palo Verde Ave\, Long Beach\, CA\, United States
GEO:33.823943;-118.111336
END:VEVENT
BEGIN:VEVENT
DTSTART;TZID=America/Los_Angeles:20250923T190000
DTEND;TZID=America/Los_Angeles:20250923T210000
DTSTAMP:20260419T211202
CREATED:20250510T081140Z
LAST-MODIFIED:20250812T180443Z
UID:10002614-1758654000-1758661200@longbeachalliance.digitalchurch.app
SUMMARY:Men's Bible Study @ the Millers
DESCRIPTION:Facilitator: John Welliver\nContact Dave Miller 562.773.9100 dmiller002@cc.rr.com
URL:https://longbeachalliance.digitalchurch.app/event/mens-bible-study-the-millers-118/
LOCATION:4702 Snowden Ave\, Lakewood\, CA\, United States
GEO:33.850465;-118.109399
END:VEVENT
BEGIN:VEVENT
DTSTART;TZID=America/Los_Angeles:20250923T190000
DTEND;TZID=America/Los_Angeles:20250923T210000
DTSTAMP:20260419T211202
CREATED:20250813T181634Z
LAST-MODIFIED:20250923T140010Z
UID:10002858-1758654000-1758661200@longbeachalliance.digitalchurch.app
SUMMARY:Men's Bible Study @ the Millers
DESCRIPTION:Studying: Deuteronomy\nFacilitator: John Welliver\nContact Dave Miller 562.773.9100 dmiller002@cc.rr.com
URL:https://longbeachalliance.digitalchurch.app/event/mens-bible-study-the-millers-134/
LOCATION:4702 Snowden Ave\, Lakewood\, CA\, United States
GEO:33.850465;-118.109399
END:VEVENT
BEGIN:VEVENT
DTSTART;TZID=America/Los_Angeles:20250923T190000
DTEND;TZID=America/Los_Angeles:20250923T220000
DTSTAMP:20260419T211202
CREATED:20250510T081140Z
LAST-MODIFIED:20250923T140010Z
UID:10002613-1758654000-1758664800@longbeachalliance.digitalchurch.app
SUMMARY:Elder Board Meeting
DESCRIPTION:
URL:https://longbeachalliance.digitalchurch.app/event/elder-board-meeting-26/
LOCATION:Long Beach Alliance Church 3331 Palo Verde Ave\, Long Beach\, CA\, United States
GEO:33.823943;-118.111336
END:VEVENT
BEGIN:VEVENT
DTSTART;TZID=America/Los_Angeles:20250924T180000
DTEND;TZID=America/Los_Angeles:20250924T200000
DTSTAMP:20260419T211202
CREATED:20250724T113805Z
LAST-MODIFIED:20250924T141518Z
UID:10002810-1758736800-1758744000@longbeachalliance.digitalchurch.app
SUMMARY:Awana - Hat Night
DESCRIPTION:
URL:https://longbeachalliance.digitalchurch.app/event/awana-68/
END:VEVENT
BEGIN:VEVENT
DTSTART;TZID=America/Los_Angeles:20250925T093000
DTEND;TZID=America/Los_Angeles:20250925T113000
DTSTAMP:20260419T211202
CREATED:20250510T081140Z
LAST-MODIFIED:20250925T143905Z
UID:10002615-1758792600-1758799800@longbeachalliance.digitalchurch.app
SUMMARY:Women's Bible Study @ the Millers
DESCRIPTION:Facilitators: Colvin and Miller; Hosting Marilyn MillersContact: Marilyn Miller 562.922.2024 \nDavid- by Charles Swindoll
URL:https://longbeachalliance.digitalchurch.app/event/womens-bible-study-the-millers-165/
LOCATION:4702 Snowden Ave\, Lakewood\, CA\, United States
GEO:33.850465;-118.109399
END:VEVENT
BEGIN:VEVENT
DTSTART;TZID=America/Los_Angeles:20250925T180000
DTEND;TZID=America/Los_Angeles:20250925T200000
DTSTAMP:20260419T211202
CREATED:20250807T160641Z
LAST-MODIFIED:20250925T143906Z
UID:10002842-1758823200-1758830400@longbeachalliance.digitalchurch.app
SUMMARY:Worship Team Practice
DESCRIPTION:Sanctuary Used\nContact: Scott Trickett scott@lbac.org
URL:https://longbeachalliance.digitalchurch.app/event/worship-team-practice-8/
LOCATION:Long Beach Alliance Church\, 3331 Palo Verde Ave\, Long Beach\, CA\, United States
GEO:33.817334;-118.107762
X-APPLE-STRUCTURED-LOCATION;VALUE=URI;X-ADDRESS=Long Beach Alliance Church 3331 Palo Verde Ave Long Beach CA United States;X-APPLE-RADIUS=500;X-TITLE=3331 Palo Verde Ave:geo:-118.107762,33.817334
END:VEVENT
BEGIN:VEVENT
DTSTART;TZID=America/Los_Angeles:20250925T190000
DTEND;TZID=America/Los_Angeles:20250925T210000
DTSTAMP:20260419T211202
CREATED:20250510T081140Z
LAST-MODIFIED:20250925T143906Z
UID:10002616-1758826800-1758834000@longbeachalliance.digitalchurch.app
SUMMARY:Betrayal and Beyond Ministry @ the Eberharts
DESCRIPTION:Contact: Debra Eberhart 925.580.7004
URL:https://longbeachalliance.digitalchurch.app/event/betrayal-and-beyond-ministry-the-eberharts-255/
END:VEVENT
BEGIN:VEVENT
DTSTART;TZID=America/Los_Angeles:20250926T080000
DTEND;TZID=America/Los_Angeles:20250926T100000
DTSTAMP:20260419T211202
CREATED:20250511T083208Z
LAST-MODIFIED:20250926T151410Z
UID:10002617-1758873600-1758880800@longbeachalliance.digitalchurch.app
SUMMARY:Men's In-Person & Zoom Bible Study
DESCRIPTION:In-Person will be in Room 106Contact Bill Michel\, 714.390.7076\, for Zoom link information.
URL:https://longbeachalliance.digitalchurch.app/event/mens-in-person-zoom-bible-study-118/
END:VEVENT
BEGIN:VEVENT
DTSTART;TZID=America/Los_Angeles:20250926T193000
DTEND;TZID=America/Los_Angeles:20250926T213000
DTSTAMP:20260419T211202
CREATED:20250512T090252Z
LAST-MODIFIED:20250926T151410Z
UID:10002618-1758915000-1758922200@longbeachalliance.digitalchurch.app
SUMMARY:Betrayal and Beyond Ministry (@ Eberharts & Zoom)
DESCRIPTION:Contact: Debra Eberhart 925.580.7004
URL:https://longbeachalliance.digitalchurch.app/event/betrayal-and-beyond-ministry-eberharts-zoom-120/
END:VEVENT
BEGIN:VEVENT
DTSTART;TZID=America/Los_Angeles:20250926T200000
DTEND;TZID=America/Los_Angeles:20250926T213000
DTSTAMP:20260419T211202
CREATED:20250512T090253Z
LAST-MODIFIED:20250926T151410Z
UID:10002619-1758916800-1758922200@longbeachalliance.digitalchurch.app
SUMMARY:NA In-Person Meeting
DESCRIPTION:Additional Set up/Tear Down: 7PM/10:30PM\nRm 102 and Kitchen used (may use Gym or Back patio if group is large)\nContact: \nMaryjean Cazeau 714.366.3887\nYvonne Turco 562.230.0574
URL:https://longbeachalliance.digitalchurch.app/event/na-in-person-meeting-154/
END:VEVENT
BEGIN:VEVENT
DTSTART;TZID=America/Los_Angeles:20250927T100000
DTEND;TZID=America/Los_Angeles:20250927T113000
DTSTAMP:20260419T211202
CREATED:20250920T124833Z
LAST-MODIFIED:20250927T153729Z
UID:10002973-1758967200-1758972600@longbeachalliance.digitalchurch.app
SUMMARY:Mary Kay Watson Viewing
DESCRIPTION:
URL:https://longbeachalliance.digitalchurch.app/event/mary-kay-watson-viewing/
LOCATION:Long Beach Alliance Church\n3331 Palo Verde Avenue\nLong Beach CA 90808
END:VEVENT
BEGIN:VEVENT
DTSTART;TZID=America/Los_Angeles:20250927T113000
DTEND;TZID=America/Los_Angeles:20250927T140000
DTSTAMP:20260419T211202
CREATED:20250920T124833Z
LAST-MODIFIED:20250927T153729Z
UID:10002974-1758972600-1758981600@longbeachalliance.digitalchurch.app
SUMMARY:Mary Kay Watson Funeral Followed By Reception In Gym
DESCRIPTION:
URL:https://longbeachalliance.digitalchurch.app/event/mary-kay-watson-funeral-followed-by-reception-in-gym/
LOCATION:Long Beach Alliance Church\n3331 Palo Verde Avenue\nLong Beach CA 90808
END:VEVENT
BEGIN:VEVENT
DTSTART;TZID=America/Los_Angeles:20250928T093000
DTEND;TZID=America/Los_Angeles:20250928T104500
DTSTAMP:20260419T211202
CREATED:20250513T092136Z
LAST-MODIFIED:20250928T155617Z
UID:10002620-1759051800-1759056300@longbeachalliance.digitalchurch.app
SUMMARY:Gospel Project: Children's Ministry
DESCRIPTION:Contact Meghan Brearley\, meghan@lbac.org\, for questions \nUpstairs\, Rm 105/Nursery\, and Gym used
URL:https://longbeachalliance.digitalchurch.app/event/gospel-project-childrens-ministry-105/
LOCATION:Long Beach Alliance Church\, 3331 Palo Verde Ave\, Long Beach\, CA\, United States
GEO:33.817334;-118.107762
X-APPLE-STRUCTURED-LOCATION;VALUE=URI;X-ADDRESS=Long Beach Alliance Church 3331 Palo Verde Ave Long Beach CA United States;X-APPLE-RADIUS=500;X-TITLE=3331 Palo Verde Ave:geo:-118.107762,33.817334
END:VEVENT
END:VCALENDAR