BEGIN:VCALENDAR
VERSION:2.0
PRODID:-//Long Beach Alliance Church - ECPv6.6.4//NONSGML v1.0//EN
CALSCALE:GREGORIAN
METHOD:PUBLISH
X-ORIGINAL-URL:https://longbeachalliance.digitalchurch.app
X-WR-CALDESC:Events for Long Beach Alliance Church
REFRESH-INTERVAL;VALUE=DURATION:PT1H
X-Robots-Tag:noindex
X-PUBLISHED-TTL:PT1H
BEGIN:VTIMEZONE
TZID:America/Los_Angeles
BEGIN:DAYLIGHT
TZOFFSETFROM:-0800
TZOFFSETTO:-0700
TZNAME:PDT
DTSTART:20240310T100000
END:DAYLIGHT
BEGIN:STANDARD
TZOFFSETFROM:-0700
TZOFFSETTO:-0800
TZNAME:PST
DTSTART:20241103T090000
END:STANDARD
END:VTIMEZONE
BEGIN:VEVENT
DTSTART;TZID=America/Los_Angeles:20241126T100000
DTEND;TZID=America/Los_Angeles:20241126T120000
DTSTAMP:20260425T205056
CREATED:20240717T141940Z
LAST-MODIFIED:20241003T143014Z
UID:10001700-1732615200-1732622400@longbeachalliance.digitalchurch.app
SUMMARY:All Staff • Weekly Team Meeting
DESCRIPTION:
URL:https://longbeachalliance.digitalchurch.app/event/all-staff-weekly-team-meeting-67/
LOCATION:3331 Palo Verde Ave\, Long Beach\, CA\, United States
GEO:33.823943;-118.111336
END:VEVENT
BEGIN:VEVENT
DTSTART;TZID=America/Los_Angeles:20241126T190000
DTEND;TZID=America/Los_Angeles:20241126T210000
DTSTAMP:20260425T205056
CREATED:20230526T152121Z
LAST-MODIFIED:20230526T160214Z
UID:10000244-1732647600-1732654800@longbeachalliance.digitalchurch.app
SUMMARY:High School Youth Group
DESCRIPTION:
URL:https://longbeachalliance.digitalchurch.app/event/high-school-youth-group-6/2024-11-26/
LOCATION:CA
CATEGORIES:Youth
END:VEVENT
BEGIN:VEVENT
DTSTART;TZID=America/Los_Angeles:20241126T190000
DTEND;TZID=America/Los_Angeles:20241126T210000
DTSTAMP:20260425T205056
CREATED:20240717T141940Z
LAST-MODIFIED:20240730T082449Z
UID:10001702-1732647600-1732654800@longbeachalliance.digitalchurch.app
SUMMARY:Betrayal and Beyond Ministry @ the Eberharts
DESCRIPTION:Contact: Debra Eberhart 925.580.7004
URL:https://longbeachalliance.digitalchurch.app/event/betrayal-and-beyond-ministry-the-eberharts-131/
LOCATION:CA
END:VEVENT
BEGIN:VEVENT
DTSTART;TZID=America/Los_Angeles:20241126T190000
DTEND;TZID=America/Los_Angeles:20241126T210000
DTSTAMP:20260425T205056
CREATED:20240718T144617Z
LAST-MODIFIED:20241126T184105Z
UID:10001704-1732647600-1732654800@longbeachalliance.digitalchurch.app
SUMMARY:Men's Bible Study @ the Millers
DESCRIPTION:Facilitator: John Welliver\nContact Dave Miller 562.773.9100 dmiller002@cc.rr.com
URL:https://longbeachalliance.digitalchurch.app/event/mens-bible-study-the-millers-75/
LOCATION:4702 Snowden Ave\, Lakewood\, CA\, United States
GEO:33.850465;-118.109399
END:VEVENT
BEGIN:VEVENT
DTSTART;TZID=America/Los_Angeles:20241126T190000
DTEND;TZID=America/Los_Angeles:20241126T210000
DTSTAMP:20260425T205056
CREATED:20240718T144617Z
LAST-MODIFIED:20241126T184105Z
UID:10001705-1732647600-1732654800@longbeachalliance.digitalchurch.app
SUMMARY:Middle/High School Youth Potluck
DESCRIPTION:
URL:https://longbeachalliance.digitalchurch.app/event/middle-high-school-youth-group-53/
LOCATION:Long Beach Alliance Church 3331 Palo Verde Ave\, Long Beach\, CA\, United States
GEO:33.823943;-118.111336
END:VEVENT
BEGIN:VEVENT
DTSTART;TZID=America/Los_Angeles:20241126T190000
DTEND;TZID=America/Los_Angeles:20241126T220000
DTSTAMP:20260425T205056
CREATED:20240717T141940Z
LAST-MODIFIED:20241126T184105Z
UID:10001701-1732647600-1732658400@longbeachalliance.digitalchurch.app
SUMMARY:Elder Board Meeting
DESCRIPTION:
URL:https://longbeachalliance.digitalchurch.app/event/elder-board-meeting-16/
LOCATION:Long Beach Alliance Church 3331 Palo Verde Ave\, Long Beach\, CA\, United States
GEO:33.823943;-118.111336
END:VEVENT
BEGIN:VEVENT
DTSTART;TZID=America/Los_Angeles:20241127T183000
DTEND;TZID=America/Los_Angeles:20241127T203000
DTSTAMP:20260425T205056
CREATED:20240719T180735Z
LAST-MODIFIED:20240730T082449Z
UID:10001706-1732732200-1732739400@longbeachalliance.digitalchurch.app
SUMMARY:Betrayal and Beyond Ministry (@ Eberharts & Zoom)
DESCRIPTION:Contact: Debra Eberhart 925.580.7004
URL:https://longbeachalliance.digitalchurch.app/event/betrayal-and-beyond-ministry-eberharts-zoom-58/
LOCATION:CA
END:VEVENT
BEGIN:VEVENT
DTSTART;TZID=America/Los_Angeles:20241128T093000
DTEND;TZID=America/Los_Angeles:20241128T113000
DTSTAMP:20260425T205056
CREATED:20240719T180735Z
LAST-MODIFIED:20240820T013627Z
UID:10001707-1732786200-1732793400@longbeachalliance.digitalchurch.app
SUMMARY:Women's Bible Study @ the Millers
DESCRIPTION:Facilitators: Colvin and Miller; Hosting Marilyn MillersContact: Marilyn Miller 562.922.2024 \nMoses by Charles Swindoll
URL:https://longbeachalliance.digitalchurch.app/event/womens-bible-study-the-millers-89/
LOCATION:4702 Snowden Ave\, Lakewood\, CA\, United States
GEO:33.850465;-118.109399
END:VEVENT
BEGIN:VEVENT
DTSTART;TZID=America/Los_Angeles:20241128T093000
DTEND;TZID=America/Los_Angeles:20241128T113000
DTSTAMP:20260425T205056
CREATED:20240821T015834Z
LAST-MODIFIED:20241128T192804Z
UID:10001856-1732786200-1732793400@longbeachalliance.digitalchurch.app
SUMMARY:Women's Bible Study @ the Millers
DESCRIPTION:Facilitators: Colvin and Miller; Hosting Marilyn MillersContact: Marilyn Miller 562.922.2024 \n1 Samuel by John MacArthur
URL:https://longbeachalliance.digitalchurch.app/event/womens-bible-study-the-millers-105/
LOCATION:4702 Snowden Ave\, Lakewood\, CA\, United States
GEO:33.850465;-118.109399
END:VEVENT
BEGIN:VEVENT
DTSTART;TZID=America/Los_Angeles:20241128T190000
DTEND;TZID=America/Los_Angeles:20241128T210000
DTSTAMP:20260425T205056
CREATED:20230526T152203Z
LAST-MODIFIED:20230526T160444Z
UID:10000346-1732820400-1732827600@longbeachalliance.digitalchurch.app
SUMMARY:Middle School Youth Group
DESCRIPTION:
URL:https://longbeachalliance.digitalchurch.app/event/middle-school-youth-group/2024-11-28/
LOCATION:CA
CATEGORIES:Youth
END:VEVENT
BEGIN:VEVENT
DTSTART;TZID=America/Los_Angeles:20241128T190000
DTEND;TZID=America/Los_Angeles:20241128T210000
DTSTAMP:20260425T205056
CREATED:20240719T180735Z
LAST-MODIFIED:20241128T192804Z
UID:10001708-1732820400-1732827600@longbeachalliance.digitalchurch.app
SUMMARY:Betrayal and Beyond Ministry @ the Eberharts
DESCRIPTION:Contact: Debra Eberhart 925.580.7004
URL:https://longbeachalliance.digitalchurch.app/event/betrayal-and-beyond-ministry-the-eberharts-132/
LOCATION:CA
END:VEVENT
BEGIN:VEVENT
DTSTART;TZID=America/Los_Angeles:20241129T080000
DTEND;TZID=America/Los_Angeles:20241129T100000
DTSTAMP:20260425T205056
CREATED:20240719T180736Z
LAST-MODIFIED:20241128T192804Z
UID:10001709-1732867200-1732874400@longbeachalliance.digitalchurch.app
SUMMARY:Men's In-Person & Zoom Bible Study
DESCRIPTION:In-Person will be in Room 106Contact Bill Michel\, 714.390.7076\, for Zoom link information.
URL:https://longbeachalliance.digitalchurch.app/event/mens-in-person-zoom-bible-study-75/
LOCATION:CA
END:VEVENT
BEGIN:VEVENT
DTSTART;TZID=America/Los_Angeles:20241129T193000
DTEND;TZID=America/Los_Angeles:20241129T213000
DTSTAMP:20260425T205056
CREATED:20240731T185818Z
LAST-MODIFIED:20241129T195743Z
UID:10001782-1732908600-1732915800@longbeachalliance.digitalchurch.app
SUMMARY:Betrayal and Beyond Ministry (@ Eberharts & Zoom)
DESCRIPTION:Contact: Debra Eberhart 925.580.7004
URL:https://longbeachalliance.digitalchurch.app/event/betrayal-and-beyond-ministry-eberharts-zoom-77/
LOCATION:CA
END:VEVENT
BEGIN:VEVENT
DTSTART;TZID=America/Los_Angeles:20241129T200000
DTEND;TZID=America/Los_Angeles:20241129T213000
DTSTAMP:20260425T205056
CREATED:20240719T180736Z
LAST-MODIFIED:20241129T195742Z
UID:10001710-1732910400-1732915800@longbeachalliance.digitalchurch.app
SUMMARY:NA In-Person Meeting
DESCRIPTION:Rm 102\, Sanctuary or back patio used depending on size of the group; Also Kitchen\nContact: Yvonne Turco 562.230.0574
URL:https://longbeachalliance.digitalchurch.app/event/na-in-person-meeting-95/
LOCATION:CA
END:VEVENT
BEGIN:VEVENT
DTSTART;TZID=America/Los_Angeles:20241201T080000
DTEND;TZID=America/Los_Angeles:20241201T140000
DTSTAMP:20260425T205056
CREATED:20240720T231706Z
LAST-MODIFIED:20241201T205126Z
UID:10001711-1733040000-1733061600@longbeachalliance.digitalchurch.app
SUMMARY:Red Cross Blood Drive
DESCRIPTION:Sign up at redcrossblood.orgSponsor Code: LBAlliance
URL:https://longbeachalliance.digitalchurch.app/event/red-cross-blood-drive-4/
LOCATION:Long Beach Alliance Church\, 3331 Palo Verde Ave\, Long Beach\, CA\, United States
GEO:33.817334;-118.107762
X-APPLE-STRUCTURED-LOCATION;VALUE=URI;X-ADDRESS=Long Beach Alliance Church 3331 Palo Verde Ave Long Beach CA United States;X-APPLE-RADIUS=500;X-TITLE=3331 Palo Verde Ave:geo:-118.107762,33.817334
END:VEVENT
BEGIN:VEVENT
DTSTART;TZID=America/Los_Angeles:20241201T093000
DTEND;TZID=America/Los_Angeles:20241201T104500
DTSTAMP:20260425T205056
CREATED:20240722T013420Z
LAST-MODIFIED:20241130T202452Z
UID:10001712-1733045400-1733049900@longbeachalliance.digitalchurch.app
SUMMARY:Worship & Celebration Service
DESCRIPTION:To watch the Livestream go to YouTube.com/longbeachalliancechurch
URL:https://longbeachalliance.digitalchurch.app/event/worship-celebration-service-41/
LOCATION:YouTube.com/longbeachalliancechurch
END:VEVENT
BEGIN:VEVENT
DTSTART;TZID=America/Los_Angeles:20241201T093000
DTEND;TZID=America/Los_Angeles:20241201T104500
DTSTAMP:20260425T205056
CREATED:20240722T013420Z
LAST-MODIFIED:20241130T202452Z
UID:10001713-1733045400-1733049900@longbeachalliance.digitalchurch.app
SUMMARY:Gospel Project: Children's Ministry
DESCRIPTION:Contact Meghan Brearley\, meghan@lbac.org\, for questions \nUpstairs\, Rm 105/Nursery\, and Gym used
URL:https://longbeachalliance.digitalchurch.app/event/gospel-project-childrens-ministry-62/
LOCATION:Long Beach Alliance Church\, 3331 Palo Verde Ave\, Long Beach\, CA\, United States
GEO:33.817334;-118.107762
X-APPLE-STRUCTURED-LOCATION;VALUE=URI;X-ADDRESS=Long Beach Alliance Church 3331 Palo Verde Ave Long Beach CA United States;X-APPLE-RADIUS=500;X-TITLE=3331 Palo Verde Ave:geo:-118.107762,33.817334
END:VEVENT
BEGIN:VEVENT
DTSTART;TZID=America/Los_Angeles:20241201T111500
DTEND;TZID=America/Los_Angeles:20241201T121500
DTSTAMP:20260425T205056
CREATED:20240917T021943Z
LAST-MODIFIED:20241009T184257Z
UID:10001932-1733051700-1733055300@longbeachalliance.digitalchurch.app
SUMMARY:Children's Musical Practice
DESCRIPTION:Sanctuary Used\nContact: Marikka Ostermann or Traci Garber
URL:https://longbeachalliance.digitalchurch.app/event/childrens-musical-practice-5/
LOCATION:Long Beach Alliance Church\, 3331 Palo Verde Ave\, Long Beach\, CA\, United States
GEO:33.817334;-118.107762
X-APPLE-STRUCTURED-LOCATION;VALUE=URI;X-ADDRESS=Long Beach Alliance Church 3331 Palo Verde Ave Long Beach CA United States;X-APPLE-RADIUS=500;X-TITLE=3331 Palo Verde Ave:geo:-118.107762,33.817334
END:VEVENT
BEGIN:VEVENT
DTSTART;TZID=America/Los_Angeles:20241201T111500
DTEND;TZID=America/Los_Angeles:20241201T121500
DTSTAMP:20260425T205056
CREATED:20241010T210931Z
LAST-MODIFIED:20241130T202452Z
UID:10002012-1733051700-1733055300@longbeachalliance.digitalchurch.app
SUMMARY:Children's Musical Practice
DESCRIPTION:Sanctuary Used\nContact: Marikka Ostermann or Traci Garber
URL:https://longbeachalliance.digitalchurch.app/event/childrens-musical-practice-13/
LOCATION:Long Beach Alliance Church\, 3331 Palo Verde Ave\, Long Beach\, CA\, United States
GEO:33.817334;-118.107762
X-APPLE-STRUCTURED-LOCATION;VALUE=URI;X-ADDRESS=Long Beach Alliance Church 3331 Palo Verde Ave Long Beach CA United States;X-APPLE-RADIUS=500;X-TITLE=3331 Palo Verde Ave:geo:-118.107762,33.817334
END:VEVENT
BEGIN:VEVENT
DTSTART;TZID=America/Los_Angeles:20241202T190000
DTEND;TZID=America/Los_Angeles:20241202T203000
DTSTAMP:20260425T205056
CREATED:20240723T074802Z
LAST-MODIFIED:20240815T113609Z
UID:10001715-1733166000-1733171400@longbeachalliance.digitalchurch.app
SUMMARY:Survivors of Incest Anonymous In-Person & Zoom Meeting
DESCRIPTION:Rm 206 used\n@ 10 people\nContact: Maryjean Cazeau 714-366-3887
URL:https://longbeachalliance.digitalchurch.app/event/survivors-of-incest-anonymous-in-person-zoom-meeting-63/
LOCATION:Long Beach Alliance Church\, 3331 Palo Verde Ave\, Long Beach\, CA\, United States
GEO:33.817334;-118.107762
X-APPLE-STRUCTURED-LOCATION;VALUE=URI;X-ADDRESS=Long Beach Alliance Church 3331 Palo Verde Ave Long Beach CA United States;X-APPLE-RADIUS=500;X-TITLE=3331 Palo Verde Ave:geo:-118.107762,33.817334
END:VEVENT
BEGIN:VEVENT
DTSTART;TZID=America/Los_Angeles:20241202T190000
DTEND;TZID=America/Los_Angeles:20241202T203000
DTSTAMP:20260425T205056
CREATED:20240817T011553Z
LAST-MODIFIED:20241202T205940Z
UID:10001830-1733166000-1733171400@longbeachalliance.digitalchurch.app
SUMMARY:Survivors of Incest Anonymous In-Person & Zoom Meeting
DESCRIPTION:Rm 102 used\n@ 10 people\nContact: Maryjean Cazeau 714-366-3887
URL:https://longbeachalliance.digitalchurch.app/event/survivors-of-incest-anonymous-in-person-zoom-meeting-81/
LOCATION:Long Beach Alliance Church\, 3331 Palo Verde Ave\, Long Beach\, CA\, United States
GEO:33.817334;-118.107762
X-APPLE-STRUCTURED-LOCATION;VALUE=URI;X-ADDRESS=Long Beach Alliance Church 3331 Palo Verde Ave Long Beach CA United States;X-APPLE-RADIUS=500;X-TITLE=3331 Palo Verde Ave:geo:-118.107762,33.817334
END:VEVENT
BEGIN:VEVENT
DTSTART;TZID=America/Los_Angeles:20241202T190000
DTEND;TZID=America/Los_Angeles:20241202T210000
DTSTAMP:20260425T205056
CREATED:20240723T074802Z
LAST-MODIFIED:20241202T205940Z
UID:10001714-1733166000-1733173200@longbeachalliance.digitalchurch.app
SUMMARY:Pure Desire Ministry Meeting
DESCRIPTION:Gym Used\nContactL Sam Eberhart 925.285.1295
URL:https://longbeachalliance.digitalchurch.app/event/pure-desire-ministry-meeting-80/
LOCATION:3331 Palo Verde Ave\, Long Beach\, CA\, United States
GEO:33.823943;-118.111336
END:VEVENT
BEGIN:VEVENT
DTSTART;TZID=America/Los_Angeles:20241202T190000
DTEND;TZID=America/Los_Angeles:20241202T210000
DTSTAMP:20260425T205056
CREATED:20240731T185819Z
LAST-MODIFIED:20241202T205940Z
UID:10001783-1733166000-1733173200@longbeachalliance.digitalchurch.app
SUMMARY:Betrayal and Beyond Ministry @ the Eberharts
DESCRIPTION:Contact: Debra Eberhart 925.580.7004
URL:https://longbeachalliance.digitalchurch.app/event/betrayal-and-beyond-ministry-the-eberharts-153/
LOCATION:CA
END:VEVENT
BEGIN:VEVENT
DTSTART;TZID=America/Los_Angeles:20241203T100000
DTEND;TZID=America/Los_Angeles:20241203T120000
DTSTAMP:20260425T205056
CREATED:20240723T074802Z
LAST-MODIFIED:20240730T082450Z
UID:10001716-1733220000-1733227200@longbeachalliance.digitalchurch.app
SUMMARY:All Staff • Weekly Team Meeting
DESCRIPTION:
URL:https://longbeachalliance.digitalchurch.app/event/all-staff-weekly-team-meeting-68/
LOCATION:3331 Palo Verde Ave\, Long Beach\, CA\, United States
GEO:33.823943;-118.111336
END:VEVENT
BEGIN:VEVENT
DTSTART;TZID=America/Los_Angeles:20241203T100000
DTEND;TZID=America/Los_Angeles:20241203T120000
DTSTAMP:20260425T205056
CREATED:20240812T015724Z
LAST-MODIFIED:20241202T205940Z
UID:10001806-1733220000-1733227200@longbeachalliance.digitalchurch.app
SUMMARY:All Staff • Weekly Team Meeting
DESCRIPTION:
URL:https://longbeachalliance.digitalchurch.app/event/all-staff-weekly-team-meeting-73/
LOCATION:3331 Palo Verde Ave\, Long Beach\, CA\, United States
GEO:33.823943;-118.111336
END:VEVENT
BEGIN:VEVENT
DTSTART;TZID=America/Los_Angeles:20241203T190000
DTEND;TZID=America/Los_Angeles:20241203T210000
DTSTAMP:20260425T205056
CREATED:20230526T152121Z
LAST-MODIFIED:20230526T160214Z
UID:10000245-1733252400-1733259600@longbeachalliance.digitalchurch.app
SUMMARY:High School Youth Group
DESCRIPTION:
URL:https://longbeachalliance.digitalchurch.app/event/high-school-youth-group-6/2024-12-03/
LOCATION:CA
CATEGORIES:Youth
END:VEVENT
BEGIN:VEVENT
DTSTART;TZID=America/Los_Angeles:20241203T190000
DTEND;TZID=America/Los_Angeles:20241203T210000
DTSTAMP:20260425T205056
CREATED:20240723T074802Z
LAST-MODIFIED:20241203T212714Z
UID:10001717-1733252400-1733259600@longbeachalliance.digitalchurch.app
SUMMARY:Men's Bible Study @ the Millers
DESCRIPTION:Facilitator: John Welliver\nContact Dave Miller 562.773.9100 dmiller002@cc.rr.com
URL:https://longbeachalliance.digitalchurch.app/event/mens-bible-study-the-millers-76/
LOCATION:4702 Snowden Ave\, Lakewood\, CA\, United States
GEO:33.850465;-118.109399
END:VEVENT
BEGIN:VEVENT
DTSTART;TZID=America/Los_Angeles:20241203T190000
DTEND;TZID=America/Los_Angeles:20241203T210000
DTSTAMP:20260425T205056
CREATED:20240724T081735Z
LAST-MODIFIED:20241203T212713Z
UID:10001718-1733252400-1733259600@longbeachalliance.digitalchurch.app
SUMMARY:Middle/High School Youth Group
DESCRIPTION:
URL:https://longbeachalliance.digitalchurch.app/event/middle-high-school-youth-group-54/
LOCATION:Long Beach Alliance Church 3331 Palo Verde Ave\, Long Beach\, CA\, United States
GEO:33.823943;-118.111336
END:VEVENT
BEGIN:VEVENT
DTSTART;TZID=America/Los_Angeles:20241203T190000
DTEND;TZID=America/Los_Angeles:20241203T210000
DTSTAMP:20260425T205056
CREATED:20240724T081735Z
LAST-MODIFIED:20240730T082450Z
UID:10001719-1733252400-1733259600@longbeachalliance.digitalchurch.app
SUMMARY:Betrayal and Beyond Ministry @ the Eberharts
DESCRIPTION:Contact: Debra Eberhart 925.580.7004
URL:https://longbeachalliance.digitalchurch.app/event/betrayal-and-beyond-ministry-the-eberharts-133/
LOCATION:CA
END:VEVENT
BEGIN:VEVENT
DTSTART;TZID=America/Los_Angeles:20241204T183000
DTEND;TZID=America/Los_Angeles:20241204T203000
DTSTAMP:20260425T205056
CREATED:20240724T081735Z
LAST-MODIFIED:20240730T082450Z
UID:10001720-1733337000-1733344200@longbeachalliance.digitalchurch.app
SUMMARY:Betrayal and Beyond Ministry (@ Eberharts & Zoom)
DESCRIPTION:Contact: Debra Eberhart 925.580.7004
URL:https://longbeachalliance.digitalchurch.app/event/betrayal-and-beyond-ministry-eberharts-zoom-59/
LOCATION:CA
END:VEVENT
END:VCALENDAR