BEGIN:VCALENDAR
VERSION:2.0
PRODID:-//Long Beach Alliance Church - ECPv6.6.4//NONSGML v1.0//EN
CALSCALE:GREGORIAN
METHOD:PUBLISH
X-ORIGINAL-URL:https://longbeachalliance.digitalchurch.app
X-WR-CALDESC:Events for Long Beach Alliance Church
REFRESH-INTERVAL;VALUE=DURATION:PT1H
X-Robots-Tag:noindex
X-PUBLISHED-TTL:PT1H
BEGIN:VTIMEZONE
TZID:America/Los_Angeles
BEGIN:DAYLIGHT
TZOFFSETFROM:-0800
TZOFFSETTO:-0700
TZNAME:PDT
DTSTART:20250309T100000
END:DAYLIGHT
BEGIN:STANDARD
TZOFFSETFROM:-0700
TZOFFSETTO:-0800
TZNAME:PST
DTSTART:20251102T090000
END:STANDARD
END:VTIMEZONE
BEGIN:VEVENT
DTSTART;TZID=America/Los_Angeles:20250311T190000
DTEND;TZID=America/Los_Angeles:20250311T210000
DTSTAMP:20260425T092838
CREATED:20241102T085428Z
LAST-MODIFIED:20250311T112442Z
UID:10002087-1741719600-1741726800@longbeachalliance.digitalchurch.app
SUMMARY:Men's Bible Study @ the Millers
DESCRIPTION:Facilitator: John Welliver\nContact Dave Miller 562.773.9100 dmiller002@cc.rr.com
URL:https://longbeachalliance.digitalchurch.app/event/mens-bible-study-the-millers-90/
LOCATION:4702 Snowden Ave\, Lakewood\, CA\, United States
GEO:33.850465;-118.109399
END:VEVENT
BEGIN:VEVENT
DTSTART;TZID=America/Los_Angeles:20250311T190000
DTEND;TZID=America/Los_Angeles:20250311T210000
DTSTAMP:20260425T092838
CREATED:20241104T095629Z
LAST-MODIFIED:20250311T112442Z
UID:10002088-1741719600-1741726800@longbeachalliance.digitalchurch.app
SUMMARY:Middle/High School Youth Group
DESCRIPTION:
URL:https://longbeachalliance.digitalchurch.app/event/middle-high-school-youth-group-67/
LOCATION:Long Beach Alliance Church 3331 Palo Verde Ave\, Long Beach\, CA\, United States
GEO:33.823943;-118.111336
END:VEVENT
BEGIN:VEVENT
DTSTART;TZID=America/Los_Angeles:20250311T190000
DTEND;TZID=America/Los_Angeles:20250311T220000
DTSTAMP:20260425T092838
CREATED:20241104T095630Z
LAST-MODIFIED:20250311T112443Z
UID:10002089-1741719600-1741730400@longbeachalliance.digitalchurch.app
SUMMARY:Governing Board In-Person Meeting (2nd Tuesday Night of the Month) (No Tina & No Michelle)
DESCRIPTION:
URL:https://longbeachalliance.digitalchurch.app/event/governing-board-in-person-meeting-2nd-tuesday-night-of-the-month-18/
LOCATION:3331 Palo Verde Ave\nLong Beach CA 90808
END:VEVENT
BEGIN:VEVENT
DTSTART;TZID=America/Los_Angeles:20250312T183000
DTEND;TZID=America/Los_Angeles:20250312T203000
DTSTAMP:20260425T092838
CREATED:20241105T102226Z
LAST-MODIFIED:20250312T114005Z
UID:10002090-1741804200-1741811400@longbeachalliance.digitalchurch.app
SUMMARY:AWANA
DESCRIPTION:
URL:https://longbeachalliance.digitalchurch.app/event/awana-56/
LOCATION:3331 Palo Verde Ave\nLong Beach\, CA\, United States
END:VEVENT
BEGIN:VEVENT
DTSTART;TZID=America/Los_Angeles:20250313T093000
DTEND;TZID=America/Los_Angeles:20250313T113000
DTSTAMP:20260425T092838
CREATED:20241105T102226Z
LAST-MODIFIED:20241120T163333Z
UID:10002091-1741858200-1741865400@longbeachalliance.digitalchurch.app
SUMMARY:Women's Bible Study @ the Millers
DESCRIPTION:Facilitators: Colvin and Miller; Hosting Marilyn MillersContact: Marilyn Miller 562.922.2024 \n1 Samuel by John MacArthur
URL:https://longbeachalliance.digitalchurch.app/event/womens-bible-study-the-millers-120/
LOCATION:4702 Snowden Ave\, Lakewood\, CA\, United States
GEO:33.850465;-118.109399
END:VEVENT
BEGIN:VEVENT
DTSTART;TZID=America/Los_Angeles:20250313T093000
DTEND;TZID=America/Los_Angeles:20250313T113000
DTSTAMP:20260425T092838
CREATED:20241121T170321Z
LAST-MODIFIED:20250313T120300Z
UID:10002144-1741858200-1741865400@longbeachalliance.digitalchurch.app
SUMMARY:Women's Bible Study @ the Millers
DESCRIPTION:Facilitators: Colvin and Miller; Hosting Marilyn MillersContact: Marilyn Miller 562.922.2024 \nDavid- by Charles Swindoll
URL:https://longbeachalliance.digitalchurch.app/event/womens-bible-study-the-millers-137/
LOCATION:4702 Snowden Ave\, Lakewood\, CA\, United States
GEO:33.850465;-118.109399
END:VEVENT
BEGIN:VEVENT
DTSTART;TZID=America/Los_Angeles:20250313T180000
DTEND;TZID=America/Los_Angeles:20250313T210000
DTSTAMP:20260425T092838
CREATED:20250203T225313Z
LAST-MODIFIED:20250304T084233Z
UID:10002355-1741888800-1741899600@longbeachalliance.digitalchurch.app
SUMMARY:TWC On Campus Event
DESCRIPTION:Additional Set up/Tear Down: 4PM/10PM\nGym and Kitchen used\nMic\, projector\, and speaker needed\n@ 50 expected\nContact Kelly Douglas (714) 350-4658
URL:https://longbeachalliance.digitalchurch.app/event/twc-on-campus-event/
LOCATION:Long Beach Alliance Church\n3331 Palo Verde Avenue\nLong Beach CA 90808
END:VEVENT
BEGIN:VEVENT
DTSTART;TZID=America/Los_Angeles:20250313T183000
DTEND;TZID=America/Los_Angeles:20250313T200000
DTSTAMP:20260425T092838
CREATED:20250219T041600Z
LAST-MODIFIED:20250313T120300Z
UID:10002392-1741890600-1741896000@longbeachalliance.digitalchurch.app
SUMMARY:LBAC Night of Worship & Prayer
DESCRIPTION:Sanctuary Lobby Used
URL:https://longbeachalliance.digitalchurch.app/event/lbac-night-of-worship-prayer-3/
LOCATION:CA
END:VEVENT
BEGIN:VEVENT
DTSTART;TZID=America/Los_Angeles:20250313T190000
DTEND;TZID=America/Los_Angeles:20250313T210000
DTSTAMP:20260425T092838
CREATED:20230526T152203Z
LAST-MODIFIED:20230526T160444Z
UID:10000361-1741892400-1741899600@longbeachalliance.digitalchurch.app
SUMMARY:Middle School Youth Group
DESCRIPTION:
URL:https://longbeachalliance.digitalchurch.app/event/middle-school-youth-group/2025-03-13/
LOCATION:CA
CATEGORIES:Youth
END:VEVENT
BEGIN:VEVENT
DTSTART;TZID=America/Los_Angeles:20250313T190000
DTEND;TZID=America/Los_Angeles:20250313T210000
DTSTAMP:20260425T092838
CREATED:20241105T102227Z
LAST-MODIFIED:20250313T120300Z
UID:10002092-1741892400-1741899600@longbeachalliance.digitalchurch.app
SUMMARY:Betrayal and Beyond Ministry @ the Eberharts
DESCRIPTION:Contact: Debra Eberhart 925.580.7004
URL:https://longbeachalliance.digitalchurch.app/event/betrayal-and-beyond-ministry-the-eberharts-181/
LOCATION:CA
END:VEVENT
BEGIN:VEVENT
DTSTART;TZID=America/Los_Angeles:20250314T080000
DTEND;TZID=America/Los_Angeles:20250314T100000
DTSTAMP:20260425T092838
CREATED:20241106T105244Z
LAST-MODIFIED:20250314T123452Z
UID:10002093-1741939200-1741946400@longbeachalliance.digitalchurch.app
SUMMARY:Men's In-Person & Zoom Bible Study
DESCRIPTION:In-Person will be in Room 106Contact Bill Michel\, 714.390.7076\, for Zoom link information.
URL:https://longbeachalliance.digitalchurch.app/event/mens-in-person-zoom-bible-study-90/
LOCATION:CA
END:VEVENT
BEGIN:VEVENT
DTSTART;TZID=America/Los_Angeles:20250314T193000
DTEND;TZID=America/Los_Angeles:20250314T213000
DTSTAMP:20260425T092838
CREATED:20241106T105245Z
LAST-MODIFIED:20250314T123452Z
UID:10002095-1741980600-1741987800@longbeachalliance.digitalchurch.app
SUMMARY:Betrayal and Beyond Ministry (@ Eberharts & Zoom)
DESCRIPTION:Contact: Debra Eberhart 925.580.7004
URL:https://longbeachalliance.digitalchurch.app/event/betrayal-and-beyond-ministry-eberharts-zoom-92/
LOCATION:CA
END:VEVENT
BEGIN:VEVENT
DTSTART;TZID=America/Los_Angeles:20250314T200000
DTEND;TZID=America/Los_Angeles:20250314T213000
DTSTAMP:20260425T092838
CREATED:20241106T105245Z
LAST-MODIFIED:20250219T042326Z
UID:10002094-1741982400-1741987800@longbeachalliance.digitalchurch.app
SUMMARY:NA In-Person Meeting
DESCRIPTION:Rm 102\, Sanctuary or back patio used depending on size of the group; Also Kitchen\nContact: Yvonne Turco 562.230.0574
URL:https://longbeachalliance.digitalchurch.app/event/na-in-person-meeting-110/
LOCATION:CA
END:VEVENT
BEGIN:VEVENT
DTSTART;TZID=America/Los_Angeles:20250314T200000
DTEND;TZID=America/Los_Angeles:20250314T213000
DTSTAMP:20260425T092838
CREATED:20250312T112912Z
LAST-MODIFIED:20250314T123452Z
UID:10002464-1741982400-1741987800@longbeachalliance.digitalchurch.app
SUMMARY:NA In-Person Meeting
DESCRIPTION:Additional Set up/Tear Down: 7PM/10:30PM\nRm 102 and Kitchen used (may use Gym or Back patio if group is large)\nContact: \nMaryjean Cazeau 714.366.3887\nYvonne Turco 562.230.0574
URL:https://longbeachalliance.digitalchurch.app/event/na-in-person-meeting-126/
LOCATION:CA
END:VEVENT
BEGIN:VEVENT
DTSTART;TZID=America/Los_Angeles:20250315T100000
DTEND;TZID=America/Los_Angeles:20250315T160000
DTSTAMP:20260425T092838
CREATED:20241108T113239Z
LAST-MODIFIED:20250315T130155Z
UID:10002097-1742032800-1742054400@longbeachalliance.digitalchurch.app
SUMMARY:Crafty Women
DESCRIPTION:@12 women \nRm 102 or the Gym used (depends how many ladies come) \nContact: Donna Neel donna@neel.com
URL:https://longbeachalliance.digitalchurch.app/event/crafty-women-16/
LOCATION:Long Beach Alliance Church\, 3331 Palo Verde Ave\, Long Beach\, CA\, United States
GEO:33.817334;-118.107762
X-APPLE-STRUCTURED-LOCATION;VALUE=URI;X-ADDRESS=Long Beach Alliance Church 3331 Palo Verde Ave Long Beach CA United States;X-APPLE-RADIUS=500;X-TITLE=3331 Palo Verde Ave:geo:-118.107762,33.817334
END:VEVENT
BEGIN:VEVENT
DTSTART;TZID=America/Los_Angeles:20250316T093000
DTEND;TZID=America/Los_Angeles:20250316T104500
DTSTAMP:20260425T092838
CREATED:20241108T113239Z
LAST-MODIFIED:20250316T132459Z
UID:10002098-1742117400-1742121900@longbeachalliance.digitalchurch.app
SUMMARY:Worship & Celebration Service
DESCRIPTION:To watch the Livestream go to YouTube.com/longbeachalliancechurch
URL:https://longbeachalliance.digitalchurch.app/event/worship-celebration-service-56/
LOCATION:YouTube.com/longbeachalliancechurch
END:VEVENT
BEGIN:VEVENT
DTSTART;TZID=America/Los_Angeles:20250316T093000
DTEND;TZID=America/Los_Angeles:20250316T104500
DTSTAMP:20260425T092838
CREATED:20241109T115631Z
LAST-MODIFIED:20250316T132500Z
UID:10002099-1742117400-1742121900@longbeachalliance.digitalchurch.app
SUMMARY:Gospel Project: Children's Ministry
DESCRIPTION:Contact Meghan Brearley\, meghan@lbac.org\, for questions \nUpstairs\, Rm 105/Nursery\, and Gym used
URL:https://longbeachalliance.digitalchurch.app/event/gospel-project-childrens-ministry-77/
LOCATION:Long Beach Alliance Church\, 3331 Palo Verde Ave\, Long Beach\, CA\, United States
GEO:33.817334;-118.107762
X-APPLE-STRUCTURED-LOCATION;VALUE=URI;X-ADDRESS=Long Beach Alliance Church 3331 Palo Verde Ave Long Beach CA United States;X-APPLE-RADIUS=500;X-TITLE=3331 Palo Verde Ave:geo:-118.107762,33.817334
END:VEVENT
BEGIN:VEVENT
DTSTART;TZID=America/Los_Angeles:20250316T130000
DTEND;TZID=America/Los_Angeles:20250316T160000
DTSTAMP:20260425T092838
CREATED:20250122T180321Z
LAST-MODIFIED:20250316T132500Z
UID:10002330-1742130000-1742140800@longbeachalliance.digitalchurch.app
SUMMARY:Dirtbags Game / Fundraiser
DESCRIPTION:
URL:https://longbeachalliance.digitalchurch.app/event/dirtbags-game-fundraiser/
LOCATION:CA
END:VEVENT
BEGIN:VEVENT
DTSTART;TZID=America/Los_Angeles:20250317T190000
DTEND;TZID=America/Los_Angeles:20250317T203000
DTSTAMP:20260425T092838
CREATED:20241110T120634Z
LAST-MODIFIED:20250317T134215Z
UID:10002102-1742238000-1742243400@longbeachalliance.digitalchurch.app
SUMMARY:Survivors of Incest Anonymous In-Person & Zoom Meeting
DESCRIPTION:Rm 102 used\n@ 10 people\nContact: Maryjean Cazeau 714-366-3887
URL:https://longbeachalliance.digitalchurch.app/event/survivors-of-incest-anonymous-in-person-zoom-meeting-96/
LOCATION:Long Beach Alliance Church\, 3331 Palo Verde Ave\, Long Beach\, CA\, United States
GEO:33.817334;-118.107762
X-APPLE-STRUCTURED-LOCATION;VALUE=URI;X-ADDRESS=Long Beach Alliance Church 3331 Palo Verde Ave Long Beach CA United States;X-APPLE-RADIUS=500;X-TITLE=3331 Palo Verde Ave:geo:-118.107762,33.817334
END:VEVENT
BEGIN:VEVENT
DTSTART;TZID=America/Los_Angeles:20250317T190000
DTEND;TZID=America/Los_Angeles:20250317T210000
DTSTAMP:20260425T092838
CREATED:20241109T115631Z
LAST-MODIFIED:20250113T134459Z
UID:10002100-1742238000-1742245200@longbeachalliance.digitalchurch.app
SUMMARY:Betrayal and Beyond Ministry @ the Eberharts
DESCRIPTION:Contact: Debra Eberhart 925.580.7004
URL:https://longbeachalliance.digitalchurch.app/event/betrayal-and-beyond-ministry-the-eberharts-182/
LOCATION:CA
END:VEVENT
BEGIN:VEVENT
DTSTART;TZID=America/Los_Angeles:20250317T190000
DTEND;TZID=America/Los_Angeles:20250317T210000
DTSTAMP:20260425T092838
CREATED:20241109T115631Z
LAST-MODIFIED:20250317T134215Z
UID:10002101-1742238000-1742245200@longbeachalliance.digitalchurch.app
SUMMARY:Pure Desire Ministry Meeting
DESCRIPTION:Gym Used\nContactL Sam Eberhart 925.285.1295
URL:https://longbeachalliance.digitalchurch.app/event/pure-desire-ministry-meeting-95/
LOCATION:3331 Palo Verde Ave\, Long Beach\, CA\, United States
GEO:33.823943;-118.111336
END:VEVENT
BEGIN:VEVENT
DTSTART;TZID=America/Los_Angeles:20250317T190000
DTEND;TZID=America/Los_Angeles:20250317T210000
DTSTAMP:20260425T092838
CREATED:20250114T140218Z
LAST-MODIFIED:20250317T134216Z
UID:10002285-1742238000-1742245200@longbeachalliance.digitalchurch.app
SUMMARY:Betrayal and Beyond Ministry @ the Eberharts
DESCRIPTION:Contact: Debra Eberhart 925.580.7004
URL:https://longbeachalliance.digitalchurch.app/event/betrayal-and-beyond-ministry-the-eberharts-210/
LOCATION:CA
END:VEVENT
BEGIN:VEVENT
DTSTART;TZID=America/Los_Angeles:20250318T100000
DTEND;TZID=America/Los_Angeles:20250318T120000
DTSTAMP:20260425T092838
CREATED:20241110T120635Z
LAST-MODIFIED:20250318T140255Z
UID:10002103-1742292000-1742299200@longbeachalliance.digitalchurch.app
SUMMARY:All Staff • Weekly Team Meeting
DESCRIPTION:
URL:https://longbeachalliance.digitalchurch.app/event/all-staff-weekly-team-meeting-87/
LOCATION:3331 Palo Verde Ave\, Long Beach\, CA\, United States
GEO:33.823943;-118.111336
END:VEVENT
BEGIN:VEVENT
DTSTART;TZID=America/Los_Angeles:20250318T190000
DTEND;TZID=America/Los_Angeles:20250318T210000
DTSTAMP:20260425T092838
CREATED:20230526T152121Z
LAST-MODIFIED:20230526T160214Z
UID:10000260-1742324400-1742331600@longbeachalliance.digitalchurch.app
SUMMARY:High School Youth Group
DESCRIPTION:
URL:https://longbeachalliance.digitalchurch.app/event/high-school-youth-group-6/2025-03-18/
LOCATION:CA
CATEGORIES:Youth
END:VEVENT
BEGIN:VEVENT
DTSTART;TZID=America/Los_Angeles:20250318T190000
DTEND;TZID=America/Los_Angeles:20250318T210000
DTSTAMP:20260425T092838
CREATED:20241111T123819Z
LAST-MODIFIED:20250318T140255Z
UID:10002104-1742324400-1742331600@longbeachalliance.digitalchurch.app
SUMMARY:Middle/High School Youth Group
DESCRIPTION:
URL:https://longbeachalliance.digitalchurch.app/event/middle-high-school-youth-group-68/
LOCATION:Long Beach Alliance Church 3331 Palo Verde Ave\, Long Beach\, CA\, United States
GEO:33.823943;-118.111336
END:VEVENT
BEGIN:VEVENT
DTSTART;TZID=America/Los_Angeles:20250318T190000
DTEND;TZID=America/Los_Angeles:20250318T210000
DTSTAMP:20260425T092838
CREATED:20241111T123820Z
LAST-MODIFIED:20250318T140255Z
UID:10002105-1742324400-1742331600@longbeachalliance.digitalchurch.app
SUMMARY:Men's Bible Study @ the Millers
DESCRIPTION:Facilitator: John Welliver\nContact Dave Miller 562.773.9100 dmiller002@cc.rr.com
URL:https://longbeachalliance.digitalchurch.app/event/mens-bible-study-the-millers-91/
LOCATION:4702 Snowden Ave\, Lakewood\, CA\, United States
GEO:33.850465;-118.109399
END:VEVENT
BEGIN:VEVENT
DTSTART;TZID=America/Los_Angeles:20250319T183000
DTEND;TZID=America/Los_Angeles:20250319T203000
DTSTAMP:20260425T092838
CREATED:20241111T123820Z
LAST-MODIFIED:20250319T141235Z
UID:10002106-1742409000-1742416200@longbeachalliance.digitalchurch.app
SUMMARY:AWANA
DESCRIPTION:
URL:https://longbeachalliance.digitalchurch.app/event/awana-57/
LOCATION:3331 Palo Verde Ave\nLong Beach\, CA\, United States
END:VEVENT
BEGIN:VEVENT
DTSTART;TZID=America/Los_Angeles:20250320T093000
DTEND;TZID=America/Los_Angeles:20250320T113000
DTSTAMP:20260425T092838
CREATED:20241112T125557Z
LAST-MODIFIED:20241120T163334Z
UID:10002107-1742463000-1742470200@longbeachalliance.digitalchurch.app
SUMMARY:Women's Bible Study @ the Millers
DESCRIPTION:Facilitators: Colvin and Miller; Hosting Marilyn MillersContact: Marilyn Miller 562.922.2024 \n1 Samuel by John MacArthur
URL:https://longbeachalliance.digitalchurch.app/event/womens-bible-study-the-millers-121/
LOCATION:4702 Snowden Ave\, Lakewood\, CA\, United States
GEO:33.850465;-118.109399
END:VEVENT
BEGIN:VEVENT
DTSTART;TZID=America/Los_Angeles:20250320T093000
DTEND;TZID=America/Los_Angeles:20250320T113000
DTSTAMP:20260425T092838
CREATED:20241121T170322Z
LAST-MODIFIED:20250320T142704Z
UID:10002145-1742463000-1742470200@longbeachalliance.digitalchurch.app
SUMMARY:Women's Bible Study @ the Millers
DESCRIPTION:Facilitators: Colvin and Miller; Hosting Marilyn MillersContact: Marilyn Miller 562.922.2024 \nDavid- by Charles Swindoll
URL:https://longbeachalliance.digitalchurch.app/event/womens-bible-study-the-millers-138/
LOCATION:4702 Snowden Ave\, Lakewood\, CA\, United States
GEO:33.850465;-118.109399
END:VEVENT
BEGIN:VEVENT
DTSTART;TZID=America/Los_Angeles:20250320T170000
DTEND;TZID=America/Los_Angeles:20250320T190000
DTSTAMP:20260425T092838
CREATED:20241112T125557Z
LAST-MODIFIED:20250320T142704Z
UID:10002108-1742490000-1742497200@longbeachalliance.digitalchurch.app
SUMMARY:Lydia House Women's Outreach
DESCRIPTION:
URL:https://longbeachalliance.digitalchurch.app/event/lydia-house-womens-outreach-18/
LOCATION:1430 Pacific Ave. Long Beach\, Long Beach\, CA\, United States
GEO:33.780017;-118.183701
END:VEVENT
END:VCALENDAR