BEGIN:VCALENDAR
VERSION:2.0
PRODID:-//Long Beach Alliance Church - ECPv6.6.4//NONSGML v1.0//EN
CALSCALE:GREGORIAN
METHOD:PUBLISH
X-ORIGINAL-URL:https://longbeachalliance.digitalchurch.app
X-WR-CALDESC:Events for Long Beach Alliance Church
REFRESH-INTERVAL;VALUE=DURATION:PT1H
X-Robots-Tag:noindex
X-PUBLISHED-TTL:PT1H
BEGIN:VTIMEZONE
TZID:America/Los_Angeles
BEGIN:DAYLIGHT
TZOFFSETFROM:-0800
TZOFFSETTO:-0700
TZNAME:PDT
DTSTART:20250309T100000
END:DAYLIGHT
BEGIN:STANDARD
TZOFFSETFROM:-0700
TZOFFSETTO:-0800
TZNAME:PST
DTSTART:20251102T090000
END:STANDARD
END:VTIMEZONE
BEGIN:VEVENT
DTSTART;TZID=America/Los_Angeles:20250312T183000
DTEND;TZID=America/Los_Angeles:20250312T203000
DTSTAMP:20260425T072632
CREATED:20241105T102226Z
LAST-MODIFIED:20250312T114005Z
UID:10002090-1741804200-1741811400@longbeachalliance.digitalchurch.app
SUMMARY:AWANA
DESCRIPTION:
URL:https://longbeachalliance.digitalchurch.app/event/awana-56/
LOCATION:3331 Palo Verde Ave\nLong Beach\, CA\, United States
END:VEVENT
BEGIN:VEVENT
DTSTART;TZID=America/Los_Angeles:20250311T190000
DTEND;TZID=America/Los_Angeles:20250311T220000
DTSTAMP:20260425T072632
CREATED:20241104T095630Z
LAST-MODIFIED:20250311T112443Z
UID:10002089-1741719600-1741730400@longbeachalliance.digitalchurch.app
SUMMARY:Governing Board In-Person Meeting (2nd Tuesday Night of the Month) (No Tina & No Michelle)
DESCRIPTION:
URL:https://longbeachalliance.digitalchurch.app/event/governing-board-in-person-meeting-2nd-tuesday-night-of-the-month-18/
LOCATION:3331 Palo Verde Ave\nLong Beach CA 90808
END:VEVENT
BEGIN:VEVENT
DTSTART;TZID=America/Los_Angeles:20250311T190000
DTEND;TZID=America/Los_Angeles:20250311T210000
DTSTAMP:20260425T072632
CREATED:20241104T095629Z
LAST-MODIFIED:20250311T112442Z
UID:10002088-1741719600-1741726800@longbeachalliance.digitalchurch.app
SUMMARY:Middle/High School Youth Group
DESCRIPTION:
URL:https://longbeachalliance.digitalchurch.app/event/middle-high-school-youth-group-67/
LOCATION:Long Beach Alliance Church 3331 Palo Verde Ave\, Long Beach\, CA\, United States
GEO:33.823943;-118.111336
END:VEVENT
BEGIN:VEVENT
DTSTART;TZID=America/Los_Angeles:20250311T190000
DTEND;TZID=America/Los_Angeles:20250311T210000
DTSTAMP:20260425T072632
CREATED:20241102T085428Z
LAST-MODIFIED:20250311T112442Z
UID:10002087-1741719600-1741726800@longbeachalliance.digitalchurch.app
SUMMARY:Men's Bible Study @ the Millers
DESCRIPTION:Facilitator: John Welliver\nContact Dave Miller 562.773.9100 dmiller002@cc.rr.com
URL:https://longbeachalliance.digitalchurch.app/event/mens-bible-study-the-millers-90/
LOCATION:4702 Snowden Ave\, Lakewood\, CA\, United States
GEO:33.850465;-118.109399
END:VEVENT
BEGIN:VEVENT
DTSTART;TZID=America/Los_Angeles:20250311T190000
DTEND;TZID=America/Los_Angeles:20250311T210000
DTSTAMP:20260425T072632
CREATED:20230526T152121Z
LAST-MODIFIED:20230526T160214Z
UID:10000259-1741719600-1741726800@longbeachalliance.digitalchurch.app
SUMMARY:High School Youth Group
DESCRIPTION:
URL:https://longbeachalliance.digitalchurch.app/event/high-school-youth-group-6/2025-03-11/
CATEGORIES:Youth
END:VEVENT
BEGIN:VEVENT
DTSTART;TZID=America/Los_Angeles:20250311T140000
DTEND;TZID=America/Los_Angeles:20250311T160000
DTSTAMP:20260425T072632
CREATED:20241102T085427Z
LAST-MODIFIED:20250115T142749Z
UID:10002086-1741701600-1741708800@longbeachalliance.digitalchurch.app
SUMMARY:All Staff • Weekly Team Meeting
DESCRIPTION:
URL:https://longbeachalliance.digitalchurch.app/event/all-staff-weekly-team-meeting-86/
LOCATION:3331 Palo Verde Ave\, Long Beach\, CA\, United States
GEO:33.823943;-118.111336
END:VEVENT
BEGIN:VEVENT
DTSTART;TZID=America/Los_Angeles:20250310T190000
DTEND;TZID=America/Los_Angeles:20250310T210000
DTSTAMP:20260425T072632
CREATED:20250114T140153Z
LAST-MODIFIED:20250310T110028Z
UID:10002284-1741633200-1741640400@longbeachalliance.digitalchurch.app
SUMMARY:Betrayal and Beyond Ministry @ the Eberharts
DESCRIPTION:Contact: Debra Eberhart 925.580.7004
URL:https://longbeachalliance.digitalchurch.app/event/betrayal-and-beyond-ministry-the-eberharts-209/
END:VEVENT
BEGIN:VEVENT
DTSTART;TZID=America/Los_Angeles:20250310T190000
DTEND;TZID=America/Los_Angeles:20250310T210000
DTSTAMP:20260425T072632
CREATED:20241102T085427Z
LAST-MODIFIED:20250310T110028Z
UID:10002085-1741633200-1741640400@longbeachalliance.digitalchurch.app
SUMMARY:Pure Desire Ministry Meeting
DESCRIPTION:Gym Used\nContactL Sam Eberhart 925.285.1295
URL:https://longbeachalliance.digitalchurch.app/event/pure-desire-ministry-meeting-94/
LOCATION:3331 Palo Verde Ave\, Long Beach\, CA\, United States
GEO:33.823943;-118.111336
END:VEVENT
BEGIN:VEVENT
DTSTART;TZID=America/Los_Angeles:20250310T190000
DTEND;TZID=America/Los_Angeles:20250310T210000
DTSTAMP:20260425T072632
CREATED:20241101T083724Z
LAST-MODIFIED:20250113T134458Z
UID:10002083-1741633200-1741640400@longbeachalliance.digitalchurch.app
SUMMARY:Betrayal and Beyond Ministry @ the Eberharts
DESCRIPTION:Contact: Debra Eberhart 925.580.7004
URL:https://longbeachalliance.digitalchurch.app/event/betrayal-and-beyond-ministry-the-eberharts-180/
END:VEVENT
BEGIN:VEVENT
DTSTART;TZID=America/Los_Angeles:20250310T190000
DTEND;TZID=America/Los_Angeles:20250310T203000
DTSTAMP:20260425T072632
CREATED:20241101T083724Z
LAST-MODIFIED:20250310T110029Z
UID:10002084-1741633200-1741638600@longbeachalliance.digitalchurch.app
SUMMARY:Survivors of Incest Anonymous In-Person & Zoom Meeting
DESCRIPTION:Rm 102 used\n@ 10 people\nContact: Maryjean Cazeau 714-366-3887
URL:https://longbeachalliance.digitalchurch.app/event/survivors-of-incest-anonymous-in-person-zoom-meeting-95/
LOCATION:Long Beach Alliance Church\, 3331 Palo Verde Ave\, Long Beach\, CA\, United States
GEO:33.817334;-118.107762
X-APPLE-STRUCTURED-LOCATION;VALUE=URI;X-ADDRESS=Long Beach Alliance Church 3331 Palo Verde Ave Long Beach CA United States;X-APPLE-RADIUS=500;X-TITLE=3331 Palo Verde Ave:geo:-118.107762,33.817334
END:VEVENT
BEGIN:VEVENT
DTSTART;TZID=America/Los_Angeles:20250310T183000
DTEND;TZID=America/Los_Angeles:20250310T203000
DTSTAMP:20260425T072632
CREATED:20241101T083724Z
LAST-MODIFIED:20250310T110029Z
UID:10002082-1741631400-1741638600@longbeachalliance.digitalchurch.app
SUMMARY:Life Group @ Bartlebaughs
DESCRIPTION:Tricketts Facilitating\nBartlebaughs hosting
URL:https://longbeachalliance.digitalchurch.app/event/life-group-bartlebaughs-39/
LOCATION:4752 Bellflower Blvd\, Lakewood\, CA\, United States
GEO:33.850465;-118.109399
END:VEVENT
BEGIN:VEVENT
DTSTART;TZID=America/Los_Angeles:20250309T093000
DTEND;TZID=America/Los_Angeles:20250309T104500
DTSTAMP:20260425T072632
CREATED:20241101T083724Z
LAST-MODIFIED:20250309T103037Z
UID:10002081-1741512600-1741517100@longbeachalliance.digitalchurch.app
SUMMARY:Gospel Project: Children's Ministry
DESCRIPTION:Contact Meghan Brearley\, meghan@lbac.org\, for questions \nUpstairs\, Rm 105/Nursery\, and Gym used
URL:https://longbeachalliance.digitalchurch.app/event/gospel-project-childrens-ministry-76/
LOCATION:Long Beach Alliance Church\, 3331 Palo Verde Ave\, Long Beach\, CA\, United States
GEO:33.817334;-118.107762
X-APPLE-STRUCTURED-LOCATION;VALUE=URI;X-ADDRESS=Long Beach Alliance Church 3331 Palo Verde Ave Long Beach CA United States;X-APPLE-RADIUS=500;X-TITLE=3331 Palo Verde Ave:geo:-118.107762,33.817334
END:VEVENT
BEGIN:VEVENT
DTSTART;TZID=America/Los_Angeles:20250309T093000
DTEND;TZID=America/Los_Angeles:20250309T104500
DTSTAMP:20260425T072632
CREATED:20241030T081148Z
LAST-MODIFIED:20250309T103037Z
UID:10002076-1741512600-1741517100@longbeachalliance.digitalchurch.app
SUMMARY:Worship & Celebration Service
DESCRIPTION:To watch the Livestream go to YouTube.com/longbeachalliancechurch
URL:https://longbeachalliance.digitalchurch.app/event/worship-celebration-service-55/
LOCATION:YouTube.com/longbeachalliancechurch
END:VEVENT
BEGIN:VEVENT
DTSTART;TZID=America/Los_Angeles:20250308T100000
DTEND;TZID=America/Los_Angeles:20250308T120000
DTSTAMP:20260425T072632
CREATED:20250212T013702Z
LAST-MODIFIED:20250308T100838Z
UID:10002373-1741428000-1741435200@longbeachalliance.digitalchurch.app
SUMMARY:Awana car/boat workshop
DESCRIPTION:At the Ostermanns Home
URL:https://longbeachalliance.digitalchurch.app/event/awana-car-boat-workshop-2/
LOCATION:7855 Garner St.\nLong Beach CA 90808\nUnited States
END:VEVENT
BEGIN:VEVENT
DTSTART;TZID=America/Los_Angeles:20250308T093000
DTEND;TZID=America/Los_Angeles:20250308T103000
DTSTAMP:20260425T072632
CREATED:20241225T053355Z
LAST-MODIFIED:20250226T065852Z
UID:10002238-1741426200-1741429800@longbeachalliance.digitalchurch.app
SUMMARY:Men's Ministry Beach Clean Up
DESCRIPTION:Contact: John Moses 562.755.0920
URL:https://longbeachalliance.digitalchurch.app/event/mens-ministry-beach-clean-up-7/
LOCATION:5454 E Ocean Blvd\, Long Beach\, CA\, United States
GEO:33.759885;-118.13016
END:VEVENT
BEGIN:VEVENT
DTSTART;TZID=America/Los_Angeles:20250308T090000
DTEND;TZID=America/Los_Angeles:20250308T103000
DTSTAMP:20260425T072632
CREATED:20241030T081147Z
LAST-MODIFIED:20250308T100838Z
UID:10002074-1741424400-1741429800@longbeachalliance.digitalchurch.app
SUMMARY:Deaconess Meeting
DESCRIPTION:
URL:https://longbeachalliance.digitalchurch.app/event/deaconess-meeting-19/
END:VEVENT
BEGIN:VEVENT
DTSTART;TZID=America/Los_Angeles:20250308T090000
DTEND;TZID=America/Los_Angeles:20250308T100000
DTSTAMP:20260425T072632
CREATED:20241031T082110Z
LAST-MODIFIED:20241224T052325Z
UID:10002079-1741424400-1741428000@longbeachalliance.digitalchurch.app
SUMMARY:Men's Ministry Beach Clean Up
DESCRIPTION:Contact: John Moses 562.755.0920
URL:https://longbeachalliance.digitalchurch.app/event/mens-ministry-beach-clean-up-6/
LOCATION:5454 E Ocean Blvd\, Long Beach\, CA\, United States
GEO:33.759885;-118.13016
END:VEVENT
BEGIN:VEVENT
DTSTART;TZID=America/Los_Angeles:20250308T080000
DTEND;TZID=America/Los_Angeles:20250308T093000
DTSTAMP:20260425T072632
CREATED:20241030T081148Z
LAST-MODIFIED:20241030T081148Z
UID:10002075-1741420800-1741426200@longbeachalliance.digitalchurch.app
SUMMARY:Men's Fellowship Breakfast
DESCRIPTION:Additional time needed: 6AM-10AM\nGym Used\n@ 50 people expected\nContact: John Moses 562.755.0920
URL:https://longbeachalliance.digitalchurch.app/event/mens-fellowship-breakfast-14/
LOCATION:Long Beach Alliance Church\, Palo Verde Avenue\, Long Beach Gym
END:VEVENT
BEGIN:VEVENT
DTSTART;TZID=America/Los_Angeles:20250308T080000
DTEND;TZID=America/Los_Angeles:20250308T090000
DTSTAMP:20260425T072632
CREATED:20241031T082110Z
LAST-MODIFIED:20250115T142748Z
UID:10002080-1741420800-1741424400@longbeachalliance.digitalchurch.app
SUMMARY:Men's Fellowship Breakfast
DESCRIPTION:Additional time needed: 6AM-10AM\nGym Used\nNo Speaker/Breakfast Burritos\n@ 50 people expected\nContact: John Moses 562.755.0920
URL:https://longbeachalliance.digitalchurch.app/event/mens-fellowship-breakfast-17/
LOCATION:5454 E Ocean Blvd\, Long Beach\, CA\, United States
GEO:33.759885;-118.13016
END:VEVENT
BEGIN:VEVENT
DTSTART;TZID=America/Los_Angeles:20250307T193000
DTEND;TZID=America/Los_Angeles:20250307T213000
DTSTAMP:20260425T072632
CREATED:20241030T081147Z
LAST-MODIFIED:20250307T094333Z
UID:10002072-1741375800-1741383000@longbeachalliance.digitalchurch.app
SUMMARY:Betrayal and Beyond Ministry (@ Eberharts & Zoom)
DESCRIPTION:Contact: Debra Eberhart 925.580.7004
URL:https://longbeachalliance.digitalchurch.app/event/betrayal-and-beyond-ministry-eberharts-zoom-91/
END:VEVENT
BEGIN:VEVENT
DTSTART;TZID=America/Los_Angeles:20250307T180000
DTEND;TZID=America/Los_Angeles:20250307T213000
DTSTAMP:20260425T072632
CREATED:20241023T041433Z
LAST-MODIFIED:20250219T042324Z
UID:10002054-1741370400-1741383000@longbeachalliance.digitalchurch.app
SUMMARY:Gary May Soiree (NA)
DESCRIPTION:Additional Set up/Tear Down: 5PM-10:30PM\nGym and Kitchen used\nSound System Needed: microphone\, podium\, speakers\nContact: \nMaryjean Cazeau 714.366.3887\nYvonne Turco 562.230.0574
URL:https://longbeachalliance.digitalchurch.app/event/na-in-person-meeting-108/
END:VEVENT
BEGIN:VEVENT
DTSTART;TZID=America/Los_Angeles:20250307T080000
DTEND;TZID=America/Los_Angeles:20250307T100000
DTSTAMP:20260425T072632
CREATED:20241030T081147Z
LAST-MODIFIED:20250307T094333Z
UID:10002071-1741334400-1741341600@longbeachalliance.digitalchurch.app
SUMMARY:Men's In-Person & Zoom Bible Study
DESCRIPTION:In-Person will be in Room 106Contact Bill Michel\, 714.390.7076\, for Zoom link information.
URL:https://longbeachalliance.digitalchurch.app/event/mens-in-person-zoom-bible-study-89/
END:VEVENT
BEGIN:VEVENT
DTSTART;TZID=America/Los_Angeles:20250306T190000
DTEND;TZID=America/Los_Angeles:20250306T210000
DTSTAMP:20260425T072632
CREATED:20241027T220103Z
LAST-MODIFIED:20250306T093314Z
UID:10002065-1741287600-1741294800@longbeachalliance.digitalchurch.app
SUMMARY:Betrayal and Beyond Ministry @ the Eberharts
DESCRIPTION:Contact: Debra Eberhart 925.580.7004
URL:https://longbeachalliance.digitalchurch.app/event/betrayal-and-beyond-ministry-the-eberharts-179/
END:VEVENT
BEGIN:VEVENT
DTSTART;TZID=America/Los_Angeles:20250306T190000
DTEND;TZID=America/Los_Angeles:20250306T210000
DTSTAMP:20260425T072632
CREATED:20230526T152203Z
LAST-MODIFIED:20230526T160444Z
UID:10000360-1741287600-1741294800@longbeachalliance.digitalchurch.app
SUMMARY:Middle School Youth Group
DESCRIPTION:
URL:https://longbeachalliance.digitalchurch.app/event/middle-school-youth-group/2025-03-06/
CATEGORIES:Youth
END:VEVENT
BEGIN:VEVENT
DTSTART;TZID=America/Los_Angeles:20250306T183000
DTEND;TZID=America/Los_Angeles:20250306T200000
DTSTAMP:20260425T072632
CREATED:20250219T041532Z
LAST-MODIFIED:20250306T093314Z
UID:10002391-1741285800-1741291200@longbeachalliance.digitalchurch.app
SUMMARY:LBAC Night of Worship & Prayer
DESCRIPTION:Sanctuary Lobby Used
URL:https://longbeachalliance.digitalchurch.app/event/lbac-night-of-worship-prayer-2/
END:VEVENT
BEGIN:VEVENT
DTSTART;TZID=America/Los_Angeles:20250306T093000
DTEND;TZID=America/Los_Angeles:20250306T113000
DTSTAMP:20260425T072632
CREATED:20241121T170319Z
LAST-MODIFIED:20250306T093314Z
UID:10002143-1741253400-1741260600@longbeachalliance.digitalchurch.app
SUMMARY:Women's Bible Study @ the Millers
DESCRIPTION:Facilitators: Colvin and Miller; Hosting Marilyn MillersContact: Marilyn Miller 562.922.2024 \nDavid- by Charles Swindoll
URL:https://longbeachalliance.digitalchurch.app/event/womens-bible-study-the-millers-136/
LOCATION:4702 Snowden Ave\, Lakewood\, CA\, United States
GEO:33.850465;-118.109399
END:VEVENT
BEGIN:VEVENT
DTSTART;TZID=America/Los_Angeles:20250306T093000
DTEND;TZID=America/Los_Angeles:20250306T113000
DTSTAMP:20260425T072632
CREATED:20241027T220103Z
LAST-MODIFIED:20241120T163330Z
UID:10002064-1741253400-1741260600@longbeachalliance.digitalchurch.app
SUMMARY:Women's Bible Study @ the Millers
DESCRIPTION:Facilitators: Colvin and Miller; Hosting Marilyn MillersContact: Marilyn Miller 562.922.2024 \n1 Samuel by John MacArthur
URL:https://longbeachalliance.digitalchurch.app/event/womens-bible-study-the-millers-119/
LOCATION:4702 Snowden Ave\, Lakewood\, CA\, United States
GEO:33.850465;-118.109399
END:VEVENT
BEGIN:VEVENT
DTSTART;VALUE=DATE:20250306
DTEND;VALUE=DATE:20250310
DTSTAMP:20260425T072632
CREATED:20241107T111252Z
LAST-MODIFIED:20250309T103037Z
UID:10002096-1741219200-1741564799@longbeachalliance.digitalchurch.app
SUMMARY:LBAC Men’s Retreat
DESCRIPTION:
URL:https://longbeachalliance.digitalchurch.app/event/lbac-mens-retreat/
LOCATION:The Lighthouse Retreat Center 313 Canvas Back Rd\, Big Bear Lake\, CA\, United States
GEO:34.2439;-116.91142
END:VEVENT
BEGIN:VEVENT
DTSTART;TZID=America/Los_Angeles:20250305T183000
DTEND;TZID=America/Los_Angeles:20250305T203000
DTSTAMP:20260425T072632
CREATED:20241027T220103Z
LAST-MODIFIED:20250305T090412Z
UID:10002063-1741199400-1741206600@longbeachalliance.digitalchurch.app
SUMMARY:AWANA
DESCRIPTION:
URL:https://longbeachalliance.digitalchurch.app/event/awana-55/
LOCATION:3331 Palo Verde Ave\nLong Beach\, CA\, United States
END:VEVENT
BEGIN:VEVENT
DTSTART;TZID=America/Los_Angeles:20250304T190000
DTEND;TZID=America/Los_Angeles:20250304T210000
DTSTAMP:20260425T072632
CREATED:20241027T220103Z
LAST-MODIFIED:20250304T084230Z
UID:10002062-1741114800-1741122000@longbeachalliance.digitalchurch.app
SUMMARY:Men's Bible Study @ the Millers
DESCRIPTION:Facilitator: John Welliver\nContact Dave Miller 562.773.9100 dmiller002@cc.rr.com
URL:https://longbeachalliance.digitalchurch.app/event/mens-bible-study-the-millers-89/
LOCATION:4702 Snowden Ave\, Lakewood\, CA\, United States
GEO:33.850465;-118.109399
END:VEVENT
END:VCALENDAR