BEGIN:VCALENDAR
VERSION:2.0
PRODID:-//Long Beach Alliance Church - ECPv6.6.4//NONSGML v1.0//EN
CALSCALE:GREGORIAN
METHOD:PUBLISH
X-WR-CALNAME:Long Beach Alliance Church
X-ORIGINAL-URL:https://longbeachalliance.digitalchurch.app
X-WR-CALDESC:Events for Long Beach Alliance Church
REFRESH-INTERVAL;VALUE=DURATION:PT1H
X-Robots-Tag:noindex
X-PUBLISHED-TTL:PT1H
BEGIN:VTIMEZONE
TZID:America/Los_Angeles
BEGIN:DAYLIGHT
TZOFFSETFROM:-0800
TZOFFSETTO:-0700
TZNAME:PDT
DTSTART:20250309T100000
END:DAYLIGHT
BEGIN:STANDARD
TZOFFSETFROM:-0700
TZOFFSETTO:-0800
TZNAME:PST
DTSTART:20251102T090000
END:STANDARD
END:VTIMEZONE
BEGIN:VEVENT
DTSTART;VALUE=DATE:20250414
DTEND;VALUE=DATE:20250419
DTSTAMP:20260423T161220
CREATED:20241205T223335Z
LAST-MODIFIED:20250414T232556Z
UID:10002185-1744588800-1745020799@longbeachalliance.digitalchurch.app
SUMMARY:LBUSD Spring Break
DESCRIPTION:
URL:https://longbeachalliance.digitalchurch.app/event/lbusd-spring-break/
LOCATION:CA
END:VEVENT
BEGIN:VEVENT
DTSTART;TZID=America/Los_Angeles:20250418T080000
DTEND;TZID=America/Los_Angeles:20250418T100000
DTSTAMP:20260423T161220
CREATED:20241209T000447Z
LAST-MODIFIED:20250418T002729Z
UID:10002194-1744963200-1744970400@longbeachalliance.digitalchurch.app
SUMMARY:Men's In-Person & Zoom Bible Study
DESCRIPTION:In-Person will be in Room 106Contact Bill Michel\, 714.390.7076\, for Zoom link information.
URL:https://longbeachalliance.digitalchurch.app/event/mens-in-person-zoom-bible-study-95/
LOCATION:CA
END:VEVENT
BEGIN:VEVENT
DTSTART;TZID=America/Los_Angeles:20250418T193000
DTEND;TZID=America/Los_Angeles:20250418T213000
DTSTAMP:20260423T161220
CREATED:20241211T010747Z
LAST-MODIFIED:20250419T004555Z
UID:10002196-1745004600-1745011800@longbeachalliance.digitalchurch.app
SUMMARY:Betrayal and Beyond Ministry (@ Eberharts & Zoom)
DESCRIPTION:Contact: Debra Eberhart 925.580.7004
URL:https://longbeachalliance.digitalchurch.app/event/betrayal-and-beyond-ministry-eberharts-zoom-97/
LOCATION:CA
END:VEVENT
BEGIN:VEVENT
DTSTART;TZID=America/Los_Angeles:20250418T200000
DTEND;TZID=America/Los_Angeles:20250418T213000
DTSTAMP:20260423T161220
CREATED:20241210T003508Z
LAST-MODIFIED:20250219T042332Z
UID:10002195-1745006400-1745011800@longbeachalliance.digitalchurch.app
SUMMARY:NA In-Person Meeting
DESCRIPTION:Rm 102\, Sanctuary or back patio used depending on size of the group; Also Kitchen\nContact: Yvonne Turco 562.230.0574
URL:https://longbeachalliance.digitalchurch.app/event/na-in-person-meeting-115/
LOCATION:CA
END:VEVENT
BEGIN:VEVENT
DTSTART;TZID=America/Los_Angeles:20250418T200000
DTEND;TZID=America/Los_Angeles:20250418T213000
DTSTAMP:20260423T161220
CREATED:20250312T113108Z
LAST-MODIFIED:20250419T004555Z
UID:10002469-1745006400-1745011800@longbeachalliance.digitalchurch.app
SUMMARY:NA In-Person Meeting
DESCRIPTION:Additional Set up/Tear Down: 7PM/10:30PM\nRm 102 and Kitchen used (may use Gym or Back patio if group is large)\nContact: \nMaryjean Cazeau 714.366.3887\nYvonne Turco 562.230.0574
URL:https://longbeachalliance.digitalchurch.app/event/na-in-person-meeting-131/
LOCATION:CA
END:VEVENT
BEGIN:VEVENT
DTSTART;TZID=America/Los_Angeles:20250419T090000
DTEND;TZID=America/Los_Angeles:20250419T110000
DTSTAMP:20260423T161220
CREATED:20250116T145211Z
LAST-MODIFIED:20250419T004555Z
UID:10002305-1745053200-1745060400@longbeachalliance.digitalchurch.app
SUMMARY:Easter Egg Hunt
DESCRIPTION:@ 150 people expected\nContact Meghan Brearley (562) 708-9261 Meghan@lbac.org
URL:https://longbeachalliance.digitalchurch.app/event/easter-egg-hunt-2/
LOCATION:Wardlow Park\, 3457 Stanbridge Ave\, Long Beach\, CA\, United States
GEO:33.819772;-118.127975
X-APPLE-STRUCTURED-LOCATION;VALUE=URI;X-ADDRESS=Wardlow Park 3457 Stanbridge Ave Long Beach CA United States;X-APPLE-RADIUS=500;X-TITLE=3457 Stanbridge Ave:geo:-118.127975,33.819772
END:VEVENT
BEGIN:VEVENT
DTSTART;TZID=America/Los_Angeles:20250419T100000
DTEND;TZID=America/Los_Angeles:20250419T160000
DTSTAMP:20260423T161220
CREATED:20241211T010747Z
LAST-MODIFIED:20250321T144845Z
UID:10002197-1745056800-1745078400@longbeachalliance.digitalchurch.app
SUMMARY:Crafty Women
DESCRIPTION:@12 women \nRm 102 or the Gym used (depends how many ladies come) \nContact: Donna Neel donna@neel.com
URL:https://longbeachalliance.digitalchurch.app/event/crafty-women-17/
LOCATION:Long Beach Alliance Church\, 3331 Palo Verde Ave\, Long Beach\, CA\, United States
GEO:33.817334;-118.107762
X-APPLE-STRUCTURED-LOCATION;VALUE=URI;X-ADDRESS=Long Beach Alliance Church 3331 Palo Verde Ave Long Beach CA United States;X-APPLE-RADIUS=500;X-TITLE=3331 Palo Verde Ave:geo:-118.107762,33.817334
END:VEVENT
BEGIN:VEVENT
DTSTART;TZID=America/Los_Angeles:20250420T093000
DTEND;TZID=America/Los_Angeles:20250420T104500
DTSTAMP:20260423T161220
CREATED:20241211T010747Z
LAST-MODIFIED:20250420T010651Z
UID:10002198-1745141400-1745145900@longbeachalliance.digitalchurch.app
SUMMARY:Gospel Project: Children's Ministry
DESCRIPTION:Contact Meghan Brearley\, meghan@lbac.org\, for questions \nUpstairs\, Rm 105/Nursery\, and Gym used
URL:https://longbeachalliance.digitalchurch.app/event/gospel-project-childrens-ministry-82/
LOCATION:Long Beach Alliance Church\, 3331 Palo Verde Ave\, Long Beach\, CA\, United States
GEO:33.817334;-118.107762
X-APPLE-STRUCTURED-LOCATION;VALUE=URI;X-ADDRESS=Long Beach Alliance Church 3331 Palo Verde Ave Long Beach CA United States;X-APPLE-RADIUS=500;X-TITLE=3331 Palo Verde Ave:geo:-118.107762,33.817334
END:VEVENT
BEGIN:VEVENT
DTSTART;TZID=America/Los_Angeles:20250420T093000
DTEND;TZID=America/Los_Angeles:20250420T104500
DTSTAMP:20260423T161220
CREATED:20241211T010748Z
LAST-MODIFIED:20250420T010650Z
UID:10002199-1745141400-1745145900@longbeachalliance.digitalchurch.app
SUMMARY:Worship & Celebration Service
DESCRIPTION:To watch the Livestream go to YouTube.com/longbeachalliancechurch
URL:https://longbeachalliance.digitalchurch.app/event/worship-celebration-service-61/
LOCATION:YouTube.com/longbeachalliancechurch
END:VEVENT
BEGIN:VEVENT
DTSTART;VALUE=DATE:20250421
DTEND;VALUE=DATE:20250426
DTSTAMP:20260423T161220
CREATED:20241212T013330Z
LAST-MODIFIED:20250414T232557Z
UID:10002202-1745193600-1745625599@longbeachalliance.digitalchurch.app
SUMMARY:Los Alamitos Spring Break
DESCRIPTION:
URL:https://longbeachalliance.digitalchurch.app/event/los-alamitos-spring-break/
LOCATION:CA
END:VEVENT
BEGIN:VEVENT
DTSTART;TZID=America/Los_Angeles:20250421T190000
DTEND;TZID=America/Los_Angeles:20250421T203000
DTSTAMP:20260423T161220
CREATED:20241213T015139Z
LAST-MODIFIED:20250422T014014Z
UID:10002204-1745262000-1745267400@longbeachalliance.digitalchurch.app
SUMMARY:Survivors of Incest Anonymous In-Person & Zoom Meeting
DESCRIPTION:Rm 102 used\n@ 10 people\nContact: Maryjean Cazeau 714-366-3887
URL:https://longbeachalliance.digitalchurch.app/event/survivors-of-incest-anonymous-in-person-zoom-meeting-101/
LOCATION:Long Beach Alliance Church\, 3331 Palo Verde Ave\, Long Beach\, CA\, United States
GEO:33.817334;-118.107762
X-APPLE-STRUCTURED-LOCATION;VALUE=URI;X-ADDRESS=Long Beach Alliance Church 3331 Palo Verde Ave Long Beach CA United States;X-APPLE-RADIUS=500;X-TITLE=3331 Palo Verde Ave:geo:-118.107762,33.817334
END:VEVENT
BEGIN:VEVENT
DTSTART;TZID=America/Los_Angeles:20250421T190000
DTEND;TZID=America/Los_Angeles:20250421T210000
DTSTAMP:20260423T161220
CREATED:20241213T015139Z
LAST-MODIFIED:20250422T014014Z
UID:10002203-1745262000-1745269200@longbeachalliance.digitalchurch.app
SUMMARY:Pure Desire Ministry Meeting
DESCRIPTION:Gym Used\nContactL Sam Eberhart 925.285.1295
URL:https://longbeachalliance.digitalchurch.app/event/pure-desire-ministry-meeting-100/
LOCATION:3331 Palo Verde Ave\, Long Beach\, CA\, United States
GEO:33.823943;-118.111336
END:VEVENT
BEGIN:VEVENT
DTSTART;TZID=America/Los_Angeles:20250421T190000
DTEND;TZID=America/Los_Angeles:20250421T210000
DTSTAMP:20260423T161220
CREATED:20241213T015139Z
LAST-MODIFIED:20250113T134946Z
UID:10002205-1745262000-1745269200@longbeachalliance.digitalchurch.app
SUMMARY:Betrayal and Beyond Ministry @ the Eberharts
DESCRIPTION:Contact: Debra Eberhart 925.580.7004
URL:https://longbeachalliance.digitalchurch.app/event/betrayal-and-beyond-ministry-the-eberharts-192/
LOCATION:CA
END:VEVENT
BEGIN:VEVENT
DTSTART;TZID=America/Los_Angeles:20250421T190000
DTEND;TZID=America/Los_Angeles:20250421T210000
DTSTAMP:20260423T161220
CREATED:20250114T140404Z
LAST-MODIFIED:20250422T014014Z
UID:10002290-1745262000-1745269200@longbeachalliance.digitalchurch.app
SUMMARY:Betrayal and Beyond Ministry @ the Eberharts
DESCRIPTION:Contact: Debra Eberhart 925.580.7004
URL:https://longbeachalliance.digitalchurch.app/event/betrayal-and-beyond-ministry-the-eberharts-215/
LOCATION:CA
END:VEVENT
BEGIN:VEVENT
DTSTART;TZID=America/Los_Angeles:20250422T100000
DTEND;TZID=America/Los_Angeles:20250422T120000
DTSTAMP:20260423T161220
CREATED:20241212T013329Z
LAST-MODIFIED:20250115T142757Z
UID:10002200-1745316000-1745323200@longbeachalliance.digitalchurch.app
SUMMARY:All Staff • Weekly Team Meeting
DESCRIPTION:
URL:https://longbeachalliance.digitalchurch.app/event/all-staff-weekly-team-meeting-92/
LOCATION:3331 Palo Verde Ave\, Long Beach\, CA\, United States
GEO:33.823943;-118.111336
END:VEVENT
BEGIN:VEVENT
DTSTART;TZID=America/Los_Angeles:20250422T190000
DTEND;TZID=America/Los_Angeles:20250422T210000
DTSTAMP:20260423T161220
CREATED:20230526T152121Z
LAST-MODIFIED:20230526T160214Z
UID:10000265-1745348400-1745355600@longbeachalliance.digitalchurch.app
SUMMARY:High School Youth Group
DESCRIPTION:
URL:https://longbeachalliance.digitalchurch.app/event/high-school-youth-group-6/2025-04-22/
LOCATION:CA
CATEGORIES:Youth
END:VEVENT
BEGIN:VEVENT
DTSTART;TZID=America/Los_Angeles:20250422T190000
DTEND;TZID=America/Los_Angeles:20250422T210000
DTSTAMP:20260423T161220
CREATED:20241213T015139Z
LAST-MODIFIED:20250408T212756Z
UID:10002206-1745348400-1745355600@longbeachalliance.digitalchurch.app
SUMMARY:Middle/High School Youth Group
DESCRIPTION:
URL:https://longbeachalliance.digitalchurch.app/event/middle-high-school-youth-group-73/
LOCATION:Long Beach Alliance Church 3331 Palo Verde Ave\, Long Beach\, CA\, United States
GEO:33.823943;-118.111336
END:VEVENT
BEGIN:VEVENT
DTSTART;TZID=America/Los_Angeles:20250422T190000
DTEND;TZID=America/Los_Angeles:20250422T210000
DTSTAMP:20260423T161220
CREATED:20241214T021340Z
LAST-MODIFIED:20250423T020458Z
UID:10002208-1745348400-1745355600@longbeachalliance.digitalchurch.app
SUMMARY:Men's Bible Study @ the Millers
DESCRIPTION:Facilitator: John Welliver\nContact Dave Miller 562.773.9100 dmiller002@cc.rr.com
URL:https://longbeachalliance.digitalchurch.app/event/mens-bible-study-the-millers-96/
LOCATION:4702 Snowden Ave\, Lakewood\, CA\, United States
GEO:33.850465;-118.109399
END:VEVENT
BEGIN:VEVENT
DTSTART;TZID=America/Los_Angeles:20250422T190000
DTEND;TZID=America/Los_Angeles:20250422T220000
DTSTAMP:20260423T161220
CREATED:20241214T021340Z
LAST-MODIFIED:20250423T020458Z
UID:10002207-1745348400-1745359200@longbeachalliance.digitalchurch.app
SUMMARY:Elder Board Meeting
DESCRIPTION:
URL:https://longbeachalliance.digitalchurch.app/event/elder-board-meeting-21/
LOCATION:Long Beach Alliance Church 3331 Palo Verde Ave\, Long Beach\, CA\, United States
GEO:33.823943;-118.111336
END:VEVENT
BEGIN:VEVENT
DTSTART;TZID=America/Los_Angeles:20250424T093000
DTEND;TZID=America/Los_Angeles:20250424T113000
DTSTAMP:20260423T161220
CREATED:20241212T013330Z
LAST-MODIFIED:20250424T021442Z
UID:10002201-1745487000-1745494200@longbeachalliance.digitalchurch.app
SUMMARY:Women's Bible Study @ the Millers
DESCRIPTION:Facilitators: Colvin and Miller; Hosting Marilyn MillersContact: Marilyn Miller 562.922.2024 \nDavid- by Charles Swindoll
URL:https://longbeachalliance.digitalchurch.app/event/womens-bible-study-the-millers-143/
LOCATION:4702 Snowden Ave\, Lakewood\, CA\, United States
GEO:33.850465;-118.109399
END:VEVENT
BEGIN:VEVENT
DTSTART;TZID=America/Los_Angeles:20250424T190000
DTEND;TZID=America/Los_Angeles:20250424T210000
DTSTAMP:20260423T161220
CREATED:20230526T152203Z
LAST-MODIFIED:20230526T160444Z
UID:10000367-1745521200-1745528400@longbeachalliance.digitalchurch.app
SUMMARY:Middle School Youth Group
DESCRIPTION:
URL:https://longbeachalliance.digitalchurch.app/event/middle-school-youth-group/2025-04-24/
LOCATION:CA
CATEGORIES:Youth
END:VEVENT
BEGIN:VEVENT
DTSTART;TZID=America/Los_Angeles:20250424T190000
DTEND;TZID=America/Los_Angeles:20250424T210000
DTSTAMP:20260423T161220
CREATED:20241216T024316Z
LAST-MODIFIED:20250425T022643Z
UID:10002209-1745521200-1745528400@longbeachalliance.digitalchurch.app
SUMMARY:Betrayal and Beyond Ministry @ the Eberharts
DESCRIPTION:Contact: Debra Eberhart 925.580.7004
URL:https://longbeachalliance.digitalchurch.app/event/betrayal-and-beyond-ministry-the-eberharts-193/
LOCATION:CA
END:VEVENT
BEGIN:VEVENT
DTSTART;TZID=America/Los_Angeles:20250425T080000
DTEND;TZID=America/Los_Angeles:20250425T100000
DTSTAMP:20260423T161220
CREATED:20241216T024317Z
LAST-MODIFIED:20250425T022643Z
UID:10002210-1745568000-1745575200@longbeachalliance.digitalchurch.app
SUMMARY:Men's In-Person & Zoom Bible Study
DESCRIPTION:In-Person will be in Room 106Contact Bill Michel\, 714.390.7076\, for Zoom link information.
URL:https://longbeachalliance.digitalchurch.app/event/mens-in-person-zoom-bible-study-96/
LOCATION:CA
END:VEVENT
BEGIN:VEVENT
DTSTART;TZID=America/Los_Angeles:20250425T193000
DTEND;TZID=America/Los_Angeles:20250425T213000
DTSTAMP:20260423T161220
CREATED:20241216T024317Z
LAST-MODIFIED:20250426T030949Z
UID:10002212-1745609400-1745616600@longbeachalliance.digitalchurch.app
SUMMARY:Betrayal and Beyond Ministry (@ Eberharts & Zoom)
DESCRIPTION:Contact: Debra Eberhart 925.580.7004
URL:https://longbeachalliance.digitalchurch.app/event/betrayal-and-beyond-ministry-eberharts-zoom-98/
LOCATION:CA
END:VEVENT
BEGIN:VEVENT
DTSTART;TZID=America/Los_Angeles:20250425T200000
DTEND;TZID=America/Los_Angeles:20250425T213000
DTSTAMP:20260423T161220
CREATED:20241216T024317Z
LAST-MODIFIED:20250219T042334Z
UID:10002211-1745611200-1745616600@longbeachalliance.digitalchurch.app
SUMMARY:NA In-Person Meeting
DESCRIPTION:Rm 102\, Sanctuary or back patio used depending on size of the group; Also Kitchen\nContact: Yvonne Turco 562.230.0574
URL:https://longbeachalliance.digitalchurch.app/event/na-in-person-meeting-116/
LOCATION:CA
END:VEVENT
BEGIN:VEVENT
DTSTART;TZID=America/Los_Angeles:20250425T200000
DTEND;TZID=America/Los_Angeles:20250425T213000
DTSTAMP:20260423T161220
CREATED:20250312T113133Z
LAST-MODIFIED:20250426T030949Z
UID:10002470-1745611200-1745616600@longbeachalliance.digitalchurch.app
SUMMARY:NA In-Person Meeting
DESCRIPTION:Additional Set up/Tear Down: 7PM/10:30PM\nRm 102 and Kitchen used\nContact: \nMaryjean Cazeau 714.366.3887\nYvonne Turco 562.230.0574
URL:https://longbeachalliance.digitalchurch.app/event/na-in-person-meeting-132/
LOCATION:CA
END:VEVENT
BEGIN:VEVENT
DTSTART;TZID=America/Los_Angeles:20250427T093000
DTEND;TZID=America/Los_Angeles:20250427T104500
DTSTAMP:20260423T161220
CREATED:20241217T025905Z
LAST-MODIFIED:20250427T032726Z
UID:10002213-1745746200-1745750700@longbeachalliance.digitalchurch.app
SUMMARY:Gospel Project: Children's Ministry
DESCRIPTION:Contact Meghan Brearley\, meghan@lbac.org\, for questions \nUpstairs\, Rm 105/Nursery\, and Gym used
URL:https://longbeachalliance.digitalchurch.app/event/gospel-project-childrens-ministry-83/
LOCATION:Long Beach Alliance Church\, 3331 Palo Verde Ave\, Long Beach\, CA\, United States
GEO:33.817334;-118.107762
X-APPLE-STRUCTURED-LOCATION;VALUE=URI;X-ADDRESS=Long Beach Alliance Church 3331 Palo Verde Ave Long Beach CA United States;X-APPLE-RADIUS=500;X-TITLE=3331 Palo Verde Ave:geo:-118.107762,33.817334
END:VEVENT
BEGIN:VEVENT
DTSTART;TZID=America/Los_Angeles:20250427T093000
DTEND;TZID=America/Los_Angeles:20250427T104500
DTSTAMP:20260423T161220
CREATED:20241217T025905Z
LAST-MODIFIED:20250427T032726Z
UID:10002214-1745746200-1745750700@longbeachalliance.digitalchurch.app
SUMMARY:Worship & Celebration Service
DESCRIPTION:To watch the Livestream go to YouTube.com/longbeachalliancechurch
URL:https://longbeachalliance.digitalchurch.app/event/worship-celebration-service-62/
LOCATION:YouTube.com/longbeachalliancechurch
END:VEVENT
BEGIN:VEVENT
DTSTART;TZID=America/Los_Angeles:20250428T183000
DTEND;TZID=America/Los_Angeles:20250428T203000
DTSTAMP:20260423T161220
CREATED:20241218T032222Z
LAST-MODIFIED:20250428T035749Z
UID:10002215-1745865000-1745872200@longbeachalliance.digitalchurch.app
SUMMARY:Life Group @ Bartlebaughs
DESCRIPTION:Tricketts Facilitating\nBartlebaughs hosting
URL:https://longbeachalliance.digitalchurch.app/event/life-group-bartlebaughs-42/
LOCATION:4752 Bellflower Blvd\, Lakewood\, CA\, United States
GEO:33.850465;-118.109399
END:VEVENT
BEGIN:VEVENT
DTSTART;TZID=America/Los_Angeles:20250428T190000
DTEND;TZID=America/Los_Angeles:20250428T203000
DTSTAMP:20260423T161220
CREATED:20241218T032223Z
LAST-MODIFIED:20250428T035749Z
UID:10002216-1745866800-1745872200@longbeachalliance.digitalchurch.app
SUMMARY:Survivors of Incest Anonymous In-Person & Zoom Meeting
DESCRIPTION:Rm 102 used\n@ 10 people\nContact: Maryjean Cazeau 714-366-3887
URL:https://longbeachalliance.digitalchurch.app/event/survivors-of-incest-anonymous-in-person-zoom-meeting-102/
LOCATION:Long Beach Alliance Church\, 3331 Palo Verde Ave\, Long Beach\, CA\, United States
GEO:33.817334;-118.107762
X-APPLE-STRUCTURED-LOCATION;VALUE=URI;X-ADDRESS=Long Beach Alliance Church 3331 Palo Verde Ave Long Beach CA United States;X-APPLE-RADIUS=500;X-TITLE=3331 Palo Verde Ave:geo:-118.107762,33.817334
END:VEVENT
END:VCALENDAR