BEGIN:VCALENDAR
VERSION:2.0
PRODID:-//Long Beach Alliance Church - ECPv6.6.4//NONSGML v1.0//EN
CALSCALE:GREGORIAN
METHOD:PUBLISH
X-WR-CALNAME:Long Beach Alliance Church
X-ORIGINAL-URL:https://longbeachalliance.digitalchurch.app
X-WR-CALDESC:Events for Long Beach Alliance Church
REFRESH-INTERVAL;VALUE=DURATION:PT1H
X-Robots-Tag:noindex
X-PUBLISHED-TTL:PT1H
BEGIN:VTIMEZONE
TZID:America/Los_Angeles
BEGIN:DAYLIGHT
TZOFFSETFROM:-0800
TZOFFSETTO:-0700
TZNAME:PDT
DTSTART:20250309T100000
END:DAYLIGHT
BEGIN:STANDARD
TZOFFSETFROM:-0700
TZOFFSETTO:-0800
TZNAME:PST
DTSTART:20251102T090000
END:STANDARD
END:VTIMEZONE
BEGIN:VEVENT
DTSTART;TZID=America/Los_Angeles:20250729T190000
DTEND;TZID=America/Los_Angeles:20250729T210000
DTSTAMP:20260419T204012
CREATED:20250322T150725Z
LAST-MODIFIED:20250729T125857Z
UID:10002489-1753815600-1753822800@longbeachalliance.digitalchurch.app
SUMMARY:Men's Bible Study @ the Millers
DESCRIPTION:Facilitator: John Welliver\nContact Dave Miller 562.773.9100 dmiller002@cc.rr.com
URL:https://longbeachalliance.digitalchurch.app/event/mens-bible-study-the-millers-110/
LOCATION:4702 Snowden Ave\, Lakewood\, CA\, United States
GEO:33.850465;-118.109399
END:VEVENT
BEGIN:VEVENT
DTSTART;TZID=America/Los_Angeles:20250729T190000
DTEND;TZID=America/Los_Angeles:20250729T210000
DTSTAMP:20260419T204012
CREATED:20250322T150725Z
LAST-MODIFIED:20250520T180440Z
UID:10002490-1753815600-1753822800@longbeachalliance.digitalchurch.app
SUMMARY:Middle/High School Youth Group
DESCRIPTION:
URL:https://longbeachalliance.digitalchurch.app/event/middle-high-school-youth-group-87/
LOCATION:Long Beach Alliance Church 3331 Palo Verde Ave\, Long Beach\, CA\, United States
GEO:33.823943;-118.111336
END:VEVENT
BEGIN:VEVENT
DTSTART;TZID=America/Los_Angeles:20250728T190000
DTEND;TZID=America/Los_Angeles:20250728T210000
DTSTAMP:20260419T204012
CREATED:20250311T112256Z
LAST-MODIFIED:20250728T123812Z
UID:10002463-1753729200-1753736400@longbeachalliance.digitalchurch.app
SUMMARY:Pure Desire Ministry Meeting
DESCRIPTION:Gym Used\nContactL Sam Eberhart 925.285.1295
URL:https://longbeachalliance.digitalchurch.app/event/pure-desire-ministry-meeting-114/
LOCATION:3331 Palo Verde Ave\, Long Beach\, CA\, United States
GEO:33.823943;-118.111336
END:VEVENT
BEGIN:VEVENT
DTSTART;TZID=America/Los_Angeles:20250728T190000
DTEND;TZID=America/Los_Angeles:20250728T210000
DTSTAMP:20260419T204012
CREATED:20250310T105605Z
LAST-MODIFIED:20250728T123812Z
UID:10002458-1753729200-1753736400@longbeachalliance.digitalchurch.app
SUMMARY:Betrayal and Beyond Ministry @ the Eberharts
DESCRIPTION:Contact: Debra Eberhart 925.580.7004
URL:https://longbeachalliance.digitalchurch.app/event/betrayal-and-beyond-ministry-the-eberharts-238/
LOCATION:CA
END:VEVENT
BEGIN:VEVENT
DTSTART;TZID=America/Los_Angeles:20250728T190000
DTEND;TZID=America/Los_Angeles:20250728T203000
DTSTAMP:20260419T204012
CREATED:20250311T112255Z
LAST-MODIFIED:20250728T123812Z
UID:10002461-1753729200-1753734600@longbeachalliance.digitalchurch.app
SUMMARY:Survivors of Incest Anonymous In-Person & Zoom Meeting
DESCRIPTION:Rm 102 used\n@ 10 people\nContact: Maryjean Cazeau 714-366-3887
URL:https://longbeachalliance.digitalchurch.app/event/survivors-of-incest-anonymous-in-person-zoom-meeting-115/
LOCATION:Long Beach Alliance Church\, 3331 Palo Verde Ave\, Long Beach\, CA\, United States
GEO:33.817334;-118.107762
X-APPLE-STRUCTURED-LOCATION;VALUE=URI;X-ADDRESS=Long Beach Alliance Church 3331 Palo Verde Ave Long Beach CA United States;X-APPLE-RADIUS=500;X-TITLE=3331 Palo Verde Ave:geo:-118.107762,33.817334
END:VEVENT
BEGIN:VEVENT
DTSTART;TZID=America/Los_Angeles:20250728T183000
DTEND;TZID=America/Los_Angeles:20250728T203000
DTSTAMP:20260419T204012
CREATED:20250311T112256Z
LAST-MODIFIED:20250708T052813Z
UID:10002462-1753727400-1753734600@longbeachalliance.digitalchurch.app
SUMMARY:Life Group @ Bartlebaughs
DESCRIPTION:Tricketts Facilitating\nBartlebaughs hosting
URL:https://longbeachalliance.digitalchurch.app/event/life-group-bartlebaughs-48/
LOCATION:4752 Bellflower Blvd\, Lakewood\, CA\, United States
GEO:33.850465;-118.109399
END:VEVENT
BEGIN:VEVENT
DTSTART;TZID=America/Los_Angeles:20250728T183000
DTEND;TZID=America/Los_Angeles:20250728T200000
DTSTAMP:20260419T204012
CREATED:20250311T112255Z
LAST-MODIFIED:20250508T072233Z
UID:10002460-1753727400-1753732800@longbeachalliance.digitalchurch.app
SUMMARY:Nominating Committee Meeting #2
DESCRIPTION:
URL:https://longbeachalliance.digitalchurch.app/event/nominating-committee-meeting-2/
LOCATION:3331 Palo Verde Ave\nLong Beach\, CA\, United States
END:VEVENT
BEGIN:VEVENT
DTSTART;TZID=America/Los_Angeles:20250727T093000
DTEND;TZID=America/Los_Angeles:20250727T104500
DTSTAMP:20260419T204012
CREATED:20250310T105605Z
LAST-MODIFIED:20250727T123022Z
UID:10002456-1753608600-1753613100@longbeachalliance.digitalchurch.app
SUMMARY:Worship & Celebration Service
DESCRIPTION:To watch the Livestream go to YouTube.com/longbeachalliancechurch
URL:https://longbeachalliance.digitalchurch.app/event/worship-celebration-service-75/
LOCATION:YouTube.com/longbeachalliancechurch
END:VEVENT
BEGIN:VEVENT
DTSTART;TZID=America/Los_Angeles:20250727T093000
DTEND;TZID=America/Los_Angeles:20250727T104500
DTSTAMP:20260419T204012
CREATED:20250310T105605Z
LAST-MODIFIED:20250727T123023Z
UID:10002457-1753608600-1753613100@longbeachalliance.digitalchurch.app
SUMMARY:Gospel Project: Children's Ministry
DESCRIPTION:Contact Meghan Brearley\, meghan@lbac.org\, for questions \nUpstairs\, Rm 105/Nursery\, and Gym used
URL:https://longbeachalliance.digitalchurch.app/event/gospel-project-childrens-ministry-96/
LOCATION:Long Beach Alliance Church\, 3331 Palo Verde Ave\, Long Beach\, CA\, United States
GEO:33.817334;-118.107762
X-APPLE-STRUCTURED-LOCATION;VALUE=URI;X-ADDRESS=Long Beach Alliance Church 3331 Palo Verde Ave Long Beach CA United States;X-APPLE-RADIUS=500;X-TITLE=3331 Palo Verde Ave:geo:-118.107762,33.817334
END:VEVENT
BEGIN:VEVENT
DTSTART;TZID=America/Los_Angeles:20250726T170000
DTEND;TZID=America/Los_Angeles:20250726T180000
DTSTAMP:20260419T204012
CREATED:20250309T102710Z
LAST-MODIFIED:20250726T121220Z
UID:10002455-1753549200-1753552800@longbeachalliance.digitalchurch.app
SUMMARY:Hume Lake Health Screening/Bag Check
DESCRIPTION:
URL:https://longbeachalliance.digitalchurch.app/event/hume-lake-health-screening-bag-check/
LOCATION:CA
END:VEVENT
BEGIN:VEVENT
DTSTART;TZID=America/Los_Angeles:20250726T100000
DTEND;TZID=America/Los_Angeles:20250726T120000
DTSTAMP:20260419T204012
CREATED:20250309T102710Z
LAST-MODIFIED:20250726T121219Z
UID:10002454-1753524000-1753531200@longbeachalliance.digitalchurch.app
SUMMARY:Missions Connections Missionary Update
DESCRIPTION:Church Lobby used\nDianna Ullrich and Pam Rice will be updating\nContact: Kathie Metz 562.234.5937
URL:https://longbeachalliance.digitalchurch.app/event/missions-celebrations-missionary-update/
LOCATION:3331 Palo Verde Ave\, Long Beach\, CA\, United States
GEO:33.823943;-118.111336
END:VEVENT
BEGIN:VEVENT
DTSTART;TZID=America/Los_Angeles:20250725T200000
DTEND;TZID=America/Los_Angeles:20250725T213000
DTSTAMP:20260419T204012
CREATED:20250317T134151Z
LAST-MODIFIED:20250725T115920Z
UID:10002484-1753473600-1753479000@longbeachalliance.digitalchurch.app
SUMMARY:NA In-Person Meeting
DESCRIPTION:Additional Set up/Tear Down: 7PM/10:30PM\nRm 102 and Kitchen used (may use Gym or Back patio if group is large)\nContact: \nMaryjean Cazeau 714.366.3887\nYvonne Turco 562.230.0574
URL:https://longbeachalliance.digitalchurch.app/event/na-in-person-meeting-145/
LOCATION:CA
END:VEVENT
BEGIN:VEVENT
DTSTART;TZID=America/Los_Angeles:20250725T193000
DTEND;TZID=America/Los_Angeles:20250725T213000
DTSTAMP:20260419T204012
CREATED:20250308T095939Z
LAST-MODIFIED:20250725T115920Z
UID:10002453-1753471800-1753479000@longbeachalliance.digitalchurch.app
SUMMARY:Betrayal and Beyond Ministry (@ Eberharts & Zoom)
DESCRIPTION:Contact: Debra Eberhart 925.580.7004
URL:https://longbeachalliance.digitalchurch.app/event/betrayal-and-beyond-ministry-eberharts-zoom-111/
LOCATION:CA
END:VEVENT
BEGIN:VEVENT
DTSTART;TZID=America/Los_Angeles:20250725T080000
DTEND;TZID=America/Los_Angeles:20250725T100000
DTSTAMP:20260419T204012
CREATED:20250308T095939Z
LAST-MODIFIED:20250725T115920Z
UID:10002452-1753430400-1753437600@longbeachalliance.digitalchurch.app
SUMMARY:Men's In-Person & Zoom Bible Study
DESCRIPTION:In-Person will be in Room 106Contact Bill Michel\, 714.390.7076\, for Zoom link information.
URL:https://longbeachalliance.digitalchurch.app/event/mens-in-person-zoom-bible-study-109/
LOCATION:CA
END:VEVENT
BEGIN:VEVENT
DTSTART;TZID=America/Los_Angeles:20250724T190000
DTEND;TZID=America/Los_Angeles:20250724T210000
DTSTAMP:20260419T204012
CREATED:20250307T094159Z
LAST-MODIFIED:20250724T114315Z
UID:10002451-1753383600-1753390800@longbeachalliance.digitalchurch.app
SUMMARY:Betrayal and Beyond Ministry @ the Eberharts
DESCRIPTION:Contact: Debra Eberhart 925.580.7004
URL:https://longbeachalliance.digitalchurch.app/event/betrayal-and-beyond-ministry-the-eberharts-237/
LOCATION:CA
END:VEVENT
BEGIN:VEVENT
DTSTART;TZID=America/Los_Angeles:20250724T093000
DTEND;TZID=America/Los_Angeles:20250724T113000
DTSTAMP:20260419T204012
CREATED:20250305T090138Z
LAST-MODIFIED:20250724T114315Z
UID:10002447-1753349400-1753356600@longbeachalliance.digitalchurch.app
SUMMARY:Women's Bible Study @ the Millers
DESCRIPTION:Facilitators: Colvin and Miller; Hosting Marilyn MillersContact: Marilyn Miller 562.922.2024 \nDavid- by Charles Swindoll
URL:https://longbeachalliance.digitalchurch.app/event/womens-bible-study-the-millers-156/
LOCATION:4702 Snowden Ave\, Lakewood\, CA\, United States
GEO:33.850465;-118.109399
END:VEVENT
BEGIN:VEVENT
DTSTART;TZID=America/Los_Angeles:20250722T190000
DTEND;TZID=America/Los_Angeles:20250722T220000
DTSTAMP:20260419T204012
CREATED:20250304T084259Z
LAST-MODIFIED:20250722T110358Z
UID:10002444-1753210800-1753221600@longbeachalliance.digitalchurch.app
SUMMARY:Elder Board Meeting
DESCRIPTION:
URL:https://longbeachalliance.digitalchurch.app/event/elder-board-meeting-24/
LOCATION:Long Beach Alliance Church 3331 Palo Verde Ave\, Long Beach\, CA\, United States
GEO:33.823943;-118.111336
END:VEVENT
BEGIN:VEVENT
DTSTART;TZID=America/Los_Angeles:20250722T190000
DTEND;TZID=America/Los_Angeles:20250722T210000
DTSTAMP:20260419T204012
CREATED:20250305T090137Z
LAST-MODIFIED:20250722T110358Z
UID:10002445-1753210800-1753218000@longbeachalliance.digitalchurch.app
SUMMARY:Men's Bible Study @ the Millers
DESCRIPTION:Facilitator: John Welliver\nContact Dave Miller 562.773.9100 dmiller002@cc.rr.com
URL:https://longbeachalliance.digitalchurch.app/event/mens-bible-study-the-millers-109/
LOCATION:4702 Snowden Ave\, Lakewood\, CA\, United States
GEO:33.850465;-118.109399
END:VEVENT
BEGIN:VEVENT
DTSTART;TZID=America/Los_Angeles:20250722T180000
DTEND;TZID=America/Los_Angeles:20250722T203000
DTSTAMP:20260419T204012
CREATED:20250305T090137Z
LAST-MODIFIED:20250722T110358Z
UID:10002446-1753207200-1753216200@longbeachalliance.digitalchurch.app
SUMMARY:Middle/High School Summer House Church
DESCRIPTION:@ Jane Roberts
URL:https://longbeachalliance.digitalchurch.app/event/middle-high-school-youth-group-86/
LOCATION:3611 Country Club Dr\, Lakewood\, CA\, United States
GEO:33.845624;-118.14645
END:VEVENT
BEGIN:VEVENT
DTSTART;TZID=America/Los_Angeles:20250721T190000
DTEND;TZID=America/Los_Angeles:20250721T210000
DTSTAMP:20260419T204012
CREATED:20250304T084258Z
LAST-MODIFIED:20250721T103628Z
UID:10002442-1753124400-1753131600@longbeachalliance.digitalchurch.app
SUMMARY:Betrayal and Beyond Ministry @ the Eberharts
DESCRIPTION:Contact: Debra Eberhart 925.580.7004
URL:https://longbeachalliance.digitalchurch.app/event/betrayal-and-beyond-ministry-the-eberharts-236/
LOCATION:CA
END:VEVENT
BEGIN:VEVENT
DTSTART;TZID=America/Los_Angeles:20250721T190000
DTEND;TZID=America/Los_Angeles:20250721T210000
DTSTAMP:20260419T204012
CREATED:20250303T082247Z
LAST-MODIFIED:20250721T103628Z
UID:10002441-1753124400-1753131600@longbeachalliance.digitalchurch.app
SUMMARY:Pure Desire Ministry Meeting
DESCRIPTION:Gym Used\nContactL Sam Eberhart 925.285.1295
URL:https://longbeachalliance.digitalchurch.app/event/pure-desire-ministry-meeting-113/
LOCATION:3331 Palo Verde Ave\, Long Beach\, CA\, United States
GEO:33.823943;-118.111336
END:VEVENT
BEGIN:VEVENT
DTSTART;TZID=America/Los_Angeles:20250721T190000
DTEND;TZID=America/Los_Angeles:20250721T203000
DTSTAMP:20260419T204012
CREATED:20250304T084258Z
LAST-MODIFIED:20250721T103628Z
UID:10002443-1753124400-1753129800@longbeachalliance.digitalchurch.app
SUMMARY:Survivors of Incest Anonymous In-Person & Zoom Meeting
DESCRIPTION:Rm 102 used\n@ 10 people\nContact: Maryjean Cazeau 714-366-3887
URL:https://longbeachalliance.digitalchurch.app/event/survivors-of-incest-anonymous-in-person-zoom-meeting-114/
LOCATION:Long Beach Alliance Church\, 3331 Palo Verde Ave\, Long Beach\, CA\, United States
GEO:33.817334;-118.107762
X-APPLE-STRUCTURED-LOCATION;VALUE=URI;X-ADDRESS=Long Beach Alliance Church 3331 Palo Verde Ave Long Beach CA United States;X-APPLE-RADIUS=500;X-TITLE=3331 Palo Verde Ave:geo:-118.107762,33.817334
END:VEVENT
BEGIN:VEVENT
DTSTART;TZID=America/Los_Angeles:20250720T093000
DTEND;TZID=America/Los_Angeles:20250720T104500
DTSTAMP:20260419T204012
CREATED:20250303T082247Z
LAST-MODIFIED:20250720T100859Z
UID:10002439-1753003800-1753008300@longbeachalliance.digitalchurch.app
SUMMARY:Gospel Project: Children's Ministry
DESCRIPTION:Contact Meghan Brearley\, meghan@lbac.org\, for questions \nUpstairs\, Rm 105/Nursery\, and Gym used
URL:https://longbeachalliance.digitalchurch.app/event/gospel-project-childrens-ministry-95/
LOCATION:Long Beach Alliance Church\, 3331 Palo Verde Ave\, Long Beach\, CA\, United States
GEO:33.817334;-118.107762
X-APPLE-STRUCTURED-LOCATION;VALUE=URI;X-ADDRESS=Long Beach Alliance Church 3331 Palo Verde Ave Long Beach CA United States;X-APPLE-RADIUS=500;X-TITLE=3331 Palo Verde Ave:geo:-118.107762,33.817334
END:VEVENT
BEGIN:VEVENT
DTSTART;TZID=America/Los_Angeles:20250720T093000
DTEND;TZID=America/Los_Angeles:20250720T104500
DTSTAMP:20260419T204012
CREATED:20250303T082247Z
LAST-MODIFIED:20250720T100859Z
UID:10002440-1753003800-1753008300@longbeachalliance.digitalchurch.app
SUMMARY:Worship & Celebration Service
DESCRIPTION:To watch the Livestream go to YouTube.com/longbeachalliancechurch
URL:https://longbeachalliance.digitalchurch.app/event/worship-celebration-service-74/
LOCATION:YouTube.com/longbeachalliancechurch
END:VEVENT
BEGIN:VEVENT
DTSTART;TZID=America/Los_Angeles:20250719T100000
DTEND;TZID=America/Los_Angeles:20250719T160000
DTSTAMP:20260419T204012
CREATED:20250301T074255Z
LAST-MODIFIED:20250719T094038Z
UID:10002438-1752919200-1752940800@longbeachalliance.digitalchurch.app
SUMMARY:Crafty Women
DESCRIPTION:@12 women \nRm 102 or the Gym used (depends how many ladies come) \nContact: Donna Neel donna@neel.com
URL:https://longbeachalliance.digitalchurch.app/event/crafty-women-20/
LOCATION:Long Beach Alliance Church\, 3331 Palo Verde Ave\, Long Beach\, CA\, United States
GEO:33.817334;-118.107762
X-APPLE-STRUCTURED-LOCATION;VALUE=URI;X-ADDRESS=Long Beach Alliance Church 3331 Palo Verde Ave Long Beach CA United States;X-APPLE-RADIUS=500;X-TITLE=3331 Palo Verde Ave:geo:-118.107762,33.817334
END:VEVENT
BEGIN:VEVENT
DTSTART;TZID=America/Los_Angeles:20250718T200000
DTEND;TZID=America/Los_Angeles:20250718T213000
DTSTAMP:20260419T204012
CREATED:20250312T113559Z
LAST-MODIFIED:20250718T091603Z
UID:10002482-1752868800-1752874200@longbeachalliance.digitalchurch.app
SUMMARY:NA In-Person Meeting
DESCRIPTION:Additional Set up/Tear Down: 7PM/10:30PM\nRm 102 and Kitchen used (may use Back patio if group is large)\nContact: \nMaryjean Cazeau 714.366.3887\nYvonne Turco 562.230.0574
URL:https://longbeachalliance.digitalchurch.app/event/na-in-person-meeting-144/
LOCATION:CA
END:VEVENT
BEGIN:VEVENT
DTSTART;TZID=America/Los_Angeles:20250718T193000
DTEND;TZID=America/Los_Angeles:20250718T213000
DTSTAMP:20260419T204012
CREATED:20250301T074255Z
LAST-MODIFIED:20250718T091603Z
UID:10002437-1752867000-1752874200@longbeachalliance.digitalchurch.app
SUMMARY:Betrayal and Beyond Ministry (@ Eberharts & Zoom)
DESCRIPTION:Contact: Debra Eberhart 925.580.7004
URL:https://longbeachalliance.digitalchurch.app/event/betrayal-and-beyond-ministry-eberharts-zoom-110/
LOCATION:CA
END:VEVENT
BEGIN:VEVENT
DTSTART;TZID=America/Los_Angeles:20250718T080000
DTEND;TZID=America/Los_Angeles:20250718T100000
DTSTAMP:20260419T204012
CREATED:20250228T072505Z
LAST-MODIFIED:20250718T091603Z
UID:10002436-1752825600-1752832800@longbeachalliance.digitalchurch.app
SUMMARY:Men's In-Person & Zoom Bible Study
DESCRIPTION:In-Person will be in Room 106Contact Bill Michel\, 714.390.7076\, for Zoom link information.
URL:https://longbeachalliance.digitalchurch.app/event/mens-in-person-zoom-bible-study-108/
LOCATION:CA
END:VEVENT
BEGIN:VEVENT
DTSTART;TZID=America/Los_Angeles:20250717T190000
DTEND;TZID=America/Los_Angeles:20250717T210000
DTSTAMP:20260419T204012
CREATED:20250226T065558Z
LAST-MODIFIED:20250717T084651Z
UID:10002430-1752778800-1752786000@longbeachalliance.digitalchurch.app
SUMMARY:Betrayal and Beyond Ministry @ the Eberharts
DESCRIPTION:Contact: Debra Eberhart 925.580.7004
URL:https://longbeachalliance.digitalchurch.app/event/betrayal-and-beyond-ministry-the-eberharts-235/
LOCATION:CA
END:VEVENT
BEGIN:VEVENT
DTSTART;TZID=America/Los_Angeles:20250717T170000
DTEND;TZID=America/Los_Angeles:20250717T190000
DTSTAMP:20260419T204012
CREATED:20250228T072504Z
LAST-MODIFIED:20250717T084652Z
UID:10002435-1752771600-1752778800@longbeachalliance.digitalchurch.app
SUMMARY:Lydia House Women's Outreach
DESCRIPTION:
URL:https://longbeachalliance.digitalchurch.app/event/lydia-house-womens-outreach-22/
LOCATION:1430 Pacific Ave. Long Beach\, Long Beach\, CA\, United States
GEO:33.780017;-118.183701
END:VEVENT
END:VCALENDAR