BEGIN:VCALENDAR
VERSION:2.0
PRODID:-//Long Beach Alliance Church - ECPv6.6.4//NONSGML v1.0//EN
CALSCALE:GREGORIAN
METHOD:PUBLISH
X-ORIGINAL-URL:https://longbeachalliance.digitalchurch.app
X-WR-CALDESC:Events for Long Beach Alliance Church
REFRESH-INTERVAL;VALUE=DURATION:PT1H
X-Robots-Tag:noindex
X-PUBLISHED-TTL:PT1H
BEGIN:VTIMEZONE
TZID:America/Los_Angeles
BEGIN:DAYLIGHT
TZOFFSETFROM:-0800
TZOFFSETTO:-0700
TZNAME:PDT
DTSTART:20250309T100000
END:DAYLIGHT
BEGIN:STANDARD
TZOFFSETFROM:-0700
TZOFFSETTO:-0800
TZNAME:PST
DTSTART:20251102T090000
END:STANDARD
END:VTIMEZONE
BEGIN:VEVENT
DTSTART;TZID=America/Los_Angeles:20251104T190000
DTEND;TZID=America/Los_Angeles:20251104T210000
DTSTAMP:20260419T222654
CREATED:20250619T173000Z
LAST-MODIFIED:20251104T053716Z
UID:10002713-1762282800-1762290000@longbeachalliance.digitalchurch.app
SUMMARY:Middle/High School Youth Group
DESCRIPTION:
URL:https://longbeachalliance.digitalchurch.app/event/middle-high-school-youth-group-102/
LOCATION:Long Beach Alliance Church 3331 Palo Verde Ave\, Long Beach\, CA\, United States
GEO:33.823943;-118.111336
END:VEVENT
BEGIN:VEVENT
DTSTART;TZID=America/Los_Angeles:20251104T190000
DTEND;TZID=America/Los_Angeles:20251104T210000
DTSTAMP:20260419T222654
CREATED:20250619T173000Z
LAST-MODIFIED:20250812T180450Z
UID:10002714-1762282800-1762290000@longbeachalliance.digitalchurch.app
SUMMARY:Men's Bible Study @ the Millers
DESCRIPTION:Facilitator: John Welliver\nContact Dave Miller 562.773.9100 dmiller002@cc.rr.com
URL:https://longbeachalliance.digitalchurch.app/event/mens-bible-study-the-millers-125/
LOCATION:4702 Snowden Ave\, Lakewood\, CA\, United States
GEO:33.850465;-118.109399
END:VEVENT
BEGIN:VEVENT
DTSTART;TZID=America/Los_Angeles:20251104T180000
DTEND;TZID=America/Los_Angeles:20251104T200000
DTSTAMP:20260419T222654
CREATED:20251016T221927Z
LAST-MODIFIED:20251104T053715Z
UID:10003042-1762279200-1762286400@longbeachalliance.digitalchurch.app
SUMMARY:Women's Bible Study
DESCRIPTION:Located at Michelle Moses’ house\nContact: Deya Slade deya@charter.net
URL:https://longbeachalliance.digitalchurch.app/event/womens-bible-study-21/
LOCATION:5454 E Ocean Blvd\, Long Beach\, CA\, United States
GEO:33.759885;-118.13016
END:VEVENT
BEGIN:VEVENT
DTSTART;TZID=America/Los_Angeles:20251104T180000
DTEND;TZID=America/Los_Angeles:20251104T200000
DTSTAMP:20260419T222654
CREATED:20250916T032252Z
LAST-MODIFIED:20251015T221508Z
UID:10002960-1762279200-1762286400@longbeachalliance.digitalchurch.app
SUMMARY:Women's Bible Study
DESCRIPTION:Located at Michelle Moses’ house\nContact: Deya Slade deya@charter.net
URL:https://longbeachalliance.digitalchurch.app/event/womens-bible-study-7/
LOCATION:5454 E Ocean Blvd\, Long Beach\, CA\, United States
GEO:33.759885;-118.13016
END:VEVENT
BEGIN:VEVENT
DTSTART;TZID=America/Los_Angeles:20251103T190000
DTEND;TZID=America/Los_Angeles:20251103T210000
DTSTAMP:20260419T222654
CREATED:20250619T173000Z
LAST-MODIFIED:20251103T050624Z
UID:10002710-1762196400-1762203600@longbeachalliance.digitalchurch.app
SUMMARY:Betrayal and Beyond Ministry @ the Eberharts
DESCRIPTION:Contact: Debra Eberhart 925.580.7004
URL:https://longbeachalliance.digitalchurch.app/event/betrayal-and-beyond-ministry-the-eberharts-269/
END:VEVENT
BEGIN:VEVENT
DTSTART;TZID=America/Los_Angeles:20251103T190000
DTEND;TZID=America/Los_Angeles:20251103T210000
DTSTAMP:20260419T222654
CREATED:20250619T173000Z
LAST-MODIFIED:20251103T050624Z
UID:10002711-1762196400-1762203600@longbeachalliance.digitalchurch.app
SUMMARY:Pure Desire Ministry Meeting
DESCRIPTION:Gym Used\nContactL Sam Eberhart 925.285.1295
URL:https://longbeachalliance.digitalchurch.app/event/pure-desire-ministry-meeting-129/
LOCATION:3331 Palo Verde Ave\, Long Beach\, CA\, United States
GEO:33.823943;-118.111336
END:VEVENT
BEGIN:VEVENT
DTSTART;TZID=America/Los_Angeles:20251103T190000
DTEND;TZID=America/Los_Angeles:20251103T203000
DTSTAMP:20260419T222654
CREATED:20250619T173000Z
LAST-MODIFIED:20251103T050624Z
UID:10002712-1762196400-1762201800@longbeachalliance.digitalchurch.app
SUMMARY:Survivors of Incest Anonymous In-Person & Zoom Meeting
DESCRIPTION:Rm 102 used\n@ 10 people\nContact: Maryjean Cazeau 714-366-3887
URL:https://longbeachalliance.digitalchurch.app/event/survivors-of-incest-anonymous-in-person-zoom-meeting-130/
LOCATION:Long Beach Alliance Church\, 3331 Palo Verde Ave\, Long Beach\, CA\, United States
GEO:33.817334;-118.107762
X-APPLE-STRUCTURED-LOCATION;VALUE=URI;X-ADDRESS=Long Beach Alliance Church 3331 Palo Verde Ave Long Beach CA United States;X-APPLE-RADIUS=500;X-TITLE=3331 Palo Verde Ave:geo:-118.107762,33.817334
END:VEVENT
BEGIN:VEVENT
DTSTART;TZID=America/Los_Angeles:20251102T111500
DTEND;TZID=America/Los_Angeles:20251102T121500
DTSTAMP:20260419T222654
CREATED:20251012T210232Z
LAST-MODIFIED:20251102T045914Z
UID:10003027-1762082100-1762085700@longbeachalliance.digitalchurch.app
SUMMARY:Children's Musical Practice
DESCRIPTION:Sanctuary Used\nContact: Marikka Ostermann or Traci Garber
URL:https://longbeachalliance.digitalchurch.app/event/childrens-musical-practice-20/
LOCATION:Long Beach Alliance Church\, 3331 Palo Verde Ave\, Long Beach\, CA\, United States
GEO:33.817334;-118.107762
X-APPLE-STRUCTURED-LOCATION;VALUE=URI;X-ADDRESS=Long Beach Alliance Church 3331 Palo Verde Ave Long Beach CA United States;X-APPLE-RADIUS=500;X-TITLE=3331 Palo Verde Ave:geo:-118.107762,33.817334
END:VEVENT
BEGIN:VEVENT
DTSTART;TZID=America/Los_Angeles:20251102T093000
DTEND;TZID=America/Los_Angeles:20251102T104500
DTSTAMP:20260419T222654
CREATED:20250619T173000Z
LAST-MODIFIED:20251102T045914Z
UID:10002709-1762075800-1762080300@longbeachalliance.digitalchurch.app
SUMMARY:Gospel Project: Children's Ministry
DESCRIPTION:Contact Meghan Brearley\, meghan@lbac.org\, for questions \nUpstairs\, Rm 105/Nursery\, and Gym used
URL:https://longbeachalliance.digitalchurch.app/event/gospel-project-childrens-ministry-111/
LOCATION:Long Beach Alliance Church\, 3331 Palo Verde Ave\, Long Beach\, CA\, United States
GEO:33.817334;-118.107762
X-APPLE-STRUCTURED-LOCATION;VALUE=URI;X-ADDRESS=Long Beach Alliance Church 3331 Palo Verde Ave Long Beach CA United States;X-APPLE-RADIUS=500;X-TITLE=3331 Palo Verde Ave:geo:-118.107762,33.817334
END:VEVENT
BEGIN:VEVENT
DTSTART;TZID=America/Los_Angeles:20251102T093000
DTEND;TZID=America/Los_Angeles:20251102T104500
DTSTAMP:20260419T222654
CREATED:20250619T172959Z
LAST-MODIFIED:20251102T045914Z
UID:10002708-1762075800-1762080300@longbeachalliance.digitalchurch.app
SUMMARY:Worship & Celebration Service
DESCRIPTION:To watch the Livestream go to YouTube.com/longbeachalliancechurch
URL:https://longbeachalliance.digitalchurch.app/event/worship-celebration-service-90/
LOCATION:YouTube.com/longbeachalliancechurch
END:VEVENT
BEGIN:VEVENT
DTSTART;TZID=America/Los_Angeles:20251101T100000
DTEND;TZID=America/Los_Angeles:20251101T113000
DTSTAMP:20260419T222654
CREATED:20250917T114314Z
LAST-MODIFIED:20251101T043840Z
UID:10002972-1761991200-1761996600@longbeachalliance.digitalchurch.app
SUMMARY:LBAC Connecting in Missions Event
DESCRIPTION:Lobby\nKathie Metz & Scott Trickett\nIntroducing\nJohn and Tiffany Davidson\nMissionaries to Israel with C&MA attending LBAC
URL:https://longbeachalliance.digitalchurch.app/event/connecting-in-missions-event/
LOCATION:Long Beach Alliance Church\, 3331 Palo Verde Ave\, Long Beach\, CA\, United States
GEO:33.817334;-118.107762
X-APPLE-STRUCTURED-LOCATION;VALUE=URI;X-ADDRESS=Long Beach Alliance Church 3331 Palo Verde Ave Long Beach CA United States;X-APPLE-RADIUS=500;X-TITLE=3331 Palo Verde Ave:geo:-118.107762,33.817334
END:VEVENT
BEGIN:VEVENT
DTSTART;TZID=America/Los_Angeles:20251031T200000
DTEND;TZID=America/Los_Angeles:20251031T213000
DTSTAMP:20260419T222654
CREATED:20250619T172945Z
LAST-MODIFIED:20251101T043840Z
UID:10002706-1761940800-1761946200@longbeachalliance.digitalchurch.app
SUMMARY:NA In-Person Meeting
DESCRIPTION:Additional Set up/Tear Down: 7PM/10:30PM\nRm 102 and Kitchen used (may use Back patio if group is large)\nContact: \nMaryjean Cazeau 714.366.3887\nYvonne Turco 562.230.0574
URL:https://longbeachalliance.digitalchurch.app/event/na-in-person-meeting-160/
END:VEVENT
BEGIN:VEVENT
DTSTART;TZID=America/Los_Angeles:20251031T193000
DTEND;TZID=America/Los_Angeles:20251031T213000
DTSTAMP:20260419T222654
CREATED:20250619T172959Z
LAST-MODIFIED:20251101T043840Z
UID:10002707-1761939000-1761946200@longbeachalliance.digitalchurch.app
SUMMARY:Betrayal and Beyond Ministry (@ Eberharts & Zoom)
DESCRIPTION:Contact: Debra Eberhart 925.580.7004
URL:https://longbeachalliance.digitalchurch.app/event/betrayal-and-beyond-ministry-eberharts-zoom-126/
END:VEVENT
BEGIN:VEVENT
DTSTART;TZID=America/Los_Angeles:20251031T080000
DTEND;TZID=America/Los_Angeles:20251031T100000
DTSTAMP:20260419T222654
CREATED:20250619T172945Z
LAST-MODIFIED:20251031T042132Z
UID:10002705-1761897600-1761904800@longbeachalliance.digitalchurch.app
SUMMARY:Men's In-Person & Zoom Bible Study
DESCRIPTION:In-Person will be in Room 106Contact Bill Michel\, 714.390.7076\, for Zoom link information.
URL:https://longbeachalliance.digitalchurch.app/event/mens-in-person-zoom-bible-study-125/
END:VEVENT
BEGIN:VEVENT
DTSTART;TZID=America/Los_Angeles:20251030T190000
DTEND;TZID=America/Los_Angeles:20251030T210000
DTSTAMP:20260419T222654
CREATED:20250616T145447Z
LAST-MODIFIED:20251030T040519Z
UID:10002704-1761850800-1761858000@longbeachalliance.digitalchurch.app
SUMMARY:Betrayal and Beyond Ministry @ the Eberharts
DESCRIPTION:Contact: Debra Eberhart 925.580.7004
URL:https://longbeachalliance.digitalchurch.app/event/betrayal-and-beyond-ministry-the-eberharts-268/
END:VEVENT
BEGIN:VEVENT
DTSTART;TZID=America/Los_Angeles:20251030T180000
DTEND;TZID=America/Los_Angeles:20251030T200000
DTSTAMP:20260419T222654
CREATED:20250807T160827Z
LAST-MODIFIED:20251030T040519Z
UID:10002847-1761847200-1761854400@longbeachalliance.digitalchurch.app
SUMMARY:Worship Team Practice
DESCRIPTION:Sanctuary Used\nContact: Scott Trickett scott@lbac.org
URL:https://longbeachalliance.digitalchurch.app/event/worship-team-practice-13/
LOCATION:Long Beach Alliance Church\, 3331 Palo Verde Ave\, Long Beach\, CA\, United States
GEO:33.817334;-118.107762
X-APPLE-STRUCTURED-LOCATION;VALUE=URI;X-ADDRESS=Long Beach Alliance Church 3331 Palo Verde Ave Long Beach CA United States;X-APPLE-RADIUS=500;X-TITLE=3331 Palo Verde Ave:geo:-118.107762,33.817334
END:VEVENT
BEGIN:VEVENT
DTSTART;TZID=America/Los_Angeles:20251030T093000
DTEND;TZID=America/Los_Angeles:20251030T113000
DTSTAMP:20260419T222654
CREATED:20250616T145447Z
LAST-MODIFIED:20251030T040519Z
UID:10002703-1761816600-1761823800@longbeachalliance.digitalchurch.app
SUMMARY:Women's Bible Study @ the Millers
DESCRIPTION:Facilitators: Colvin and Miller; Hosting Marilyn MillersContact: Marilyn Miller 562.922.2024 \nDavid- by Charles Swindoll
URL:https://longbeachalliance.digitalchurch.app/event/womens-bible-study-the-millers-172/
LOCATION:4702 Snowden Ave\, Lakewood\, CA\, United States
GEO:33.850465;-118.109399
END:VEVENT
BEGIN:VEVENT
DTSTART;TZID=America/Los_Angeles:20251029T180000
DTEND;TZID=America/Los_Angeles:20251029T200000
DTSTAMP:20260419T222654
CREATED:20250724T113955Z
LAST-MODIFIED:20251029T033157Z
UID:10002815-1761760800-1761768000@longbeachalliance.digitalchurch.app
SUMMARY:Awana - Wacky Wardrobe
DESCRIPTION:
URL:https://longbeachalliance.digitalchurch.app/event/awana-73/
END:VEVENT
BEGIN:VEVENT
DTSTART;TZID=America/Los_Angeles:20251028T190000
DTEND;TZID=America/Los_Angeles:20251028T210000
DTSTAMP:20260419T222654
CREATED:20250813T181819Z
LAST-MODIFIED:20251029T033156Z
UID:10002863-1761678000-1761685200@longbeachalliance.digitalchurch.app
SUMMARY:Men's Bible Study @ the Millers
DESCRIPTION:Studying: Deuteronomy\nFacilitator: John Welliver\nContact Dave Miller 562.773.9100 dmiller002@cc.rr.com
URL:https://longbeachalliance.digitalchurch.app/event/mens-bible-study-the-millers-139/
LOCATION:4702 Snowden Ave\, Lakewood\, CA\, United States
GEO:33.850465;-118.109399
END:VEVENT
BEGIN:VEVENT
DTSTART;TZID=America/Los_Angeles:20251028T190000
DTEND;TZID=America/Los_Angeles:20251028T210000
DTSTAMP:20260419T222654
CREATED:20250616T145447Z
LAST-MODIFIED:20250812T180449Z
UID:10002701-1761678000-1761685200@longbeachalliance.digitalchurch.app
SUMMARY:Men's Bible Study @ the Millers
DESCRIPTION:Facilitator: John Welliver\nContact Dave Miller 562.773.9100 dmiller002@cc.rr.com
URL:https://longbeachalliance.digitalchurch.app/event/mens-bible-study-the-millers-124/
LOCATION:4702 Snowden Ave\, Lakewood\, CA\, United States
GEO:33.850465;-118.109399
END:VEVENT
BEGIN:VEVENT
DTSTART;TZID=America/Los_Angeles:20251028T190000
DTEND;TZID=America/Los_Angeles:20251028T210000
DTSTAMP:20260419T222654
CREATED:20250615T142223Z
LAST-MODIFIED:20251029T033156Z
UID:10002700-1761678000-1761685200@longbeachalliance.digitalchurch.app
SUMMARY:Middle/High School Youth Group
DESCRIPTION:
URL:https://longbeachalliance.digitalchurch.app/event/middle-high-school-youth-group-101/
LOCATION:Long Beach Alliance Church 3331 Palo Verde Ave\, Long Beach\, CA\, United States
GEO:33.823943;-118.111336
END:VEVENT
BEGIN:VEVENT
DTSTART;TZID=America/Los_Angeles:20251028T180000
DTEND;TZID=America/Los_Angeles:20251028T200000
DTSTAMP:20260419T222654
CREATED:20251016T221903Z
LAST-MODIFIED:20251028T030022Z
UID:10003041-1761674400-1761681600@longbeachalliance.digitalchurch.app
SUMMARY:Women's Bible Study
DESCRIPTION:Located at Michelle Moses’ house\nContact: Deya Slade deya@charter.net
URL:https://longbeachalliance.digitalchurch.app/event/womens-bible-study-20/
LOCATION:5454 E Ocean Blvd\, Long Beach\, CA\, United States
GEO:33.759885;-118.13016
END:VEVENT
BEGIN:VEVENT
DTSTART;TZID=America/Los_Angeles:20251028T180000
DTEND;TZID=America/Los_Angeles:20251028T200000
DTSTAMP:20260419T222654
CREATED:20250916T032250Z
LAST-MODIFIED:20251015T221507Z
UID:10002959-1761674400-1761681600@longbeachalliance.digitalchurch.app
SUMMARY:Women's Bible Study
DESCRIPTION:Located at Michelle Moses’ house\nContact: Deya Slade deya@charter.net
URL:https://longbeachalliance.digitalchurch.app/event/womens-bible-study-6/
LOCATION:5454 E Ocean Blvd\, Long Beach\, CA\, United States
GEO:33.759885;-118.13016
END:VEVENT
BEGIN:VEVENT
DTSTART;TZID=America/Los_Angeles:20251027T190000
DTEND;TZID=America/Los_Angeles:20251027T210000
DTSTAMP:20260419T222654
CREATED:20250821T225319Z
LAST-MODIFIED:20251028T030021Z
UID:10002887-1761591600-1761598800@longbeachalliance.digitalchurch.app
SUMMARY:Life Group @ Schaubs
DESCRIPTION:Luke Schaub hosting and facilitating
URL:https://longbeachalliance.digitalchurch.app/event/life-group-schaubs-4/
LOCATION:3631 Halbrite Ave\, Long Beach\, CA\, United States
GEO:33.823943;-118.111336
END:VEVENT
BEGIN:VEVENT
DTSTART;TZID=America/Los_Angeles:20251027T190000
DTEND;TZID=America/Los_Angeles:20251027T210000
DTSTAMP:20260419T222654
CREATED:20250614T135407Z
LAST-MODIFIED:20251028T030021Z
UID:10002699-1761591600-1761598800@longbeachalliance.digitalchurch.app
SUMMARY:Betrayal and Beyond Ministry @ the Eberharts
DESCRIPTION:Contact: Debra Eberhart 925.580.7004
URL:https://longbeachalliance.digitalchurch.app/event/betrayal-and-beyond-ministry-the-eberharts-267/
END:VEVENT
BEGIN:VEVENT
DTSTART;TZID=America/Los_Angeles:20251027T190000
DTEND;TZID=America/Los_Angeles:20251027T210000
DTSTAMP:20260419T222654
CREATED:20250613T132720Z
LAST-MODIFIED:20251028T030021Z
UID:10002696-1761591600-1761598800@longbeachalliance.digitalchurch.app
SUMMARY:Pure Desire Ministry Meeting
DESCRIPTION:Gym Used\nContactL Sam Eberhart 925.285.1295
URL:https://longbeachalliance.digitalchurch.app/event/pure-desire-ministry-meeting-128/
LOCATION:3331 Palo Verde Ave\, Long Beach\, CA\, United States
GEO:33.823943;-118.111336
END:VEVENT
BEGIN:VEVENT
DTSTART;TZID=America/Los_Angeles:20251027T190000
DTEND;TZID=America/Los_Angeles:20251027T203000
DTSTAMP:20260419T222654
CREATED:20250614T135407Z
LAST-MODIFIED:20251028T030021Z
UID:10002697-1761591600-1761597000@longbeachalliance.digitalchurch.app
SUMMARY:Survivors of Incest Anonymous In-Person & Zoom Meeting
DESCRIPTION:Rm 102 used\n@ 10 people\nContact: Maryjean Cazeau 714-366-3887
URL:https://longbeachalliance.digitalchurch.app/event/survivors-of-incest-anonymous-in-person-zoom-meeting-129/
LOCATION:Long Beach Alliance Church\, 3331 Palo Verde Ave\, Long Beach\, CA\, United States
GEO:33.817334;-118.107762
X-APPLE-STRUCTURED-LOCATION;VALUE=URI;X-ADDRESS=Long Beach Alliance Church 3331 Palo Verde Ave Long Beach CA United States;X-APPLE-RADIUS=500;X-TITLE=3331 Palo Verde Ave:geo:-118.107762,33.817334
END:VEVENT
BEGIN:VEVENT
DTSTART;TZID=America/Los_Angeles:20251027T183000
DTEND;TZID=America/Los_Angeles:20251027T203000
DTSTAMP:20260419T222654
CREATED:20250614T135407Z
LAST-MODIFIED:20251012T212452Z
UID:10002698-1761589800-1761597000@longbeachalliance.digitalchurch.app
SUMMARY:Life Group @ Bartlebaughs
DESCRIPTION:Tricketts Facilitating\nBartlebaughs hosting
URL:https://longbeachalliance.digitalchurch.app/event/life-group-bartlebaughs-54/
LOCATION:4752 Bellflower Blvd\, Lakewood\, CA\, United States
GEO:33.850465;-118.109399
END:VEVENT
BEGIN:VEVENT
DTSTART;TZID=America/Los_Angeles:20251026T113000
DTEND;TZID=America/Los_Angeles:20251026T130000
DTSTAMP:20260419T222654
CREATED:20250613T132720Z
LAST-MODIFIED:20251026T020830Z
UID:10002695-1761478200-1761483600@longbeachalliance.digitalchurch.app
SUMMARY:Pumpkin Party
DESCRIPTION:using gym and kitchen
URL:https://longbeachalliance.digitalchurch.app/event/pumpkin-party-2/
END:VEVENT
BEGIN:VEVENT
DTSTART;TZID=America/Los_Angeles:20251026T093000
DTEND;TZID=America/Los_Angeles:20251026T104500
DTSTAMP:20260419T222654
CREATED:20250612T130651Z
LAST-MODIFIED:20251026T020830Z
UID:10002694-1761471000-1761475500@longbeachalliance.digitalchurch.app
SUMMARY:Worship & Celebration Service
DESCRIPTION:To watch the Livestream go to YouTube.com/longbeachalliancechurch
URL:https://longbeachalliance.digitalchurch.app/event/worship-celebration-service-89/
LOCATION:YouTube.com/longbeachalliancechurch
END:VEVENT
END:VCALENDAR