BEGIN:VCALENDAR
VERSION:2.0
PRODID:-//Long Beach Alliance Church - ECPv6.6.4//NONSGML v1.0//EN
CALSCALE:GREGORIAN
METHOD:PUBLISH
X-WR-CALNAME:Long Beach Alliance Church
X-ORIGINAL-URL:https://longbeachalliance.digitalchurch.app
X-WR-CALDESC:Events for Long Beach Alliance Church
REFRESH-INTERVAL;VALUE=DURATION:PT1H
X-Robots-Tag:noindex
X-PUBLISHED-TTL:PT1H
BEGIN:VTIMEZONE
TZID:America/Los_Angeles
BEGIN:DAYLIGHT
TZOFFSETFROM:-0800
TZOFFSETTO:-0700
TZNAME:PDT
DTSTART:20240310T100000
END:DAYLIGHT
BEGIN:STANDARD
TZOFFSETFROM:-0700
TZOFFSETTO:-0800
TZNAME:PST
DTSTART:20241103T090000
END:STANDARD
END:VTIMEZONE
BEGIN:VEVENT
DTSTART;TZID=America/Los_Angeles:20241027T093000
DTEND;TZID=America/Los_Angeles:20241027T104500
DTSTAMP:20260425T192339
CREATED:20240619T203209Z
LAST-MODIFIED:20241026T180917Z
UID:10001625-1730021400-1730025900@longbeachalliance.digitalchurch.app
SUMMARY:Gospel Project: Children's Ministry
DESCRIPTION:Contact Meghan Brearley\, meghan@lbac.org\, for questions \nUpstairs\, Rm 105/Nursery\, and Gym used
URL:https://longbeachalliance.digitalchurch.app/event/gospel-project-childrens-ministry-57/
LOCATION:Long Beach Alliance Church\, 3331 Palo Verde Ave\, Long Beach\, CA\, United States
GEO:33.817334;-118.107762
X-APPLE-STRUCTURED-LOCATION;VALUE=URI;X-ADDRESS=Long Beach Alliance Church 3331 Palo Verde Ave Long Beach CA United States;X-APPLE-RADIUS=500;X-TITLE=3331 Palo Verde Ave:geo:-118.107762,33.817334
END:VEVENT
BEGIN:VEVENT
DTSTART;TZID=America/Los_Angeles:20241027T093000
DTEND;TZID=America/Los_Angeles:20241027T104500
DTSTAMP:20260425T192339
CREATED:20240619T203209Z
LAST-MODIFIED:20241026T180917Z
UID:10001626-1730021400-1730025900@longbeachalliance.digitalchurch.app
SUMMARY:Worship & Celebration Service
DESCRIPTION:To watch the Livestream go to YouTube.com/longbeachalliancechurch
URL:https://longbeachalliance.digitalchurch.app/event/worship-celebration-service-36/
LOCATION:YouTube.com/longbeachalliancechurch
END:VEVENT
BEGIN:VEVENT
DTSTART;TZID=America/Los_Angeles:20241027T113000
DTEND;TZID=America/Los_Angeles:20241027T130000
DTSTAMP:20260425T192339
CREATED:20240911T035639Z
LAST-MODIFIED:20241026T180917Z
UID:10001908-1730028600-1730034000@longbeachalliance.digitalchurch.app
SUMMARY:Pumpkin Party
DESCRIPTION:
URL:https://longbeachalliance.digitalchurch.app/event/pumpkin-party/
LOCATION:CA
END:VEVENT
BEGIN:VEVENT
DTSTART;TZID=America/Los_Angeles:20241027T130000
DTEND;TZID=America/Los_Angeles:20241027T160000
DTSTAMP:20260425T192339
CREATED:20240829T061117Z
LAST-MODIFIED:20241007T143058Z
UID:10001884-1730034000-1730044800@longbeachalliance.digitalchurch.app
SUMMARY:Vision School- Missions Training
DESCRIPTION:Additional Set up/Tear Down: 12:30PM/4:30PM\nRm 203 used (a/v capabilities needed)\n@15 people expected \nContact: Vince Palacios (562) 370-0881  svpalacios6@gmail.com
URL:https://longbeachalliance.digitalchurch.app/event/vision-school-missions-training-6/
LOCATION:Long Beach Alliance Church\, 3331 Palo Verde Ave\, Long Beach\, CA\, United States
GEO:33.817334;-118.107762
X-APPLE-STRUCTURED-LOCATION;VALUE=URI;X-ADDRESS=Long Beach Alliance Church 3331 Palo Verde Ave Long Beach CA United States;X-APPLE-RADIUS=500;X-TITLE=3331 Palo Verde Ave:geo:-118.107762,33.817334
END:VEVENT
BEGIN:VEVENT
DTSTART;TZID=America/Los_Angeles:20241028T183000
DTEND;TZID=America/Los_Angeles:20241028T203000
DTSTAMP:20260425T192339
CREATED:20240715T053035Z
LAST-MODIFIED:20241027T220019Z
UID:10001695-1730140200-1730147400@longbeachalliance.digitalchurch.app
SUMMARY:Life Group @ Bartlebaughs
DESCRIPTION:Tricketts Facilitating\nBartlebaughs hosting
URL:https://longbeachalliance.digitalchurch.app/event/life-group-bartlebaughs-26/
LOCATION:4752 Bellflower Blvd\, Lakewood\, CA\, United States
GEO:33.850465;-118.109399
END:VEVENT
BEGIN:VEVENT
DTSTART;TZID=America/Los_Angeles:20241028T183000
DTEND;TZID=America/Los_Angeles:20241028T203000
DTSTAMP:20260425T192339
CREATED:20241029T013354Z
LAST-MODIFIED:20241029T013711Z
UID:10002066-1730140200-1730147400@longbeachalliance.digitalchurch.app
SUMMARY:Life Group @ Bartlebaughs
DESCRIPTION:Tricketts Facilitating\nBartlebaughs hosting
URL:https://longbeachalliance.digitalchurch.app/event/life-group-bartlebaughs-34/
LOCATION:4752 Bellflower Blvd\, Lakewood\, CA\, United States
GEO:33.850465;-118.109399
END:VEVENT
BEGIN:VEVENT
DTSTART;TZID=America/Los_Angeles:20241028T190000
DTEND;TZID=America/Los_Angeles:20241028T203000
DTSTAMP:20260425T192339
CREATED:20240619T203209Z
LAST-MODIFIED:20240815T113409Z
UID:10001627-1730142000-1730147400@longbeachalliance.digitalchurch.app
SUMMARY:Survivors of Incest Anonymous In-Person & Zoom Meeting
DESCRIPTION:Rm 206 used\n@ 10 people\nContact: Maryjean Cazeau 714-366-3887
URL:https://longbeachalliance.digitalchurch.app/event/survivors-of-incest-anonymous-in-person-zoom-meeting-58/
LOCATION:Long Beach Alliance Church\, 3331 Palo Verde Ave\, Long Beach\, CA\, United States
GEO:33.817334;-118.107762
X-APPLE-STRUCTURED-LOCATION;VALUE=URI;X-ADDRESS=Long Beach Alliance Church 3331 Palo Verde Ave Long Beach CA United States;X-APPLE-RADIUS=500;X-TITLE=3331 Palo Verde Ave:geo:-118.107762,33.817334
END:VEVENT
BEGIN:VEVENT
DTSTART;TZID=America/Los_Angeles:20241028T190000
DTEND;TZID=America/Los_Angeles:20241028T203000
DTSTAMP:20260425T192339
CREATED:20240817T011542Z
LAST-MODIFIED:20241029T013711Z
UID:10001825-1730142000-1730147400@longbeachalliance.digitalchurch.app
SUMMARY:Survivors of Incest Anonymous In-Person & Zoom Meeting
DESCRIPTION:Rm 102 used\n@ 10 people\nContact: Maryjean Cazeau 714-366-3887
URL:https://longbeachalliance.digitalchurch.app/event/survivors-of-incest-anonymous-in-person-zoom-meeting-76/
LOCATION:Long Beach Alliance Church\, 3331 Palo Verde Ave\, Long Beach\, CA\, United States
GEO:33.817334;-118.107762
X-APPLE-STRUCTURED-LOCATION;VALUE=URI;X-ADDRESS=Long Beach Alliance Church 3331 Palo Verde Ave Long Beach CA United States;X-APPLE-RADIUS=500;X-TITLE=3331 Palo Verde Ave:geo:-118.107762,33.817334
END:VEVENT
BEGIN:VEVENT
DTSTART;TZID=America/Los_Angeles:20241028T190000
DTEND;TZID=America/Los_Angeles:20241028T210000
DTSTAMP:20260425T192339
CREATED:20240619T203209Z
LAST-MODIFIED:20241029T013711Z
UID:10001628-1730142000-1730149200@longbeachalliance.digitalchurch.app
SUMMARY:Pure Desire Ministry Meeting
DESCRIPTION:Gym Used\nContactL Sam Eberhart 925.285.1295
URL:https://longbeachalliance.digitalchurch.app/event/pure-desire-ministry-meeting-75/
LOCATION:3331 Palo Verde Ave\, Long Beach\, CA\, United States
GEO:33.823943;-118.111336
END:VEVENT
BEGIN:VEVENT
DTSTART;TZID=America/Los_Angeles:20241028T190000
DTEND;TZID=America/Los_Angeles:20241028T210000
DTSTAMP:20260425T192339
CREATED:20240731T185751Z
LAST-MODIFIED:20241029T013711Z
UID:10001769-1730142000-1730149200@longbeachalliance.digitalchurch.app
SUMMARY:Betrayal and Beyond Ministry @ the Eberharts
DESCRIPTION:Contact: Debra Eberhart 925.580.7004
URL:https://longbeachalliance.digitalchurch.app/event/betrayal-and-beyond-ministry-the-eberharts-148/
LOCATION:CA
END:VEVENT
BEGIN:VEVENT
DTSTART;TZID=America/Los_Angeles:20241029T100000
DTEND;TZID=America/Los_Angeles:20241029T120000
DTSTAMP:20260425T192339
CREATED:20240619T203209Z
LAST-MODIFIED:20241001T013115Z
UID:10001629-1730196000-1730203200@longbeachalliance.digitalchurch.app
SUMMARY:All Staff • Weekly Team Meeting
DESCRIPTION:
URL:https://longbeachalliance.digitalchurch.app/event/all-staff-weekly-team-meeting-64/
LOCATION:3331 Palo Verde Ave\, Long Beach\, CA\, United States
GEO:33.823943;-118.111336
END:VEVENT
BEGIN:VEVENT
DTSTART;TZID=America/Los_Angeles:20241029T190000
DTEND;TZID=America/Los_Angeles:20241029T210000
DTSTAMP:20260425T192339
CREATED:20230526T152121Z
LAST-MODIFIED:20230526T160214Z
UID:10000240-1730228400-1730235600@longbeachalliance.digitalchurch.app
SUMMARY:High School Youth Group
DESCRIPTION:
URL:https://longbeachalliance.digitalchurch.app/event/high-school-youth-group-6/2024-10-29/
LOCATION:CA
CATEGORIES:Youth
END:VEVENT
BEGIN:VEVENT
DTSTART;TZID=America/Los_Angeles:20241029T190000
DTEND;TZID=America/Los_Angeles:20241029T210000
DTSTAMP:20260425T192339
CREATED:20240619T203209Z
LAST-MODIFIED:20241029T013711Z
UID:10001632-1730228400-1730235600@longbeachalliance.digitalchurch.app
SUMMARY:Middle/High School Youth Group
DESCRIPTION:
URL:https://longbeachalliance.digitalchurch.app/event/middle-high-school-youth-group-49/
LOCATION:Long Beach Alliance Church 3331 Palo Verde Ave\, Long Beach\, CA\, United States
GEO:33.823943;-118.111336
END:VEVENT
BEGIN:VEVENT
DTSTART;TZID=America/Los_Angeles:20241029T190000
DTEND;TZID=America/Los_Angeles:20241029T210000
DTSTAMP:20260425T192339
CREATED:20240619T203209Z
LAST-MODIFIED:20241029T013711Z
UID:10001631-1730228400-1730235600@longbeachalliance.digitalchurch.app
SUMMARY:Men's Bible Study @ the Millers
DESCRIPTION:Facilitator: John Welliver\nContact Dave Miller 562.773.9100 dmiller002@cc.rr.com
URL:https://longbeachalliance.digitalchurch.app/event/mens-bible-study-the-millers-71/
LOCATION:4702 Snowden Ave\, Lakewood\, CA\, United States
GEO:33.850465;-118.109399
END:VEVENT
BEGIN:VEVENT
DTSTART;TZID=America/Los_Angeles:20241029T190000
DTEND;TZID=America/Los_Angeles:20241029T210000
DTSTAMP:20260425T192339
CREATED:20240619T203209Z
LAST-MODIFIED:20240730T082444Z
UID:10001630-1730228400-1730235600@longbeachalliance.digitalchurch.app
SUMMARY:Betrayal and Beyond Ministry @ the Eberharts
DESCRIPTION:Contact: Debra Eberhart 925.580.7004
URL:https://longbeachalliance.digitalchurch.app/event/betrayal-and-beyond-ministry-the-eberharts-123/
LOCATION:CA
END:VEVENT
BEGIN:VEVENT
DTSTART;TZID=America/Los_Angeles:20241030T183000
DTEND;TZID=America/Los_Angeles:20241030T203000
DTSTAMP:20260425T192339
CREATED:20240621T015923Z
LAST-MODIFIED:20240730T082444Z
UID:10001633-1730313000-1730320200@longbeachalliance.digitalchurch.app
SUMMARY:Betrayal and Beyond Ministry (@ Eberharts & Zoom)
DESCRIPTION:Contact: Debra Eberhart 925.580.7004
URL:https://longbeachalliance.digitalchurch.app/event/betrayal-and-beyond-ministry-eberharts-zoom-54/
LOCATION:CA
END:VEVENT
BEGIN:VEVENT
DTSTART;TZID=America/Los_Angeles:20241030T183000
DTEND;TZID=America/Los_Angeles:20241030T203000
DTSTAMP:20260425T192339
CREATED:20240731T185752Z
LAST-MODIFIED:20241030T081110Z
UID:10001770-1730313000-1730320200@longbeachalliance.digitalchurch.app
SUMMARY:AWANA
DESCRIPTION:
URL:https://longbeachalliance.digitalchurch.app/event/awana-40/
LOCATION:3331 Palo Verde Ave\nLong Beach\, CA\, United States
END:VEVENT
BEGIN:VEVENT
DTSTART;TZID=America/Los_Angeles:20241031T093000
DTEND;TZID=America/Los_Angeles:20241031T113000
DTSTAMP:20260425T192339
CREATED:20240621T015923Z
LAST-MODIFIED:20240820T013616Z
UID:10001634-1730367000-1730374200@longbeachalliance.digitalchurch.app
SUMMARY:Women's Bible Study @ the Millers
DESCRIPTION:Facilitators: Colvin and Miller; Hosting Marilyn MillersContact: Marilyn Miller 562.922.2024 \nMoses by Charles Swindoll
URL:https://longbeachalliance.digitalchurch.app/event/womens-bible-study-the-millers-85/
LOCATION:4702 Snowden Ave\, Lakewood\, CA\, United States
GEO:33.850465;-118.109399
END:VEVENT
BEGIN:VEVENT
DTSTART;TZID=America/Los_Angeles:20241031T093000
DTEND;TZID=America/Los_Angeles:20241031T113000
DTSTAMP:20260425T192339
CREATED:20240821T015820Z
LAST-MODIFIED:20241031T082245Z
UID:10001852-1730367000-1730374200@longbeachalliance.digitalchurch.app
SUMMARY:Women's Bible Study @ the Millers
DESCRIPTION:Facilitators: Colvin and Miller; Hosting Marilyn MillersContact: Marilyn Miller 562.922.2024 \n1 Samuel by John MacArthur
URL:https://longbeachalliance.digitalchurch.app/event/womens-bible-study-the-millers-101/
LOCATION:4702 Snowden Ave\, Lakewood\, CA\, United States
GEO:33.850465;-118.109399
END:VEVENT
BEGIN:VEVENT
DTSTART;TZID=America/Los_Angeles:20241031T190000
DTEND;TZID=America/Los_Angeles:20241031T210000
DTSTAMP:20260425T192339
CREATED:20230526T152203Z
LAST-MODIFIED:20230526T160444Z
UID:10000342-1730401200-1730408400@longbeachalliance.digitalchurch.app
SUMMARY:Middle School Youth Group
DESCRIPTION:
URL:https://longbeachalliance.digitalchurch.app/event/middle-school-youth-group/2024-10-31/
LOCATION:CA
CATEGORIES:Youth
END:VEVENT
BEGIN:VEVENT
DTSTART;TZID=America/Los_Angeles:20241031T190000
DTEND;TZID=America/Los_Angeles:20241031T210000
DTSTAMP:20260425T192339
CREATED:20240621T015923Z
LAST-MODIFIED:20241031T082245Z
UID:10001635-1730401200-1730408400@longbeachalliance.digitalchurch.app
SUMMARY:Betrayal and Beyond Ministry @ the Eberharts
DESCRIPTION:Contact: Debra Eberhart 925.580.7004
URL:https://longbeachalliance.digitalchurch.app/event/betrayal-and-beyond-ministry-the-eberharts-124/
LOCATION:CA
END:VEVENT
BEGIN:VEVENT
DTSTART;TZID=America/Los_Angeles:20241101T080000
DTEND;TZID=America/Los_Angeles:20241101T100000
DTSTAMP:20260425T192339
CREATED:20240621T015924Z
LAST-MODIFIED:20241101T084107Z
UID:10001636-1730448000-1730455200@longbeachalliance.digitalchurch.app
SUMMARY:Men's In-Person & Zoom Bible Study
DESCRIPTION:In-Person will be in Room 106Contact Bill Michel\, 714.390.7076\, for Zoom link information.
URL:https://longbeachalliance.digitalchurch.app/event/mens-in-person-zoom-bible-study-71/
LOCATION:CA
END:VEVENT
BEGIN:VEVENT
DTSTART;TZID=America/Los_Angeles:20241101T193000
DTEND;TZID=America/Los_Angeles:20241101T213000
DTSTAMP:20260425T192339
CREATED:20240731T185752Z
LAST-MODIFIED:20241101T084108Z
UID:10001771-1730489400-1730496600@longbeachalliance.digitalchurch.app
SUMMARY:Betrayal and Beyond Ministry (@ Eberharts & Zoom)
DESCRIPTION:Contact: Debra Eberhart 925.580.7004
URL:https://longbeachalliance.digitalchurch.app/event/betrayal-and-beyond-ministry-eberharts-zoom-73/
LOCATION:CA
END:VEVENT
BEGIN:VEVENT
DTSTART;TZID=America/Los_Angeles:20241101T200000
DTEND;TZID=America/Los_Angeles:20241101T213000
DTSTAMP:20260425T192339
CREATED:20240621T015924Z
LAST-MODIFIED:20241101T084108Z
UID:10001637-1730491200-1730496600@longbeachalliance.digitalchurch.app
SUMMARY:NA In-Person Meeting
DESCRIPTION:Rm 102\, Sanctuary or back patio used depending on size of the group; Also Kitchen\nContact: Yvonne Turco 562.230.0574
URL:https://longbeachalliance.digitalchurch.app/event/na-in-person-meeting-91/
LOCATION:CA
END:VEVENT
END:VCALENDAR