BEGIN:VCALENDAR
VERSION:2.0
PRODID:-//Long Beach Alliance Church - ECPv6.6.4//NONSGML v1.0//EN
CALSCALE:GREGORIAN
METHOD:PUBLISH
X-WR-CALNAME:Long Beach Alliance Church
X-ORIGINAL-URL:https://longbeachalliance.digitalchurch.app
X-WR-CALDESC:Events for Long Beach Alliance Church
REFRESH-INTERVAL;VALUE=DURATION:PT1H
X-Robots-Tag:noindex
X-PUBLISHED-TTL:PT1H
BEGIN:VTIMEZONE
TZID:America/Los_Angeles
BEGIN:DAYLIGHT
TZOFFSETFROM:-0800
TZOFFSETTO:-0700
TZNAME:PDT
DTSTART:20240310T100000
END:DAYLIGHT
BEGIN:STANDARD
TZOFFSETFROM:-0700
TZOFFSETTO:-0800
TZNAME:PST
DTSTART:20241103T090000
END:STANDARD
BEGIN:DAYLIGHT
TZOFFSETFROM:-0800
TZOFFSETTO:-0700
TZNAME:PDT
DTSTART:20250309T100000
END:DAYLIGHT
BEGIN:STANDARD
TZOFFSETFROM:-0700
TZOFFSETTO:-0800
TZNAME:PST
DTSTART:20251102T090000
END:STANDARD
END:VTIMEZONE
BEGIN:VEVENT
DTSTART;TZID=America/Los_Angeles:20241229T093000
DTEND;TZID=America/Los_Angeles:20241229T104500
DTSTAMP:20260425T085833
CREATED:20240828T025451Z
LAST-MODIFIED:20241229T073058Z
UID:10001875-1735464600-1735469100@longbeachalliance.digitalchurch.app
SUMMARY:Worship & Celebration Service
DESCRIPTION:To watch the Livestream go to YouTube.com/longbeachalliancechurch
URL:https://longbeachalliance.digitalchurch.app/event/worship-celebration-service-45/
LOCATION:YouTube.com/longbeachalliancechurch
END:VEVENT
BEGIN:VEVENT
DTSTART;TZID=America/Los_Angeles:20241229T093000
DTEND;TZID=America/Los_Angeles:20241229T104500
DTSTAMP:20260425T085833
CREATED:20240828T025451Z
LAST-MODIFIED:20241229T073058Z
UID:10001876-1735464600-1735469100@longbeachalliance.digitalchurch.app
SUMMARY:Gospel Project: Children's Ministry
DESCRIPTION:Contact Meghan Brearley\, meghan@lbac.org\, for questions \nUpstairs\, Rm 105/Nursery\, and Gym used
URL:https://longbeachalliance.digitalchurch.app/event/gospel-project-childrens-ministry-66/
LOCATION:Long Beach Alliance Church\, 3331 Palo Verde Ave\, Long Beach\, CA\, United States
GEO:33.817334;-118.107762
X-APPLE-STRUCTURED-LOCATION;VALUE=URI;X-ADDRESS=Long Beach Alliance Church 3331 Palo Verde Ave Long Beach CA United States;X-APPLE-RADIUS=500;X-TITLE=3331 Palo Verde Ave:geo:-118.107762,33.817334
END:VEVENT
BEGIN:VEVENT
DTSTART;TZID=America/Los_Angeles:20241230T190000
DTEND;TZID=America/Los_Angeles:20241230T203000
DTSTAMP:20260425T085833
CREATED:20240901T201943Z
LAST-MODIFIED:20241230T075855Z
UID:10001888-1735585200-1735590600@longbeachalliance.digitalchurch.app
SUMMARY:Survivors of Incest Anonymous In-Person & Zoom Meeting
DESCRIPTION:Rm 102 used\n@ 10 people\nContact: Maryjean Cazeau 714-366-3887
URL:https://longbeachalliance.digitalchurch.app/event/survivors-of-incest-anonymous-in-person-zoom-meeting-85/
LOCATION:Long Beach Alliance Church\, 3331 Palo Verde Ave\, Long Beach\, CA\, United States
GEO:33.817334;-118.107762
X-APPLE-STRUCTURED-LOCATION;VALUE=URI;X-ADDRESS=Long Beach Alliance Church 3331 Palo Verde Ave Long Beach CA United States;X-APPLE-RADIUS=500;X-TITLE=3331 Palo Verde Ave:geo:-118.107762,33.817334
END:VEVENT
BEGIN:VEVENT
DTSTART;TZID=America/Los_Angeles:20241230T190000
DTEND;TZID=America/Los_Angeles:20241230T210000
DTSTAMP:20260425T085833
CREATED:20240828T025452Z
LAST-MODIFIED:20241230T075856Z
UID:10001877-1735585200-1735592400@longbeachalliance.digitalchurch.app
SUMMARY:Pure Desire Ministry Meeting
DESCRIPTION:Gym Used\nContactL Sam Eberhart 925.285.1295
URL:https://longbeachalliance.digitalchurch.app/event/pure-desire-ministry-meeting-84/
LOCATION:3331 Palo Verde Ave\, Long Beach\, CA\, United States
GEO:33.823943;-118.111336
END:VEVENT
BEGIN:VEVENT
DTSTART;TZID=America/Los_Angeles:20241230T190000
DTEND;TZID=America/Los_Angeles:20241230T210000
DTSTAMP:20260425T085833
CREATED:20240828T025452Z
LAST-MODIFIED:20241230T075856Z
UID:10001878-1735585200-1735592400@longbeachalliance.digitalchurch.app
SUMMARY:Betrayal and Beyond Ministry @ the Eberharts
DESCRIPTION:Contact: Debra Eberhart 925.580.7004
URL:https://longbeachalliance.digitalchurch.app/event/betrayal-and-beyond-ministry-the-eberharts-160/
END:VEVENT
BEGIN:VEVENT
DTSTART;TZID=America/Los_Angeles:20241231T100000
DTEND;TZID=America/Los_Angeles:20241231T120000
DTSTAMP:20260425T085833
CREATED:20240904T073533Z
LAST-MODIFIED:20241003T143043Z
UID:10001889-1735639200-1735646400@longbeachalliance.digitalchurch.app
SUMMARY:All Staff • Weekly Team Meeting
DESCRIPTION:
URL:https://longbeachalliance.digitalchurch.app/event/all-staff-weekly-team-meeting-76/
LOCATION:3331 Palo Verde Ave\, Long Beach\, CA\, United States
GEO:33.823943;-118.111336
END:VEVENT
BEGIN:VEVENT
DTSTART;TZID=America/Los_Angeles:20241231T190000
DTEND;TZID=America/Los_Angeles:20241231T210000
DTSTAMP:20260425T085833
CREATED:20230526T152121Z
LAST-MODIFIED:20230526T160214Z
UID:10000249-1735671600-1735678800@longbeachalliance.digitalchurch.app
SUMMARY:High School Youth Group
DESCRIPTION:
URL:https://longbeachalliance.digitalchurch.app/event/high-school-youth-group-6/2024-12-31/
CATEGORIES:Youth
END:VEVENT
BEGIN:VEVENT
DTSTART;TZID=America/Los_Angeles:20241231T190000
DTEND;TZID=America/Los_Angeles:20241231T210000
DTSTAMP:20260425T085833
CREATED:20240904T073534Z
LAST-MODIFIED:20241231T081522Z
UID:10001890-1735671600-1735678800@longbeachalliance.digitalchurch.app
SUMMARY:Men's Bible Study @ the Millers
DESCRIPTION:Facilitator: John Welliver\nContact Dave Miller 562.773.9100 dmiller002@cc.rr.com
URL:https://longbeachalliance.digitalchurch.app/event/mens-bible-study-the-millers-80/
LOCATION:4702 Snowden Ave\, Lakewood\, CA\, United States
GEO:33.850465;-118.109399
END:VEVENT
BEGIN:VEVENT
DTSTART;TZID=America/Los_Angeles:20241231T190000
DTEND;TZID=America/Los_Angeles:20241231T210000
DTSTAMP:20260425T085833
CREATED:20240904T073534Z
LAST-MODIFIED:20241231T081522Z
UID:10001891-1735671600-1735678800@longbeachalliance.digitalchurch.app
SUMMARY:Middle/High School Youth Group
DESCRIPTION:
URL:https://longbeachalliance.digitalchurch.app/event/middle-high-school-youth-group-57/
LOCATION:Long Beach Alliance Church 3331 Palo Verde Ave\, Long Beach\, CA\, United States
GEO:33.823943;-118.111336
END:VEVENT
BEGIN:VEVENT
DTSTART;TZID=America/Los_Angeles:20250102T093000
DTEND;TZID=America/Los_Angeles:20250102T113000
DTSTAMP:20260425T085833
CREATED:20240904T073534Z
LAST-MODIFIED:20241120T163155Z
UID:10001892-1735810200-1735817400@longbeachalliance.digitalchurch.app
SUMMARY:Women's Bible Study @ the Millers
DESCRIPTION:Facilitators: Colvin and Miller; Hosting Marilyn MillersContact: Marilyn Miller 562.922.2024 \n1 Samuel by John MacArthur
URL:https://longbeachalliance.digitalchurch.app/event/womens-bible-study-the-millers-110/
LOCATION:4702 Snowden Ave\, Lakewood\, CA\, United States
GEO:33.850465;-118.109399
END:VEVENT
BEGIN:VEVENT
DTSTART;TZID=America/Los_Angeles:20250102T093000
DTEND;TZID=America/Los_Angeles:20250102T113000
DTSTAMP:20260425T085833
CREATED:20241121T165828Z
LAST-MODIFIED:20250102T090213Z
UID:10002134-1735810200-1735817400@longbeachalliance.digitalchurch.app
SUMMARY:Women's Bible Study @ the Millers
DESCRIPTION:Facilitators: Colvin and Miller; Hosting Marilyn MillersContact: Marilyn Miller 562.922.2024 \nDavid- by Charles Swindoll
URL:https://longbeachalliance.digitalchurch.app/event/womens-bible-study-the-millers-127/
LOCATION:4702 Snowden Ave\, Lakewood\, CA\, United States
GEO:33.850465;-118.109399
END:VEVENT
BEGIN:VEVENT
DTSTART;TZID=America/Los_Angeles:20250102T190000
DTEND;TZID=America/Los_Angeles:20250102T210000
DTSTAMP:20260425T085833
CREATED:20230526T152203Z
LAST-MODIFIED:20230526T160444Z
UID:10000351-1735844400-1735851600@longbeachalliance.digitalchurch.app
SUMMARY:Middle School Youth Group
DESCRIPTION:
URL:https://longbeachalliance.digitalchurch.app/event/middle-school-youth-group/2025-01-02/
CATEGORIES:Youth
END:VEVENT
BEGIN:VEVENT
DTSTART;TZID=America/Los_Angeles:20250102T190000
DTEND;TZID=America/Los_Angeles:20250102T210000
DTSTAMP:20260425T085833
CREATED:20240904T073534Z
LAST-MODIFIED:20250102T090213Z
UID:10001893-1735844400-1735851600@longbeachalliance.digitalchurch.app
SUMMARY:Betrayal and Beyond Ministry @ the Eberharts
DESCRIPTION:Contact: Debra Eberhart 925.580.7004
URL:https://longbeachalliance.digitalchurch.app/event/betrayal-and-beyond-ministry-the-eberharts-161/
END:VEVENT
BEGIN:VEVENT
DTSTART;TZID=America/Los_Angeles:20250103T080000
DTEND;TZID=America/Los_Angeles:20250103T100000
DTSTAMP:20260425T085833
CREATED:20240904T073534Z
LAST-MODIFIED:20250103T092740Z
UID:10001894-1735891200-1735898400@longbeachalliance.digitalchurch.app
SUMMARY:Men's In-Person & Zoom Bible Study
DESCRIPTION:In-Person will be in Room 106Contact Bill Michel\, 714.390.7076\, for Zoom link information.
URL:https://longbeachalliance.digitalchurch.app/event/mens-in-person-zoom-bible-study-80/
END:VEVENT
BEGIN:VEVENT
DTSTART;TZID=America/Los_Angeles:20250103T193000
DTEND;TZID=America/Los_Angeles:20250103T213000
DTSTAMP:20260425T085833
CREATED:20240906T154716Z
LAST-MODIFIED:20250103T092740Z
UID:10001897-1735932600-1735939800@longbeachalliance.digitalchurch.app
SUMMARY:Betrayal and Beyond Ministry (@ Eberharts & Zoom)
DESCRIPTION:Contact: Debra Eberhart 925.580.7004
URL:https://longbeachalliance.digitalchurch.app/event/betrayal-and-beyond-ministry-eberharts-zoom-82/
END:VEVENT
BEGIN:VEVENT
DTSTART;TZID=America/Los_Angeles:20250103T200000
DTEND;TZID=America/Los_Angeles:20250103T213000
DTSTAMP:20260425T085833
CREATED:20240907T172657Z
LAST-MODIFIED:20250103T092740Z
UID:10001898-1735934400-1735939800@longbeachalliance.digitalchurch.app
SUMMARY:NA In-Person Meeting
DESCRIPTION:Rm 102\, Sanctuary or back patio used depending on size of the group; Also Kitchen\nContact: Yvonne Turco 562.230.0574
URL:https://longbeachalliance.digitalchurch.app/event/na-in-person-meeting-100/
END:VEVENT
END:VCALENDAR