BEGIN:VCALENDAR
VERSION:2.0
PRODID:-//Long Beach Alliance Church - ECPv6.6.4//NONSGML v1.0//EN
CALSCALE:GREGORIAN
METHOD:PUBLISH
X-ORIGINAL-URL:https://longbeachalliance.digitalchurch.app
X-WR-CALDESC:Events for Long Beach Alliance Church
REFRESH-INTERVAL;VALUE=DURATION:PT1H
X-Robots-Tag:noindex
X-PUBLISHED-TTL:PT1H
BEGIN:VTIMEZONE
TZID:America/Los_Angeles
BEGIN:DAYLIGHT
TZOFFSETFROM:-0800
TZOFFSETTO:-0700
TZNAME:PDT
DTSTART:20250309T100000
END:DAYLIGHT
BEGIN:STANDARD
TZOFFSETFROM:-0700
TZOFFSETTO:-0800
TZNAME:PST
DTSTART:20251102T090000
END:STANDARD
END:VTIMEZONE
BEGIN:VEVENT
DTSTART;TZID=America/Los_Angeles:20251019T093000
DTEND;TZID=America/Los_Angeles:20251019T104500
DTSTAMP:20260419T185610
CREATED:20250606T105407Z
LAST-MODIFIED:20251018T232351Z
UID:10002679-1760866200-1760870700@longbeachalliance.digitalchurch.app
SUMMARY:Gospel Project: Children's Ministry
DESCRIPTION:Contact Meghan Brearley\, meghan@lbac.org\, for questions \nUpstairs\, Rm 105/Nursery\, and Gym used
URL:https://longbeachalliance.digitalchurch.app/event/gospel-project-childrens-ministry-109/
LOCATION:Long Beach Alliance Church\, 3331 Palo Verde Ave\, Long Beach\, CA\, United States
GEO:33.817334;-118.107762
X-APPLE-STRUCTURED-LOCATION;VALUE=URI;X-ADDRESS=Long Beach Alliance Church 3331 Palo Verde Ave Long Beach CA United States;X-APPLE-RADIUS=500;X-TITLE=3331 Palo Verde Ave:geo:-118.107762,33.817334
END:VEVENT
BEGIN:VEVENT
DTSTART;TZID=America/Los_Angeles:20251019T093000
DTEND;TZID=America/Los_Angeles:20251019T104500
DTSTAMP:20260419T185610
CREATED:20250607T110959Z
LAST-MODIFIED:20251018T232351Z
UID:10002680-1760866200-1760870700@longbeachalliance.digitalchurch.app
SUMMARY:Worship & Celebration Service
DESCRIPTION:To watch the Livestream go to YouTube.com/longbeachalliancechurch
URL:https://longbeachalliance.digitalchurch.app/event/worship-celebration-service-88/
LOCATION:YouTube.com/longbeachalliancechurch
END:VEVENT
BEGIN:VEVENT
DTSTART;TZID=America/Los_Angeles:20251019T111500
DTEND;TZID=America/Los_Angeles:20251019T131500
DTSTAMP:20260419T185610
CREATED:20250917T113416Z
LAST-MODIFIED:20251018T232352Z
UID:10002971-1760872500-1760879700@longbeachalliance.digitalchurch.app
SUMMARY:We Love Tina Rand Palooza!
DESCRIPTION:
URL:https://longbeachalliance.digitalchurch.app/event/we-love-tina-rand-palooza/
LOCATION:CA
END:VEVENT
BEGIN:VEVENT
DTSTART;TZID=America/Los_Angeles:20251020T190000
DTEND;TZID=America/Los_Angeles:20251020T203000
DTSTAMP:20260419T185610
CREATED:20250607T110959Z
LAST-MODIFIED:20251021T000225Z
UID:10002683-1760986800-1760992200@longbeachalliance.digitalchurch.app
SUMMARY:Survivors of Incest Anonymous In-Person & Zoom Meeting
DESCRIPTION:Rm 102 used\n@ 10 people\nContact: Maryjean Cazeau 714-366-3887
URL:https://longbeachalliance.digitalchurch.app/event/survivors-of-incest-anonymous-in-person-zoom-meeting-128/
LOCATION:Long Beach Alliance Church\, 3331 Palo Verde Ave\, Long Beach\, CA\, United States
GEO:33.817334;-118.107762
X-APPLE-STRUCTURED-LOCATION;VALUE=URI;X-ADDRESS=Long Beach Alliance Church 3331 Palo Verde Ave Long Beach CA United States;X-APPLE-RADIUS=500;X-TITLE=3331 Palo Verde Ave:geo:-118.107762,33.817334
END:VEVENT
BEGIN:VEVENT
DTSTART;TZID=America/Los_Angeles:20251020T190000
DTEND;TZID=America/Los_Angeles:20251020T210000
DTSTAMP:20260419T185610
CREATED:20250607T110959Z
LAST-MODIFIED:20251021T000225Z
UID:10002681-1760986800-1760994000@longbeachalliance.digitalchurch.app
SUMMARY:Betrayal and Beyond Ministry @ the Eberharts
DESCRIPTION:Contact: Debra Eberhart 925.580.7004
URL:https://longbeachalliance.digitalchurch.app/event/betrayal-and-beyond-ministry-the-eberharts-265/
LOCATION:CA
END:VEVENT
BEGIN:VEVENT
DTSTART;TZID=America/Los_Angeles:20251020T190000
DTEND;TZID=America/Los_Angeles:20251020T210000
DTSTAMP:20260419T185610
CREATED:20250607T110959Z
LAST-MODIFIED:20251021T000225Z
UID:10002682-1760986800-1760994000@longbeachalliance.digitalchurch.app
SUMMARY:Pure Desire Ministry Meeting
DESCRIPTION:Gym Used\nContactL Sam Eberhart 925.285.1295
URL:https://longbeachalliance.digitalchurch.app/event/pure-desire-ministry-meeting-127/
LOCATION:3331 Palo Verde Ave\, Long Beach\, CA\, United States
GEO:33.823943;-118.111336
END:VEVENT
BEGIN:VEVENT
DTSTART;TZID=America/Los_Angeles:20251021T140000
DTEND;TZID=America/Los_Angeles:20251021T160000
DTSTAMP:20260419T185610
CREATED:20250608T113641Z
LAST-MODIFIED:20251021T000226Z
UID:10002684-1761055200-1761062400@longbeachalliance.digitalchurch.app
SUMMARY:All Staff • Weekly Team Meeting
DESCRIPTION:
URL:https://longbeachalliance.digitalchurch.app/event/all-staff-weekly-team-meeting-101/
LOCATION:3331 Palo Verde Ave\, Long Beach\, CA\, United States
GEO:33.823943;-118.111336
END:VEVENT
BEGIN:VEVENT
DTSTART;TZID=America/Los_Angeles:20251021T180000
DTEND;TZID=America/Los_Angeles:20251021T200000
DTSTAMP:20260419T185610
CREATED:20250916T032248Z
LAST-MODIFIED:20251022T002641Z
UID:10002958-1761069600-1761076800@longbeachalliance.digitalchurch.app
SUMMARY:Women's Bible Study
DESCRIPTION:Located at Michelle Moses’ house\nContact: Deya Slade deya@charter.net
URL:https://longbeachalliance.digitalchurch.app/event/womens-bible-study-5/
LOCATION:5454 E Ocean Blvd\, Long Beach\, CA\, United States
GEO:33.759885;-118.13016
END:VEVENT
BEGIN:VEVENT
DTSTART;TZID=America/Los_Angeles:20251021T190000
DTEND;TZID=America/Los_Angeles:20251021T210000
DTSTAMP:20260419T185610
CREATED:20250608T113641Z
LAST-MODIFIED:20251022T002641Z
UID:10002685-1761073200-1761080400@longbeachalliance.digitalchurch.app
SUMMARY:Middle/High School Youth Group
DESCRIPTION:
URL:https://longbeachalliance.digitalchurch.app/event/middle-high-school-youth-group-100/
LOCATION:Long Beach Alliance Church 3331 Palo Verde Ave\, Long Beach\, CA\, United States
GEO:33.823943;-118.111336
END:VEVENT
BEGIN:VEVENT
DTSTART;TZID=America/Los_Angeles:20251021T190000
DTEND;TZID=America/Los_Angeles:20251021T210000
DTSTAMP:20260419T185610
CREATED:20250609T115349Z
LAST-MODIFIED:20250812T180448Z
UID:10002686-1761073200-1761080400@longbeachalliance.digitalchurch.app
SUMMARY:Men's Bible Study @ the Millers
DESCRIPTION:Facilitator: John Welliver\nContact Dave Miller 562.773.9100 dmiller002@cc.rr.com
URL:https://longbeachalliance.digitalchurch.app/event/mens-bible-study-the-millers-123/
LOCATION:4702 Snowden Ave\, Lakewood\, CA\, United States
GEO:33.850465;-118.109399
END:VEVENT
BEGIN:VEVENT
DTSTART;TZID=America/Los_Angeles:20251021T190000
DTEND;TZID=America/Los_Angeles:20251021T210000
DTSTAMP:20260419T185610
CREATED:20250813T181754Z
LAST-MODIFIED:20251022T002641Z
UID:10002862-1761073200-1761080400@longbeachalliance.digitalchurch.app
SUMMARY:Men's Bible Study @ the Millers
DESCRIPTION:Studying: Deuteronomy\nFacilitator: John Welliver\nContact Dave Miller 562.773.9100 dmiller002@cc.rr.com
URL:https://longbeachalliance.digitalchurch.app/event/mens-bible-study-the-millers-138/
LOCATION:4702 Snowden Ave\, Lakewood\, CA\, United States
GEO:33.850465;-118.109399
END:VEVENT
BEGIN:VEVENT
DTSTART;TZID=America/Los_Angeles:20251021T190000
DTEND;TZID=America/Los_Angeles:20251021T220000
DTSTAMP:20260419T185610
CREATED:20250603T093656Z
LAST-MODIFIED:20251022T002641Z
UID:10002671-1761073200-1761084000@longbeachalliance.digitalchurch.app
SUMMARY:Governing Board Meeting (2nd Tuesday Night of the Month)
DESCRIPTION:
URL:https://longbeachalliance.digitalchurch.app/event/governing-board-meeting-2nd-tuesday-night-of-the-month-6/
LOCATION:3331 Palo Verde Ave\nLong Beach CA 90808
END:VEVENT
BEGIN:VEVENT
DTSTART;TZID=America/Los_Angeles:20251022T180000
DTEND;TZID=America/Los_Angeles:20251022T200000
DTSTAMP:20260419T185610
CREATED:20250724T113930Z
LAST-MODIFIED:20251023T010045Z
UID:10002814-1761156000-1761163200@longbeachalliance.digitalchurch.app
SUMMARY:Awana - Shoe Box Night
DESCRIPTION:
URL:https://longbeachalliance.digitalchurch.app/event/awana-72/
LOCATION:CA
END:VEVENT
BEGIN:VEVENT
DTSTART;TZID=America/Los_Angeles:20251023T093000
DTEND;TZID=America/Los_Angeles:20251023T113000
DTSTAMP:20260419T185610
CREATED:20250609T115349Z
LAST-MODIFIED:20251023T010045Z
UID:10002687-1761211800-1761219000@longbeachalliance.digitalchurch.app
SUMMARY:Women's Bible Study @ the Millers
DESCRIPTION:Facilitators: Colvin and Miller; Hosting Marilyn MillersContact: Marilyn Miller 562.922.2024 \nDavid- by Charles Swindoll
URL:https://longbeachalliance.digitalchurch.app/event/womens-bible-study-the-millers-171/
LOCATION:4702 Snowden Ave\, Lakewood\, CA\, United States
GEO:33.850465;-118.109399
END:VEVENT
BEGIN:VEVENT
DTSTART;TZID=America/Los_Angeles:20251023T180000
DTEND;TZID=America/Los_Angeles:20251023T200000
DTSTAMP:20260419T185610
CREATED:20250807T160814Z
LAST-MODIFIED:20251024T012932Z
UID:10002846-1761242400-1761249600@longbeachalliance.digitalchurch.app
SUMMARY:Worship Team Practice
DESCRIPTION:Sanctuary Used\nContact: Scott Trickett scott@lbac.org
URL:https://longbeachalliance.digitalchurch.app/event/worship-team-practice-12/
LOCATION:Long Beach Alliance Church\, 3331 Palo Verde Ave\, Long Beach\, CA\, United States
GEO:33.817334;-118.107762
X-APPLE-STRUCTURED-LOCATION;VALUE=URI;X-ADDRESS=Long Beach Alliance Church 3331 Palo Verde Ave Long Beach CA United States;X-APPLE-RADIUS=500;X-TITLE=3331 Palo Verde Ave:geo:-118.107762,33.817334
END:VEVENT
BEGIN:VEVENT
DTSTART;TZID=America/Los_Angeles:20251023T183000
DTEND;TZID=America/Los_Angeles:20251023T213000
DTSTAMP:20260419T185610
CREATED:20250903T030136Z
LAST-MODIFIED:20251024T012933Z
UID:10002920-1761244200-1761255000@longbeachalliance.digitalchurch.app
SUMMARY:Halloween Party
DESCRIPTION:
URL:https://longbeachalliance.digitalchurch.app/event/youth-amazing-race-halloween-party/
LOCATION:CA
END:VEVENT
BEGIN:VEVENT
DTSTART;TZID=America/Los_Angeles:20251023T190000
DTEND;TZID=America/Los_Angeles:20251023T210000
DTSTAMP:20260419T185610
CREATED:20250610T122322Z
LAST-MODIFIED:20251024T012933Z
UID:10002688-1761246000-1761253200@longbeachalliance.digitalchurch.app
SUMMARY:Betrayal and Beyond Ministry @ the Eberharts
DESCRIPTION:Contact: Debra Eberhart 925.580.7004
URL:https://longbeachalliance.digitalchurch.app/event/betrayal-and-beyond-ministry-the-eberharts-266/
LOCATION:CA
END:VEVENT
BEGIN:VEVENT
DTSTART;TZID=America/Los_Angeles:20251024T080000
DTEND;TZID=America/Los_Angeles:20251024T100000
DTSTAMP:20260419T185610
CREATED:20250610T122322Z
LAST-MODIFIED:20251024T012933Z
UID:10002689-1761292800-1761300000@longbeachalliance.digitalchurch.app
SUMMARY:Men's In-Person & Zoom Bible Study
DESCRIPTION:In-Person will be in Room 106Contact Bill Michel\, 714.390.7076\, for Zoom link information.
URL:https://longbeachalliance.digitalchurch.app/event/mens-in-person-zoom-bible-study-124/
LOCATION:CA
END:VEVENT
BEGIN:VEVENT
DTSTART;TZID=America/Los_Angeles:20251024T100000
DTEND;TZID=America/Los_Angeles:20251024T140000
DTSTAMP:20260419T185610
CREATED:20251015T215948Z
LAST-MODIFIED:20251024T012933Z
UID:10003037-1761300000-1761314400@longbeachalliance.digitalchurch.app
SUMMARY:Women Connecting with Missions- Stamp Recycle
DESCRIPTION:Friday\, October 24 and/or\nSaturday\, Oct 25\n10AM-2PMAll women invited\nro fellowship and cut and sort used\npostage stamps.Come and go as you please\nSnacks provided
URL:https://longbeachalliance.digitalchurch.app/event/women-connecting-with-missions-stamp-recycle/
LOCATION:3448 Stevely Ave LB Questions\, call 562.234.5937
END:VEVENT
BEGIN:VEVENT
DTSTART;TZID=America/Los_Angeles:20251024T193000
DTEND;TZID=America/Los_Angeles:20251024T213000
DTSTAMP:20260419T185610
CREATED:20250610T122322Z
LAST-MODIFIED:20251025T015831Z
UID:10002691-1761334200-1761341400@longbeachalliance.digitalchurch.app
SUMMARY:Betrayal and Beyond Ministry (@ Eberharts & Zoom)
DESCRIPTION:Contact: Debra Eberhart 925.580.7004
URL:https://longbeachalliance.digitalchurch.app/event/betrayal-and-beyond-ministry-eberharts-zoom-125/
LOCATION:CA
END:VEVENT
BEGIN:VEVENT
DTSTART;TZID=America/Los_Angeles:20251024T200000
DTEND;TZID=America/Los_Angeles:20251024T213000
DTSTAMP:20260419T185610
CREATED:20250610T122322Z
LAST-MODIFIED:20251025T015831Z
UID:10002690-1761336000-1761341400@longbeachalliance.digitalchurch.app
SUMMARY:NA In-Person Meeting
DESCRIPTION:Additional Set up/Tear Down: 7PM/10:30PM\nRm 102 and Kitchen used (may use Gym or Back patio if group is large)\nContact: \nMaryjean Cazeau 714.366.3887\nYvonne Turco 562.230.0574
URL:https://longbeachalliance.digitalchurch.app/event/na-in-person-meeting-159/
LOCATION:CA
END:VEVENT
BEGIN:VEVENT
DTSTART;TZID=America/Los_Angeles:20251025T070000
DTEND;TZID=America/Los_Angeles:20251025T080000
DTSTAMP:20260419T185610
CREATED:20251025T015043Z
LAST-MODIFIED:20251025T015831Z
UID:10003078-1761375600-1761379200@longbeachalliance.digitalchurch.app
SUMMARY:Mens Workout
DESCRIPTION:Aaron Steele (909) 957-6333\nIn Gym
URL:https://longbeachalliance.digitalchurch.app/event/mens-workout/
LOCATION:Long Beach Alliance Church\, 3331 Palo Verde Ave\, Long Beach\, CA\, United States
GEO:33.817334;-118.107762
X-APPLE-STRUCTURED-LOCATION;VALUE=URI;X-ADDRESS=Long Beach Alliance Church 3331 Palo Verde Ave Long Beach CA United States;X-APPLE-RADIUS=500;X-TITLE=3331 Palo Verde Ave:geo:-118.107762,33.817334
END:VEVENT
BEGIN:VEVENT
DTSTART;TZID=America/Los_Angeles:20251025T100000
DTEND;TZID=America/Los_Angeles:20251025T140000
DTSTAMP:20260419T185610
CREATED:20251016T221849Z
LAST-MODIFIED:20251025T015831Z
UID:10003040-1761386400-1761400800@longbeachalliance.digitalchurch.app
SUMMARY:Women Connecting with Missions- Stamp Recycle
DESCRIPTION:Friday\, October 24 and/or\nSaturday\, Oct 25\n10AM-2PMAll women invited\nro fellowship and cut and sort used\npostage stamps.Come and go as you please\nSnacks provided
URL:https://longbeachalliance.digitalchurch.app/event/women-connecting-with-missions-stamp-recycle-2/
LOCATION:3448 Stevely Ave LB Questions\, call 562.234.5937
END:VEVENT
BEGIN:VEVENT
DTSTART;TZID=America/Los_Angeles:20251025T110000
DTEND;TZID=America/Los_Angeles:20251025T130000
DTSTAMP:20260419T185610
CREATED:20251014T215104Z
LAST-MODIFIED:20251025T015831Z
UID:10003034-1761390000-1761397200@longbeachalliance.digitalchurch.app
SUMMARY:Mission/Vision Development Team Meeting
DESCRIPTION:
URL:https://longbeachalliance.digitalchurch.app/event/mission-vision-development-team-meeting/
LOCATION:3331 Palo Verde Ave\, Long Beach\, CA\, United States
GEO:33.823943;-118.111336
END:VEVENT
END:VCALENDAR